{"text_format":"1","workbook":"xlsx","n_sheets":4,"sheets":["leány","Be","Egyéni","Csapat"],"not_rendered":{"charts":0,"images":0,"macros":1,"external_links":1,"defined_names":9,"comments":0,"pivot_tables":0},"unopened":[],"bounds":{"document_bytes":16777216,"sheet_cells":100000,"rows_first":2000,"rows_last":500,"rows_between":2000,"halvings":0,"cell_chars":16384,"cell_head_chars":4096},"cells_cut":0,"cells_raw":0,"read":"whole","date_system":"1900"}

{"sheet":"leány","index":0,"n_rows":302,"n_cols":14,"rows_kept":302,"cut":false,"hidden":true,"merged":[]}
[null,"61 m","60m","4x100","800 m","Pont","Távol","Súlyl.","Kisl.","Pont"]
[null,6.89,6.9,"00:00:50","00:00:51",300,{"$f":"N2/100","v":1.8},3,4,0,null,null,null,180]
[null,6.9051,6.9180000000000099,"00:00:51.005","00:00:51.080",299,1.82,3.05,4.28,1,null,null,null,182]
[null,6.9231000000000096,6.9360000000000097,"00:00:51.085","00:00:51.160",298,1.84,3.1,4.5599999999999996,2,null,null,null,184]
[null,6.9411000000000094,6.9540000000000095,"00:00:51.165","00:00:51.240",297,1.86,3.14,4.84,3,null,null,null,186]
[null,6.9591000000000092,6.9720000000000093,"00:00:51.245","00:00:51.320",296,1.87,3.19,5.1100000000000003,4,null,null,null,187]
[null,6.977100000000009,6.9900000000000091,"00:00:51.325","00:00:51.400",295,1.89,3.24,5.39,5,null,null,null,189]
[null,6.9951000000000088,7.0080000000000089,"00:00:51.405","00:00:51.480",294,1.91,3.29,5.67,6,null,null,null,191]
[null,7.0131000000000085,7.0260000000000087,"00:00:51.485","00:00:51.560",293,1.93,3.34,5.95,7,null,null,null,193]
[null,7.0311000000000083,7.0440000000000085,"00:00:51.565","00:00:51.640",292,1.95,3.38,6.23,8,null,null,null,195]
[null,7.0491000000000081,7.0620000000000083,"00:00:51.645","00:00:51.720",291,1.97,3.43,6.51,9,null,null,null,197]
[null,7.0671000000000079,7.0800000000000081,"00:00:51.725","00:00:51.800",290,1.99,3.48,6.78,10,null,null,null,199]
[null,7.0851000000000077,7.0980000000000079,"00:00:51.805","00:00:51.880",289,2.0099999999999998,3.53,7.06,11,null,null,null,201]
[null,7.1031000000000075,7.1160000000000077,"00:00:51.885","00:00:51.960",288,2.02,3.58,7.34,12,null,null,null,202]
[null,7.1211000000000073,7.1340000000000074,"00:00:51.965","00:00:52.040",287,2.04,3.62,7.62,13,null,null,null,204]
[null,7.1391000000000071,7.1520000000000072,"00:00:52.045","00:00:52.120",286,2.06,3.67,7.9,14,null,null,null,206]
[null,7.1571000000000069,7.170000000000007,"00:00:52.125","00:00:52.200",285,2.08,3.72,8.18,15,null,null,null,208]
[null,7.1751000000000067,7.1880000000000068,"00:00:52.205","00:00:52.280",284,2.1,3.77,8.4499999999999993,16,null,null,null,210]
[null,7.1931000000000065,7.2060000000000066,"00:00:52.285","00:00:52.360",283,2.12,3.82,8.73,17,null,null,null,212]
[null,7.2111000000000063,7.2240000000000064,"00:00:52.365","00:00:52.440",282,2.14,3.86,9.01,18,null,null,null,214]
[null,7.2291000000000061,7.2420000000000062,"00:00:52.445","00:00:52.520",281,2.16,3.91,9.2899999999999991,19,null,null,null,216]
[null,7.2471000000000059,7.260000000000006,"00:00:52.525","00:00:52.600",280,2.17,3.96,9.57,20,null,null,null,217]
[null,7.2651000000000057,7.2780000000000058,"00:00:52.605","00:00:52.680",279,2.19,4.01,9.85,21,null,null,null,219]
[null,7.2831000000000055,7.2960000000000056,"00:00:52.685","00:00:52.760",278,2.21,4.0599999999999996,10.119999999999999,22,null,null,null,221]
[null,7.3011000000000053,7.3140000000000054,"00:00:52.765","00:00:52.840",277,2.23,4.0999999999999996,10.4,23,null,null,null,223]
[null,7.319100000000005,7.3320000000000052,"00:00:52.845","00:00:52.920",276,2.25,4.1500000000000004,10.68,24,null,null,null,225]
[null,7.3371000000000048,7.350000000000005,"00:00:52.925","00:00:53",275,2.27,4.2,10.96,25,null,null,null,227]
[null,7.3551000000000046,7.3680000000000048,"00:00:53.005","00:00:53.080",274,2.29,4.25,11.24,26,null,null,null,229]
[null,7.3731000000000044,7.3860000000000046,"00:00:53.085","00:00:53.160",273,2.31,4.3,11.52,27,null,null,null,231]
[null,7.3911000000000042,7.4040000000000044,"00:00:53.165","00:00:53.240",272,2.3199999999999998,4.34,11.8,28,null,null,null,232]
[null,7.409100000000004,7.4220000000000041,"00:00:53.245","00:00:53.320",271,2.34,4.3899999999999997,12.07,29,null,null,null,234]
[null,7.4271000000000038,7.4400000000000039,"00:00:53.325","00:00:53.400",270,2.36,4.4400000000000004,12.35,30,null,null,null,236]
[null,7.4451000000000036,7.4580000000000037,"00:00:53.405","00:00:53.480",269,2.38,4.49,12.63,31,null,null,null,238]
[null,7.4631000000000034,7.4760000000000035,"00:00:53.485","00:00:53.560",268,2.4,4.54,12.91,32,null,null,null,240]
[null,7.4811000000000032,7.4940000000000033,"00:00:53.565","00:00:53.640",267,2.42,4.58,13.19,33,null,null,null,242]
[null,7.499100000000003,7.5120000000000031,"00:00:53.645","00:00:53.720",266,2.44,4.63,13.47,34,null,null,null,244]
[null,7.5171000000000028,7.5300000000000029,"00:00:53.725","00:00:53.800",265,2.46,4.68,13.74,35,null,null,null,246]
[null,7.5351000000000026,7.5480000000000027,"00:00:53.805","00:00:53.880",264,2.4700000000000002,4.7300000000000004,14.02,36,null,null,null,247]
[null,7.5531000000000024,7.5660000000000025,"00:00:53.885","00:00:53.960",263,2.4900000000000002,4.78,14.3,37,null,null,null,249]
[null,7.5711000000000022,7.5840000000000023,"00:00:53.965","00:00:54.040",262,2.5099999999999998,4.82,14.58,38,null,null,null,251]
[null,7.589100000000002,7.6020000000000021,"00:00:54.045","00:00:54.120",261,2.5299999999999998,4.87,14.86,39,null,null,null,253]
[null,7.6071000000000017,7.6200000000000019,"00:00:54.125","00:00:54.200",260,2.5499999999999998,4.92,15.14,40,null,null,null,255]
[null,7.6251000000000015,7.6380000000000017,"00:00:54.205","00:00:54.280",259,2.57,4.97,15.41,41,null,null,null,257]
[null,7.6431000000000013,7.6560000000000015,"00:00:54.285","00:00:54.360",258,2.59,5.0199999999999996,15.69,42,null,null,null,259]
[null,7.6611000000000011,7.6740000000000013,"00:00:54.365","00:00:54.440",257,2.61,5.0599999999999996,15.97,43,null,null,null,261]
[null,7.6791000000000009,7.6920000000000011,"00:00:54.445","00:00:54.520",256,2.62,5.1100000000000003,16.25,44,null,null,null,262]
[null,7.6971000000000007,7.7100000000000009,"00:00:54.525","00:00:54.600",255,2.64,5.16,16.53,45,null,null,null,264]
[null,7.7151000000000005,7.7280000000000006,"00:00:54.605","00:00:54.680",254,2.66,5.21,16.809999999999999,46,null,null,null,266]
[null,7.7331000000000003,7.7460000000000004,"00:00:54.685","00:00:54.760",253,2.68,5.26,17.079999999999998,47,null,null,null,268]
[null,7.7511000000000001,7.7640000000000002,"00:00:54.765","00:00:54.840",252,2.7,5.3,17.36,48,null,null,null,270]
[null,7.7690999999999999,7.782,"00:00:54.845","00:00:54.920",251,2.72,5.35,17.64,49,null,null,null,272]
[null,7.7870999999999997,7.8,"00:00:54.925","00:00:55",250,2.73,5.4,17.920000000000002,50,null,null,null,273]
[null,7.8050999999999995,7.82,"00:00:55.005","00:00:55.080",249,2.75,5.44,18.18,51,null,null,null,275]
[null,7.8250999999999999,7.84,"00:00:55.085","00:00:55.160",248,2.76,5.49,18.43,52,null,null,null,276]
[null,7.8450999999999995,7.85,"00:00:55.165","00:00:55.240",247,2.78,5.53,18.690000000000001,53,null,null,null,278]
[null,7.8550999999999993,7.87,"00:00:55.245","00:00:55.320",246,2.8,5.58,18.940000000000001,54,null,null,null,280]
[null,7.8750999999999998,7.89,"00:00:55.325","00:00:55.400",245,2.82,5.62,19.2,55,null,null,null,282]
[null,7.8950999999999993,7.91,"00:00:55.405","00:00:55.480",244,2.83,5.66,19.45,56,null,null,null,283]
[null,7.9150999999999998,7.93,"00:00:55.485","00:00:55.560",243,2.85,5.71,19.71,57,null,null,null,285]
[null,7.9350999999999994,7.95,"00:00:55.565","00:00:55.640",242,2.87,5.75,19.96,58,null,null,null,287]
[null,7.9550999999999998,7.96,"00:00:55.645","00:00:55.720",241,2.88,5.8,20.22,59,null,null,null,288]
[null,7.9650999999999996,7.98,"00:00:55.725","00:00:55.800",240,2.9,5.84,20.47,60,null,null,null,290]
[null,7.9851000000000001,8,"00:00:55.805","00:00:55.880",239,2.92,5.88,20.73,61,null,null,null,292]
[null,8.0051000000000005,8.02,"00:00:55.885","00:00:55.960",238,2.94,5.93,20.98,62,null,null,null,294]
[null,8.0251000000000001,8.0399999999999991,"00:00:55.965","00:00:56.040",237,2.95,5.97,21.24,63,null,null,null,295]
[null,8.0450999999999997,8.0500000000000007,"00:00:56.045","00:00:56.120",236,{"$f":"N66/100","v":2.97},6.02,21.49,64,null,null,null,297]
[null,8.0551000000000013,8.07,"00:00:56.125","00:00:56.200",235,2.99,6.06,21.75,65,null,null,null,299]
[null,8.0751000000000008,8.09,"00:00:56.205","00:00:56.280",234,3,6.1,22,66,null,null,null,300]
[null,8.0951000000000004,8.11,"00:00:56.285","00:00:56.360",233,3.02,6.15,22.26,67,null,null,null,302]
[null,8.1151,8.1300000000000008,"00:00:56.365","00:00:56.440",232,3.04,6.19,22.51,68,null,null,null,304]
[null,8.1351000000000013,8.15,"00:00:56.445","00:00:56.520",231,3.06,6.24,22.77,69,null,null,null,306]
[null,8.1551000000000009,8.16,"00:00:56.525","00:00:56.600",230,3.07,6.28,23.02,70,null,null,null,307]
[null,8.1651000000000007,8.18,"00:00:56.605","00:00:56.680",229,3.09,6.32,23.28,71,null,null,null,309]
[null,8.1851000000000003,8.1999999999999993,"00:00:56.685","00:00:56.760",228,3.11,6.37,23.53,72,null,null,null,311]
[null,8.2050999999999998,8.2200000000000006,"00:00:56.765","00:00:56.840",227,3.12,6.41,23.79,73,null,null,null,312]
[null,8.2251000000000012,8.24,"00:00:56.845","00:00:56.920",226,3.14,6.46,24.04,74,null,null,null,314]
[null,8.2451000000000008,8.26,"00:00:56.925","00:00:57",225,3.16,6.5,24.3,75,null,null,null,316]
[null,8.2651000000000003,8.27,"00:00:57.005","00:00:57.080",224,3.18,6.54,24.56,76,null,null,null,318]
[null,8.2751000000000001,8.2899999999999991,"00:00:57.085","00:00:57.160",223,3.19,6.59,24.81,77,null,null,null,319]
[null,8.2950999999999997,8.31,"00:00:57.165","00:00:57.240",222,3.21,6.63,25.07,78,null,null,null,321]
[null,8.315100000000001,8.33,"00:00:57.245","00:00:57.320",221,3.23,6.68,25.32,79,null,null,null,323]
[null,8.3351000000000006,8.35,"00:00:57.325","00:00:57.400",220,3.24,6.72,25.58,80,null,null,null,324]
[null,8.3551000000000002,8.36,"00:00:57.405","00:00:57.480",219,3.26,6.76,25.83,81,null,null,null,326]
[null,8.3651,8.3800000000000008,"00:00:57.485","00:00:57.560",218,3.28,6.81,26.09,82,null,null,null,328]
[null,8.3851000000000013,8.4,"00:00:57.565","00:00:57.640",217,3.3,6.85,26.34,83,null,null,null,330]
[null,8.4051000000000009,8.42,"00:00:57.645","00:00:57.720",216,3.31,6.9,26.6,84,null,null,null,331]
[null,8.4251000000000005,8.44,"00:00:57.725","00:00:57.800",215,3.33,6.94,26.85,85,null,null,null,333]
[null,8.4451000000000001,8.4600000000000009,"00:00:57.805","00:00:57.880",214,3.35,6.98,27.11,86,null,null,null,335]
[null,8.4651000000000014,8.4700000000000006,"00:00:57.885","00:00:57.960",213,3.36,7.03,27.36,87,null,null,null,336]
[null,8.4751000000000012,8.49,"00:00:57.965","00:00:58.040",212,3.38,7.07,27.62,88,null,null,null,338]
[null,8.4951000000000008,8.51,"00:00:58.045","00:00:58.120",211,3.4,7.12,27.87,89,null,null,null,340]
[null,8.5151000000000003,8.5299999999999994,"00:00:58.125","00:00:58.200",210,3.42,7.16,28.13,90,null,null,null,342]
[null,8.5350999999999999,8.5500000000000007,"00:00:58.205","00:00:58.280",209,3.43,7.2,28.38,91,null,null,null,343]
[null,8.5551000000000013,8.56,"00:00:58.285","00:00:58.360",208,3.45,7.25,28.64,92,null,null,null,345]
[null,8.565100000000001,8.58,"00:00:58.365","00:00:58.440",207,3.47,7.29,28.89,93,null,null,null,347]
[null,8.5851000000000006,8.6,"00:00:58.445","00:00:58.520",206,3.49,7.34,29.15,94,null,null,null,349]
[null,8.6051000000000002,8.6199999999999992,"00:00:58.525","00:00:58.600",205,3.5,7.38,29.4,95,null,null,null,350]
[null,8.6250999999999998,8.64,"00:00:58.605","00:00:58.680",204,3.52,7.42,29.66,96,null,null,null,352]
[null,8.6451000000000011,8.66,"00:00:58.685","00:00:58.760",203,3.54,7.47,29.91,97,null,null,null,354]
[null,8.6651000000000007,8.67,"00:00:58.765","00:00:58.840",202,3.55,7.51,30.17,98,null,null,null,355]
[null,8.6751000000000005,8.69,"00:00:58.845","00:00:58.920",201,3.57,7.56,30.42,99,null,null,null,357]
[null,8.6951000000000001,8.7100000000000009,"00:00:58.925","00:00:59",200,3.59,7.6,30.68,100,null,null,null,359]
[null,8.7151000000000014,8.73,"00:00:59.005","00:00:59.090",199,3.61,7.64,30.91,101,null,null,null,361]
[null,8.735100000000001,8.75,"00:00:59.095","00:00:59.180",198,3.62,7.68,31.14,102,null,null,null,362]
[null,8.7551000000000005,8.77,"00:00:59.185","00:00:59.270",197,3.64,7.72,31.38,103,null,null,null,364]
[null,8.7751000000000001,8.7899999999999991,"00:00:59.275","00:00:59.360",196,3.65,7.76,31.61,104,null,null,null,365]
[null,8.7950999999999997,8.81,"00:00:59.365","00:00:59.450",195,3.67,7.8,31.84,105,null,null,null,367]
[null,8.815100000000001,8.83,"00:00:59.455","00:00:59.540",194,3.68,7.84,32.07,106,null,null,null,368]
[null,8.8351000000000006,8.85,"00:00:59.545","00:00:59.630",193,3.7,7.88,32.299999999999997,107,null,null,null,370]
[null,8.8551000000000002,8.8699999999999992,"00:00:59.635","00:00:59.720",192,3.71,7.92,32.54,108,null,null,null,371]
[null,8.8750999999999998,8.9,"00:00:59.725","00:00:59.810",191,3.73,7.96,32.770000000000003,109,null,null,null,373]
[null,8.9051000000000009,8.92,"00:00:59.815","00:00:59.900",190,3.75,8,33,110,null,null,null,375]
[null,8.9251000000000005,8.94,"00:00:59.905","00:00:59.990",189,3.76,8.0399999999999991,33.229999999999997,111,null,null,null,376]
[null,8.9451000000000001,8.9600000000000009,"00:00:59.995","00:01:00.080",188,3.78,8.08,33.46,112,null,null,null,378]
[null,8.9651000000000014,8.98,"00:01:00.085","00:01:00.170",187,3.79,8.1199999999999992,33.700000000000003,113,null,null,null,379]
[null,8.985100000000001,9,"00:01:00.175","00:01:00.260",186,3.81,8.16,33.93,114,null,null,null,381]
[null,9.0051000000000005,9.02,"00:01:00.265","00:01:00.350",185,3.82,8.1999999999999993,34.159999999999997,115,null,null,null,382]
[null,9.0251000000000001,9.0399999999999991,"00:01:00.355","00:01:00.440",184,3.84,8.24,34.39,116,null,null,null,384]
[null,9.0450999999999997,9.06,"00:01:00.445","00:01:00.530",183,3.86,8.2799999999999994,34.619999999999997,117,null,null,null,386]
[null,9.065100000000001,9.08,"00:01:00.535","00:01:00.620",182,3.87,8.32,34.86,118,null,null,null,387]
[null,9.0851000000000006,9.1,"00:01:00.625","00:01:00.710",181,3.89,8.36,35.090000000000003,119,null,null,null,389]
[null,9.1051000000000002,9.1199999999999992,"00:01:00.715","00:01:00.800",180,3.9,8.4,35.32,120,null,null,null,390]
[null,9.1250999999999998,9.14,"00:01:00.805","00:01:00.890",179,3.92,8.44,35.549999999999997,121,null,null,null,392]
[null,9.1451000000000011,9.16,"00:01:00.895","00:01:00.980",178,3.93,8.48,35.78,122,null,null,null,393]
[null,9.1651000000000007,9.18,"00:01:00.985","00:01:01.070",177,3.95,8.52,36.020000000000003,123,null,null,null,395]
[null,9.1851000000000003,9.1999999999999993,"00:01:01.075","00:01:01.160",176,3.96,8.56,36.25,124,null,null,null,396]
[null,9.2050999999999998,9.23,"00:01:01.165","00:01:01.250",175,3.98,8.6,36.479999999999997,125,null,null,null,398]
[null,9.235100000000001,9.25,"00:01:01.255","00:01:01.340",174,4,8.64,36.71,126,null,null,null,400]
[null,9.2551000000000005,9.27,"00:01:01.345","00:01:01.430",173,4.01,8.68,36.94,127,null,null,null,401]
[null,9.2751000000000001,9.2899999999999991,"00:01:01.435","00:01:01.520",172,{"$f":"N130/100","v":4.03},8.7200000000000006,37.18,128,null,null,null,403]
[null,9.2950999999999997,9.31,"00:01:01.525","00:01:01.610",171,4.04,8.76,37.409999999999997,129,null,null,null,404]
[null,9.315100000000001,9.33,"00:01:01.615","00:01:01.700",170,4.0599999999999996,8.8000000000000007,37.64,130,null,null,null,406]
[null,9.3351000000000006,9.35,"00:01:01.705","00:01:01.790",169,4.07,8.84,37.869999999999997,131,null,null,null,407]
[null,9.3551000000000002,9.3699999999999992,"00:01:01.795","00:01:01.880",168,4.09,8.8800000000000008,38.1,132,null,null,null,409]
[null,9.3750999999999998,9.39,"00:01:01.885","00:01:01.970",167,4.0999999999999996,8.92,38.340000000000003,133,null,null,null,410]
[null,9.3951000000000011,9.41,"00:01:01.975","00:01:02.060",166,4.12,8.9600000000000009,38.57,134,null,null,null,412]
[null,9.4151000000000007,9.43,"00:01:02.065","00:01:02.150",165,4.1399999999999997,9,38.799999999999997,135,null,null,null,414]
[null,9.4351000000000003,9.4499999999999993,"00:01:02.155","00:01:02.240",164,4.1500000000000004,9.0399999999999991,39.03,136,null,null,null,415]
[null,9.4550999999999998,9.4700000000000006,"00:01:02.245","00:01:02.330",163,4.17,9.08,39.26,137,null,null,null,417]
[null,9.4751000000000012,9.49,"00:01:02.335","00:01:02.420",162,4.18,9.1199999999999992,39.5,138,null,null,null,418]
[null,9.4951000000000008,9.51,"00:01:02.425","00:01:02.510",161,4.2,9.16,39.729999999999997,139,null,null,null,420]
[null,9.5151000000000003,9.5299999999999994,"00:01:02.515","00:01:02.600",160,4.21,9.1999999999999993,39.96,140,null,null,null,421]
[null,9.5350999999999999,9.5500000000000007,"00:01:02.605","00:01:02.690",159,4.2300000000000004,9.24,40.19,141,null,null,null,423]
[null,9.5551000000000013,9.58,"00:01:02.695","00:01:02.780",158,4.25,9.2799999999999994,40.42,142,null,null,null,425]
[null,9.5851000000000006,9.6,"00:01:02.785","00:01:02.870",157,4.26,9.32,40.659999999999997,143,null,null,null,426]
[null,9.6051000000000002,9.6199999999999992,"00:01:02.875","00:01:02.960",156,4.28,9.36,40.89,144,null,null,null,428]
[null,9.6250999999999998,9.64,"00:01:02.965","00:01:03.050",155,4.29,9.4,41.12,145,null,null,null,429]
[null,9.6451000000000011,9.66,"00:01:03.055","00:01:03.140",154,4.3099999999999996,9.44,41.35,146,null,null,null,431]
[null,9.6651000000000007,9.68,"00:01:03.145","00:01:03.230",153,4.32,9.48,41.58,147,null,null,null,432]
[null,9.6851000000000003,9.6999999999999993,"00:01:03.235","00:01:03.320",152,4.34,9.52,41.82,148,null,null,null,434]
[null,9.7050999999999998,9.7200000000000006,"00:01:03.325","00:01:03.410",151,4.3499999999999996,9.56,42.05,149,null,null,null,435]
[null,9.7251000000000012,9.74,"00:01:03.415","00:01:03.500",150,4.37,9.6,42.28,150,null,null,null,437]
[null,9.7451000000000008,9.76,"00:01:03.505","00:01:03.600",149,4.38,9.64,42.49,151,null,null,null,438]
[null,9.7651000000000003,9.7899999999999991,"00:01:03.605","00:01:03.700",148,4.4000000000000004,9.67,42.7,152,null,null,null,440]
[null,9.7950999999999997,9.81,"00:01:03.705","00:01:03.800",147,4.41,9.7100000000000009,42.91,153,null,null,null,441]
[null,9.815100000000001,9.83,"00:01:03.805","00:01:03.900",146,4.43,9.74,43.12,154,null,null,null,443]
[null,9.8351000000000006,9.85,"00:01:03.905","00:01:04",145,4.4400000000000004,9.7799999999999994,43.32,155,null,null,null,444]
[null,9.8551000000000002,9.8800000000000008,"00:01:04.005","00:01:04.100",144,4.45,9.82,43.53,156,null,null,null,445]
[null,9.8851000000000013,9.9,"00:01:04.105","00:01:04.200",143,4.47,9.85,43.74,157,null,null,null,447]
[null,9.9051000000000009,9.92,"00:01:04.205","00:01:04.300",142,4.4800000000000004,9.89,43.95,158,null,null,null,448]
[null,9.9251000000000005,9.9499999999999993,"00:01:04.305","00:01:04.400",141,4.5,9.92,44.16,159,null,null,null,450]
[null,9.9550999999999998,9.9700000000000006,"00:01:04.405","00:01:04.500",140,4.51,9.9600000000000009,44.37,160,null,null,null,451]
[null,9.9751000000000012,9.99,"00:01:04.505","00:01:04.600",139,4.5199999999999996,10,44.58,161,null,null,null,452]
[null,9.9951000000000008,10.01,"00:01:04.605","00:01:04.700",138,4.54,10.029999999999999,44.79,162,null,null,null,454]
[null,10.0151,10.039999999999999,"00:01:04.705","00:01:04.800",137,4.55,10.07,44.99,163,null,null,null,455]
[null,10.0451,10.06,"00:01:04.805","00:01:04.900",136,4.57,10.1,45.2,164,null,null,null,457]
[null,10.065100000000001,10.08,"00:01:04.905","00:01:05",135,4.58,10.14,45.41,165,null,null,null,458]
[null,10.085100000000001,10.1,"00:01:05.005","00:01:05.100",134,4.59,10.18,45.62,166,null,null,null,459]
[null,10.1051,10.130000000000001,"00:01:05.105","00:01:05.200",133,4.6100000000000003,10.210000000000001,45.83,167,null,null,null,461]
[null,10.135100000000001,10.15,"00:01:05.205","00:01:05.300",132,4.62,10.25,46.04,168,null,null,null,462]
[null,10.155100000000001,10.17,"00:01:05.305","00:01:05.400",131,4.6399999999999997,10.28,46.25,169,null,null,null,464]
[null,10.1751,10.199999999999999,"00:01:05.405","00:01:05.500",130,4.6500000000000004,10.32,46.46,170,null,null,null,465]
[null,10.2051,10.220000000000001,"00:01:05.505","00:01:05.600",129,4.66,10.36,46.66,171,null,null,null,466]
[null,10.225100000000001,10.24,"00:01:05.605","00:01:05.700",128,4.68,10.39,46.87,172,null,null,null,468]
[null,10.245100000000001,10.26,"00:01:05.705","00:01:05.800",127,4.6900000000000004,10.43,47.08,173,null,null,null,469]
[null,10.2651,10.29,"00:01:05.805","00:01:05.900",126,4.71,10.46,47.29,174,null,null,null,471]
[null,10.2951,10.31,"00:01:05.905","00:01:06",125,4.72,10.5,47.5,175,null,null,null,472]
[null,10.315100000000001,10.33,"00:01:06.005","00:01:06.100",124,4.74,10.54,47.71,176,null,null,null,474]
[null,10.335100000000001,10.36,"00:01:06.105","00:01:06.200",123,4.75,10.57,47.92,177,null,null,null,475]
[null,10.3651,10.38,"00:01:06.205","00:01:06.300",122,4.76,10.61,48.13,178,null,null,null,476]
[null,10.385100000000001,10.4,"00:01:06.305","00:01:06.400",121,4.78,10.64,48.34,179,null,null,null,478]
[null,10.405100000000001,10.42,"00:01:06.405","00:01:06.500",120,4.79,10.68,48.54,180,null,null,null,479]
[null,10.4251,10.45,"00:01:06.505","00:01:06.600",119,4.8099999999999996,10.72,48.75,181,null,null,null,481]
[null,10.4551,10.47,"00:01:06.605","00:01:06.700",118,4.82,10.75,48.96,182,null,null,null,482]
[null,10.475100000000001,10.49,"00:01:06.705","00:01:06.800",117,4.83,10.79,49.17,183,null,null,null,483]
[null,10.495100000000001,10.52,"00:01:06.805","00:01:06.900",116,4.8499999999999996,10.82,49.38,184,null,null,null,485]
[null,10.5251,10.54,"00:01:06.905","00:01:07",115,4.8600000000000003,10.86,49.59,185,null,null,null,486]
[null,10.5451,10.56,"00:01:07.005","00:01:07.100",114,4.88,10.9,49.8,186,null,null,null,488]
[null,10.565100000000001,10.58,"00:01:07.105","00:01:07.200",113,4.8899999999999997,10.93,50.01,187,null,null,null,489]
[null,10.585100000000001,10.61,"00:01:07.205","00:01:07.300",112,4.9000000000000004,10.97,50.21,188,null,null,null,490]
[null,10.6151,10.63,"00:01:07.305","00:01:07.400",111,4.92,11,50.42,189,null,null,null,492]
[null,10.635100000000001,10.65,"00:01:07.405","00:01:07.500",110,4.93,11.04,50.63,190,null,null,null,493]
[null,10.655100000000001,10.67,"00:01:07.505","00:01:07.600",109,4.95,11.08,50.84,191,null,null,null,495]
[null,10.6751,10.7,"00:01:07.605","00:01:07.700",108,{"$f":"N194/100","v":4.96},11.11,51.05,192,null,null,null,496]
[null,10.7051,10.72,"00:01:07.705","00:01:07.800",107,4.97,11.15,51.26,193,null,null,null,497]
[null,10.725100000000001,10.74,"00:01:07.805","00:01:07.900",106,4.99,11.18,51.47,194,null,null,null,499]
[null,10.745100000000001,10.77,"00:01:07.905","00:01:08",105,5,11.22,51.68,195,null,null,null,500]
[null,10.7751,10.79,"00:01:08.005","00:01:08.100",104,5.0199999999999996,11.26,51.88,196,null,null,null,502]
[null,10.7951,10.81,"00:01:08.105","00:01:08.200",103,5.03,11.29,52.09,197,null,null,null,503]
[null,10.815100000000001,10.83,"00:01:08.205","00:01:08.300",102,5.04,11.33,52.3,198,null,null,null,504]
[null,10.835100000000001,10.86,"00:01:08.305","00:01:08.400",101,5.0599999999999996,11.36,52.51,199,null,null,null,506]
[null,10.8651,10.88,"00:01:08.405","00:01:08.500",100,5.07,11.4,52.72,200,null,null,null,507]
[null,10.885100000000001,10.91,"00:01:08.505","00:01:08.610",99,5.08,11.43,52.91,201,null,null,null,508]
[null,10.915100000000001,10.93,"00:01:08.615","00:01:08.720",98,5.0999999999999996,11.46,53.09,202,null,null,null,510]
[null,10.9351,10.96,"00:01:08.725","00:01:08.830",97,5.1100000000000003,11.5,53.28,203,null,null,null,511]
[null,10.965100000000001,10.98,"00:01:08.835","00:01:08.940",96,5.12,11.53,53.46,204,null,null,null,512]
[null,10.985100000000001,11.01,"00:01:08.945","00:01:09.050",95,5.13,11.56,53.65,205,null,null,null,513]
[null,11.0151,11.03,"00:01:09.055","00:01:09.160",94,5.14,11.59,53.83,206,null,null,null,514]
[null,11.0351,11.06,"00:01:09.165","00:01:09.270",93,5.16,11.62,54.02,207,null,null,null,516]
[null,11.065100000000001,11.08,"00:01:09.275","00:01:09.380",92,5.17,11.66,54.2,208,null,null,null,517]
[null,11.085100000000001,11.11,"00:01:09.385","00:01:09.490",91,5.18,11.69,54.39,209,null,null,null,518]
[null,11.1151,11.13,"00:01:09.495","00:01:09.600",90,5.19,11.72,54.58,210,null,null,null,519]
[null,11.135100000000001,11.16,"00:01:09.605","00:01:09.710",89,5.21,11.75,54.76,211,null,null,null,521]
[null,11.165100000000001,11.18,"00:01:09.715","00:01:09.820",88,5.22,11.78,54.95,212,null,null,null,522]
[null,11.1851,11.21,"00:01:09.825","00:01:09.930",87,5.23,11.82,55.13,213,null,null,null,523]
[null,11.215100000000001,11.23,"00:01:09.935","00:01:10.040",86,5.24,11.85,55.32,214,null,null,null,524]
[null,11.235100000000001,11.26,"00:01:10.045","00:01:10.150",85,5.26,11.88,55.5,215,null,null,null,526]
[null,11.2651,11.28,"00:01:10.155","00:01:10.260",84,5.27,11.91,55.69,216,null,null,null,527]
[null,11.2851,11.31,"00:01:10.265","00:01:10.370",83,5.28,11.94,55.88,217,null,null,null,528]
[null,11.315100000000001,11.33,"00:01:10.375","00:01:10.480",82,5.29,11.98,56.06,218,null,null,null,529]
[null,11.335100000000001,11.36,"00:01:10.485","00:01:10.590",81,5.31,12.01,56.25,219,null,null,null,531]
[null,11.3651,11.38,"00:01:10.595","00:01:10.700",80,5.32,12.04,56.43,220,null,null,null,532]
[null,11.385100000000001,11.41,"00:01:10.705","00:01:10.810",79,5.33,12.07,56.62,221,null,null,null,533]
[null,11.415100000000001,11.43,"00:01:10.815","00:01:10.920",78,5.34,12.1,56.8,222,null,null,null,534]
[null,11.4351,11.46,"00:01:10.925","00:01:11.030",77,5.36,12.14,56.99,223,null,null,null,536]
[null,11.465100000000001,11.48,"00:01:11.035","00:01:11.140",76,5.37,12.17,57.17,224,null,null,null,537]
[null,11.485100000000001,11.51,"00:01:11.145","00:01:11.250",75,5.38,12.2,57.36,225,null,null,null,538]
[null,11.5151,11.53,"00:01:11.255","00:01:11.360",74,5.39,12.23,57.55,226,null,null,null,539]
[null,11.5351,11.56,"00:01:11.365","00:01:11.470",73,5.41,12.26,57.73,227,null,null,null,541]
[null,11.565100000000001,11.58,"00:01:11.475","00:01:11.580",72,5.42,12.3,57.92,228,null,null,null,542]
[null,11.585100000000001,11.61,"00:01:11.585","00:01:11.690",71,5.43,12.33,58.1,229,null,null,null,543]
[null,11.6151,11.63,"00:01:11.695","00:01:11.800",70,5.44,12.36,58.29,230,null,null,null,544]
[null,11.635100000000001,11.66,"00:01:11.805","00:01:11.910",69,5.46,12.39,58.47,231,null,null,null,546]
[null,11.665100000000001,11.68,"00:01:11.915","00:01:12.020",68,5.47,12.42,58.66,232,null,null,null,547]
[null,11.6851,11.71,"00:01:12.025","00:01:12.130",67,5.48,12.46,58.84,233,null,null,null,548]
[null,11.715100000000001,11.73,"00:01:12.135","00:01:12.240",66,5.49,12.49,59.03,234,null,null,null,549]
[null,11.735100000000001,11.76,"00:01:12.245","00:01:12.350",65,5.51,12.52,59.22,235,null,null,null,551]
[null,11.7651,11.78,"00:01:12.355","00:01:12.460",64,5.52,12.55,59.4,236,null,null,null,552]
[null,11.7851,11.81,"00:01:12.465","00:01:12.570",63,5.53,12.58,59.59,237,null,null,null,553]
[null,11.815100000000001,11.83,"00:01:12.575","00:01:12.680",62,5.54,12.62,59.77,238,null,null,null,554]
[null,11.835100000000001,11.86,"00:01:12.685","00:01:12.790",61,5.56,12.65,59.96,239,null,null,null,556]
[null,11.8651,11.88,"00:01:12.795","00:01:12.900",60,5.57,12.68,60.14,240,null,null,null,557]
[null,11.885100000000001,11.91,"00:01:12.905","00:01:13.010",59,5.58,12.71,60.33,241,null,null,null,558]
[null,11.915100000000001,11.93,"00:01:13.015","00:01:13.120",58,5.59,12.74,60.52,242,null,null,null,559]
[null,11.9351,11.96,"00:01:13.125","00:01:13.230",57,5.61,12.78,60.7,243,null,null,null,561]
[null,11.965100000000001,11.98,"00:01:13.235","00:01:13.340",56,5.62,12.81,60.89,244,null,null,null,562]
[null,11.985100000000001,12.01,"00:01:13.345","00:01:13.450",55,5.63,12.84,61.07,245,null,null,null,563]
[null,12.0151,12.03,"00:01:13.455","00:01:13.560",54,5.64,12.87,61.26,246,null,null,null,564]
[null,12.0351,12.06,"00:01:13.565","00:01:13.670",53,5.66,12.9,61.44,247,null,null,null,566]
[null,12.065100000000001,12.08,"00:01:13.675","00:01:13.780",52,5.67,12.94,61.63,248,null,null,null,567]
[null,12.085100000000001,12.11,"00:01:13.785","00:01:13.890",51,5.68,12.97,61.81,249,null,null,null,568]
[null,12.1151,12.13,"00:01:13.895","00:01:14",50,5.7,13,62,250,null,null,null,570]
[null,12.135100000000001,12.16,"00:01:14.005","00:01:14.120",49,5.71,13.04,62.18,251,null,null,null,571]
[null,12.165100000000001,12.18,"00:01:14.125","00:01:14.240",48,5.72,13.08,62.37,252,null,null,null,572]
[null,12.1851,12.21,"00:01:14.245","00:01:14.360",47,5.74,13.12,62.55,253,null,null,null,574]
[null,12.215100000000001,12.24,"00:01:14.365","00:01:14.480",46,5.75,13.16,62.74,254,null,null,null,575]
[null,12.245100000000001,12.27,"00:01:14.485","00:01:14.600",45,5.76,13.2,62.92,255,null,null,null,576]
[null,12.2751,12.29,"00:01:14.605","00:01:14.720",44,{"$f":"N258/100","v":5.77},13.24,63.1,256,null,null,null,577]
[null,12.2951,12.32,"00:01:14.725","00:01:14.840",43,5.78,13.28,63.29,257,null,null,null,578]
[null,12.325100000000001,12.35,"00:01:14.845","00:01:14.960",42,5.8,13.32,63.47,258,null,null,null,580]
[null,12.3551,12.38,"00:01:14.965","00:01:15.080",41,5.81,13.36,63.66,259,null,null,null,581]
[null,12.385100000000001,12.4,"00:01:15.085","00:01:15.200",40,5.82,13.4,63.741599999999998,260,null,null,null,582]
[null,12.405100000000001,12.43,"00:01:15.205","00:01:15.320",39,5.83,13.44,64.02,261,null,null,null,583]
[null,12.4351,12.46,"00:01:15.325","00:01:15.440",38,5.84,13.48,64.209999999999994,262,null,null,null,584]
[null,12.465100000000001,12.49,"00:01:15.445","00:01:15.560",37,5.86,13.52,64.39,263,null,null,null,586]
[null,12.495100000000001,12.51,"00:01:15.565","00:01:15.680",36,5.87,13.56,64.58,264,null,null,null,587]
[null,12.5151,12.54,"00:01:15.685","00:01:15.800",35,5.88,13.6,64.760000000000005,265,null,null,null,588]
[null,12.5451,12.57,"00:01:15.805","00:01:15.920",34,5.89,13.64,64.94,266,null,null,null,589]
[null,12.575100000000001,12.6,"00:01:15.925","00:01:16.040",33,5.9,13.68,65.13,267,null,null,null,590]
[null,12.6051,12.62,"00:01:16.045","00:01:16.160",32,5.92,13.72,65.31,268,null,null,null,592]
[null,12.6251,12.65,"00:01:16.165","00:01:16.280",31,5.93,13.76,65.5,269,null,null,null,593]
[null,12.655100000000001,12.68,"00:01:16.285","00:01:16.400",30,5.94,13.8,65.680000000000007,270,null,null,null,594]
[null,12.6851,12.71,"00:01:16.405","00:01:16.520",29,5.95,13.84,65.86,271,null,null,null,595]
[null,12.715100000000001,12.73,"00:01:16.525","00:01:16.640",28,5.96,13.88,66.05,272,null,null,null,596]
[null,12.735100000000001,12.76,"00:01:16.645","00:01:16.760",27,5.98,13.92,66.23,273,null,null,null,598]
[null,12.7651,12.79,"00:01:16.765","00:01:16.880",26,5.99,13.96,66.42,274,null,null,null,599]
[null,12.7951,12.82,"00:01:16.885","00:01:17",25,6,14,66.599999999999994,275,null,null,null,600]
[null,12.825100000000001,12.84,"00:01:17.005","00:01:17.120",24,6.01,14.04,66.78,276,null,null,null,601]
[null,12.8451,12.87,"00:01:17.125","00:01:17.240",23,6.02,14.08,66.97,277,null,null,null,602]
[null,12.8751,12.9,"00:01:17.245","00:01:17.360",22,6.04,14.12,67.150000000000006,278,null,null,null,604]
[null,12.905100000000001,12.92,"00:01:17.365","00:01:17.480",21,6.05,14.16,67.34,279,null,null,null,605]
[null,12.9251,12.95,"00:01:17.485","00:01:17.600",20,6.06,14.2,67.52,280,null,null,null,606]
[null,12.9551,12.98,"00:01:17.605","00:01:17.720",19,6.07,14.24,67.7,281,null,null,null,607]
[null,12.985100000000001,13.01,"00:01:17.725","00:01:17.840",18,6.08,14.28,67.89,282,null,null,null,608]
[null,13.0151,13.03,"00:01:17.845","00:01:17.960",17,6.1,14.32,68.069999999999993,283,null,null,null,610]
[null,13.0351,13.06,"00:01:17.965","00:01:18.080",16,6.11,14.36,68.260000000000005,284,null,null,null,611]
[null,13.065100000000001,13.09,"00:01:18.085","00:01:18.200",15,6.12,14.4,68.44,285,null,null,null,612]
[null,13.0951,13.12,"00:01:18.205","00:01:18.320",14,6.13,14.44,68.62,286,null,null,null,613]
[null,13.1251,13.14,"00:01:18.325","00:01:18.440",13,6.14,14.48,68.81,287,null,null,null,614]
[null,13.145100000000001,13.17,"00:01:18.445","00:01:18.560",12,6.16,14.52,68.989999999999995,288,null,null,null,616]
[null,13.1751,13.2,"00:01:18.565","00:01:18.680",11,6.17,14.56,69.180000000000007,289,null,null,null,617]
[null,13.2051,13.23,"00:01:18.685","00:01:18.800",10,6.18,14.6,69.36,290,null,null,null,618]
[null,13.235100000000001,13.25,"00:01:18.805","00:01:18.920",9,6.19,14.64,69.540000000000006,291,null,null,null,619]
[null,13.255100000000001,13.28,"00:01:18.925","00:01:19.040",8,6.2,14.68,69.73,292,null,null,null,620]
[null,13.2851,13.31,"00:01:19.045","00:01:19.160",7,6.22,14.72,69.91,293,null,null,null,622]
[null,13.315100000000001,13.34,"00:01:19.165","00:01:19.280",6,6.23,14.76,70.099999999999994,294,null,null,null,623]
[null,13.3451,13.36,"00:01:19.285","00:01:19.400",5,6.24,14.8,70.28,295,null,null,null,624]
[null,13.3651,13.39,"00:01:19.405","00:01:19.520",4,6.25,14.84,70.459999999999994,296,null,null,null,625]
[null,13.395100000000001,13.42,"00:01:19.525","00:01:19.640",3,6.26,14.88,70.650000000000006,297,null,null,null,626]
[null,13.4251,13.45,"00:01:19.645","00:01:19.760",2,6.28,14.92,70.83,298,null,null,null,628]
[null,13.4551,13.47,"00:01:19.765","00:01:19.880",1,6.29,14.96,71.02,299,null,null,null,629]
[null,13.475100000000001,13.5,"00:01:19.885","00:01:20",0,6.3,15,71.2,300,null,null,null,630]

{"sheet":"Be","index":1,"n_rows":244,"n_cols":12,"rows_kept":244,"cut":false,"hidden":false,"merged":[[22,10,22,11],[23,10,23,11],[24,10,24,11],[2,10,2,11],[0,0,0,11],[17,10,17,11],[18,10,18,11],[19,10,19,11],[20,10,20,11],[21,10,21,11],[2,2,2,3],[2,4,2,5],[2,6,2,7],[238,10,241,11],[243,10,243,11],[3,10,3,11],[4,10,4,11],[5,10,5,11],[6,10,6,11],[7,10,7,11],[8,10,8,11],[9,10,9,11],[10,10,10,11],[11,10,11,11],[12,10,12,11],[13,10,13,11],[14,10,14,11],[15,10,15,11],[16,10,16,11],[228,10,231,11],[233,10,233,11],[208,10,211,11],[213,10,213,11],[188,10,191,11],[193,10,193,11],[168,10,171,11],[173,10,173,11],[236,0,236,9],[236,10,237,11],[237,2,237,3],[237,4,237,5],[237,6,237,7],[218,10,221,11],[223,10,223,11],[226,0,226,9],[226,10,227,11],[227,2,227,3],[227,4,227,5],[227,6,227,7],[216,0,216,9],[216,10,217,11],[217,2,217,3],[217,4,217,5],[217,6,217,7],[198,10,201,11],[203,10,203,11],[206,0,206,9],[206,10,207,11],[207,2,207,3],[207,4,207,5],[207,6,207,7],[196,0,196,9],[196,10,197,11],[197,2,197,3],[197,4,197,5],[197,6,197,7],[178,10,181,11],[183,10,183,11],[186,0,186,9],[186,10,187,11],[187,2,187,3],[187,4,187,5],[187,6,187,7],[176,0,176,9],[176,10,177,11],[177,2,177,3],[177,4,177,5],[177,6,177,7],[158,10,161,11],[163,10,163,11],[166,0,166,9],[166,10,167,11],[167,2,167,3],[167,4,167,5],[167,6,167,7],[148,10,151,11],[153,10,153,11],[156,0,156,9],[156,10,157,11],[157,2,157,3],[157,4,157,5],[157,6,157,7],[138,10,141,11],[143,10,143,11],[146,0,146,9],[146,10,147,11],[147,2,147,3],[147,4,147,5],[147,6,147,7],[128,10,131,11],[133,10,133,11],[136,0,136,9],[136,10,137,11],[137,2,137,3],[137,4,137,5],[137,6,137,7],[118,10,121,11],[123,10,123,11],[126,0,126,9],[126,10,127,11],[127,2,127,3],[127,4,127,5],[127,6,127,7],[108,10,111,11],[113,10,113,11],[116,0,116,9],[116,10,117,11],[117,2,117,3],[117,4,117,5],[117,6,117,7],[98,10,101,11],[103,10,103,11],[106,0,106,9],[106,10,107,11],[107,2,107,3],[107,4,107,5],[107,6,107,7],[88,10,91,11],[93,10,93,11],[96,0,96,9],[96,10,97,11],[97,2,97,3],[97,4,97,5],[97,6,97,7],[78,10,81,11],[83,10,83,11],[86,0,86,9],[86,10,87,11],[87,2,87,3],[87,4,87,5],[87,6,87,7],[68,10,71,11],[73,10,73,11],[76,0,76,9],[76,10,77,11],[77,2,77,3],[77,4,77,5],[77,6,77,7],[58,10,61,11],[63,10,63,11],[66,0,66,9],[66,10,67,11],[67,2,67,3],[67,4,67,5],[67,6,67,7],[48,10,51,11],[53,10,53,11],[56,0,56,9],[56,10,57,11],[57,2,57,3],[57,4,57,5],[57,6,57,7],[38,10,41,11],[43,10,43,11],[46,0,46,9],[46,10,47,11],[47,2,47,3],[47,4,47,5],[47,6,47,7],[27,2,27,3],[27,4,27,5],[27,6,27,7],[26,0,26,9],[26,10,27,11],[33,10,33,11],[28,10,31,11],[36,0,36,9],[36,10,37,11],[37,2,37,3],[37,4,37,5],[37,6,37,7]]}
["II. korcsoport LEÁNY Összetett verseny "]
[]
["Név","Sz.év","60 m",null,"Távolugrás",null,"Klabdahajítás",null,"Összpont","helyezés","Iskola"]
[null,null,null,{"$f":"IF(C4<6.19,0,VLOOKUP(C4,rfut,5,TRUE))","v":0},null,{"$f":"IF(E4<1.79,0,VLOOKUP(E4,távol,4,TRUE))","v":0},null,{"$f":"IF(G4<4,0,VLOOKUP(G4,kisl,2,TRUE))","v":0},{"$f":"SUM(D4,F4,H4)","v":0},{"$f":"RANK(I4,Egyéni!$J$3:$J$156,0)","v":18}]
[null,null,null,0,null,0,null,0,{"$f":"SUM(D5,F5,H5)","v":0},{"$f":"RANK(I5,Egyéni!$J$3:$J$156,0)","v":18}]
[null,null,null,0,null,0,null,0,0,{"$f":"RANK(I6,Egyéni!$J$3:$J$156,0)","v":18}]
[null,null,null,0,null,0,null,0,0,{"$f":"RANK(I7,Egyéni!$J$3:$J$156,0)","v":18}]
[null,null,null,0,null,0,null,0,0,{"$f":"RANK(I8,Egyéni!$J$3:$J$156,0)","v":18}]
[null,null,null,0,null,0,null,0,0,{"$f":"RANK(I9,Egyéni!$J$3:$J$156,0)","v":18}]
[null,null,null,0,null,0,null,0,0,{"$f":"RANK(I10,Egyéni!$J$3:$J$156,0)","v":18}]
[null,null,null,0,null,0,null,0,0,{"$f":"RANK(I11,Egyéni!$J$3:$J$156,0)","v":18}]
[null,null,null,0,null,0,null,0,0,{"$f":"RANK(I12,Egyéni!$J$3:$J$156,0)","v":18}]
[null,null,null,0,null,0,null,0,0,{"$f":"RANK(I13,Egyéni!$J$3:$J$156,0)","v":18}]
[null,null,null,0,null,0,null,0,0,{"$f":"RANK(I14,Egyéni!$J$3:$J$156,0)","v":18}]
[null,null,null,0,null,0,null,0,0,{"$f":"RANK(I15,Egyéni!$J$3:$J$156,0)","v":18}]
[null,null,null,0,null,0,null,0,0,{"$f":"RANK(I16,Egyéni!$J$3:$J$156,0)","v":18}]
[null,null,null,0,null,0,null,0,0,{"$f":"RANK(I17,Egyéni!$J$3:$J$156,0)","v":18}]
[null,null,null,0,null,0,null,0,0,{"$f":"RANK(I18,Egyéni!$J$3:$J$156,0)","v":18}]
[null,null,null,0,null,0,null,0,0,{"$f":"RANK(I19,Egyéni!$J$3:$J$156,0)","v":18}]
[null,null,null,0,null,0,null,0,0,{"$f":"RANK(I20,Egyéni!$J$3:$J$156,0)","v":18}]
[null,null,null,0,null,0,null,0,0,{"$f":"RANK(I21,Egyéni!$J$3:$J$156,0)","v":18}]
[null,null,null,0,null,0,null,0,0,{"$f":"RANK(I22,Egyéni!$J$3:$J$156,0)","v":18}]
[null,null,null,0,null,0,null,0,0,{"$f":"RANK(I23,Egyéni!$J$3:$J$156,0)","v":18}]
[null,null,null,0,null,0,null,0,0,{"$f":"RANK(I24,Egyéni!$J$3:$J$156,0)","v":18}]
[null,null,null,0,null,0,null,0,0,{"$f":"RANK(I25,Egyéni!$J$3:$J$156,0)","v":18}]
[]
["Maglódi Vermessy Péter Általános Iskola",null,null,null,null,null,null,null,null,null,{"$f":"RANK(K29,Csapat!$C$3:P30,0)","v":2}]
["Név","Sz.év","60 m",null,"Távolugrás",null,"Klabdahajítás",null,"Összpont","Helyezés"]
["Forgó Dorottya",2007,11.76,{"$f":"IF(C29<6.19,0,VLOOKUP(C29,rfut,5,TRUE))","v":65},2.6,{"$f":"IF(E29<1.79,0,VLOOKUP(E29,távol,4,TRUE))","v":42},20.45,{"$f":"IF(G29<4,0,VLOOKUP(G29,kisl,2,TRUE))","v":59},{"$f":"SUM(D29,F29,H29)","v":166},{"$f":"RANK(I29,Egyéni!$J$3:$J$156,0)","v":11},{"$f":"SUM(I29:I34)-MIN(I29:I34)+K34","v":1037}]
["Sotónyi Lili",2007,11.27,84,2.66,46,14.9,39,169,{"$f":"RANK(I30,Egyéni!$J$3:$J$156,0)","v":10}]
["Vetési Dóra",2007,12.04,53,2.95,63,16.7,45,161,{"$f":"RANK(I31,Egyéni!$J$3:$J$156,0)","v":14}]
["Vince Kamilla",2008,10.54,115,3,66,12.55,30,211,{"$f":"RANK(I32,Egyéni!$J$3:$J$156,0)","v":5}]
["Németh Borbála",2007,10.25,127,3,66,18.55,52,245,{"$f":"RANK(I33,Egyéni!$J$3:$J$156,0)","v":1},"4×100","00:01:10.090"]
[null,null,null,0,null,0,null,0,0,{"$f":"RANK(I34,Egyéni!$J$3:$J$156,0)","v":18},{"$f":"IF(L33<leány!$D$2,0,VLOOKUP(L33,hfut,3,TRUE))","v":85}]
[]
[]
["Jászai Mari Általános Iskola Monor",null,null,null,null,null,null,null,null,null,{"$f":"RANK(K39,Csapat!$C$3:P40,0)","v":1}]
["Név","Sz.év","60 m",null,"Távolugrás",null,"Klabdahajítás",null,"Összpont","Helyezés"]
["Félix Viktória",2008,10.98,{"$f":"IF(C39<6.19,0,VLOOKUP(C39,rfut,5,TRUE))","v":96},2.8,{"$f":"IF(E39<1.79,0,VLOOKUP(E39,távol,4,TRUE))","v":54},21.9,{"$f":"IF(G39<4,0,VLOOKUP(G39,kisl,2,TRUE))","v":65},{"$f":"SUM(D39,F39,H39)","v":215},{"$f":"RANK(I39,Egyéni!$J$3:$J$156,0)","v":3},{"$f":"SUM(I39:I44)-MIN(I39:I44)+K44","v":1115}]
["Neuwelt Petra",2007,11.58,72,2.7,48,16.600000000000001,45,165,{"$f":"RANK(I40,Egyéni!$J$3:$J$156,0)","v":12}]
["Bock Luca",2007,10.31,125,2.8,54,13.7,34,213,{"$f":"RANK(I41,Egyéni!$J$3:$J$156,0)","v":4}]
["Eöllös Emma",2008,10.61,112,2.7,48,15,39,199,{"$f":"RANK(I42,Egyéni!$J$3:$J$156,0)","v":6}]
["Magócsi Eszter",2007,11.66,69,2.9,60,17.899999999999999,49,178,{"$f":"RANK(I43,Egyéni!$J$3:$J$156,0)","v":8},"4×100","00:01:10.650"]
["Rettegi Tímea",2008,11.2,87,2.88,59,26.7,84,230,{"$f":"RANK(I44,Egyéni!$J$3:$J$156,0)","v":2},{"$f":"IF(L43<leány!$D$2,0,VLOOKUP(L43,hfut,3,TRUE))","v":80}]
[]
[]
["Mende",null,null,null,null,null,null,null,null,null,{"$f":"RANK(K49,Csapat!$C$3:P50,0)","v":3}]
["Név","Sz.év","60 m",null,"Távolugrás",null,"Klabdahajítás",null,"Összpont","Helyezés"]
["Ádám Anna",2007,11.68,{"$f":"IF(C49<6.19,0,VLOOKUP(C49,rfut,5,TRUE))","v":68},2.63,{"$f":"IF(E49<1.79,0,VLOOKUP(E49,távol,4,TRUE))","v":44},18.399999999999999,{"$f":"IF(G49<4,0,VLOOKUP(G49,kisl,2,TRUE))","v":51},{"$f":"SUM(D49,F49,H49)","v":163},{"$f":"RANK(I49,Egyéni!$J$3:$J$156,0)","v":13},{"$f":"SUM(I49:I54)-MIN(I49:I54)+K54","v":826}]
["Kernya Zoé",2007,10.93,98,2.56,40,15.2,40,178,{"$f":"RANK(I50,Egyéni!$J$3:$J$156,0)","v":8}]
["Renecz Ramóna",2008,12.25,45,2,10,13.5,34,89,{"$f":"RANK(I51,Egyéni!$J$3:$J$156,0)","v":17}]
["Turczer Jázmin ",2008,10.57,113,2.29,26,6.3,8,147,{"$f":"RANK(I52,Egyéni!$J$3:$J$156,0)","v":15}]
["Vidák Klarissza",2008,12.32,43,2.78,53,16.149999999999999,43,139,{"$f":"RANK(I53,Egyéni!$J$3:$J$156,0)","v":16},"4×100","00:01:21.610"]
["Vrábel Molli",2007,11.2,87,2.7,48,21.6,64,199,{"$f":"RANK(I54,Egyéni!$J$3:$J$156,0)","v":6},{"$f":"IF(L53<leány!$D$2,0,VLOOKUP(L53,hfut,3,TRUE))","v":0}]
[]
[]
[null,null,null,null,null,null,null,null,null,null,{"$f":"RANK(K59,Csapat!$C$3:P60,0)","v":4}]
["Név","Sz.év","60 m",null,"Távolugrás",null,"Klabdahajítás",null,"Összpont","Helyezés"]
[null,null,null,{"$f":"IF(C59<6.19,0,VLOOKUP(C59,rfut,5,TRUE))","v":0},null,{"$f":"IF(E59<1.79,0,VLOOKUP(E59,távol,4,TRUE))","v":0},null,{"$f":"IF(G59<4,0,VLOOKUP(G59,kisl,2,TRUE))","v":0},{"$f":"SUM(D59,F59,H59)","v":0},{"$f":"RANK(I59,Egyéni!$J$3:$J$156,0)","v":18},{"$f":"SUM(I59:I64)-MIN(I59:I64)+K64","v":0}]
[null,null,null,0,null,0,null,0,0,{"$f":"RANK(I60,Egyéni!$J$3:$J$156,0)","v":18}]
[null,null,null,0,null,0,null,0,0,{"$f":"RANK(I61,Egyéni!$J$3:$J$156,0)","v":18}]
[null,null,null,0,null,0,null,0,0,{"$f":"RANK(I62,Egyéni!$J$3:$J$156,0)","v":18}]
[null,null,null,0,null,0,null,0,0,{"$f":"RANK(I63,Egyéni!$J$3:$J$156,0)","v":18},"4×100"]
[null,null,null,0,null,0,null,0,0,{"$f":"RANK(I64,Egyéni!$J$3:$J$156,0)","v":18},{"$f":"IF(L63<leány!$D$2,0,VLOOKUP(L63,hfut,3,TRUE))","v":0}]
[]
[]
[null,null,null,null,null,null,null,null,null,null,{"$f":"RANK(K69,Csapat!$C$3:P70,0)","v":4}]
["Név","Sz.év","60 m",null,"Távolugrás",null,"Klabdahajítás",null,"Összpont","Helyezés"]
[null,null,null,{"$f":"IF(C69<6.19,0,VLOOKUP(C69,rfut,5,TRUE))","v":0},null,{"$f":"IF(E69<1.79,0,VLOOKUP(E69,távol,4,TRUE))","v":0},null,{"$f":"IF(G69<4,0,VLOOKUP(G69,kisl,2,TRUE))","v":0},{"$f":"SUM(D69,F69,H69)","v":0},{"$f":"RANK(I69,Egyéni!$J$3:$J$156,0)","v":18},{"$f":"SUM(I69:I74)-MIN(I69:I74)+K74","v":0}]
[null,null,null,0,null,0,null,0,0,{"$f":"RANK(I70,Egyéni!$J$3:$J$156,0)","v":18}]
[null,null,null,0,null,0,null,0,0,{"$f":"RANK(I71,Egyéni!$J$3:$J$156,0)","v":18}]
[null,null,null,0,null,0,null,0,0,{"$f":"RANK(I72,Egyéni!$J$3:$J$156,0)","v":18}]
[null,null,null,0,null,0,null,0,0,{"$f":"RANK(I73,Egyéni!$J$3:$J$156,0)","v":18},"4×100"]
[null,null,null,0,null,0,null,0,0,{"$f":"RANK(I74,Egyéni!$J$3:$J$156,0)","v":18},{"$f":"IF(L73<leány!$D$2,0,VLOOKUP(L73,hfut,3,TRUE))","v":0}]
[]
[]
[null,null,null,null,null,null,null,null,null,null,{"$f":"RANK(K79,Csapat!$C$3:P80,0)","v":4}]
["Név","Sz.év","60 m",null,"Távolugrás",null,"Klabdahajítás",null,"Összpont","Helyezés"]
[null,null,null,{"$f":"IF(C79<6.19,0,VLOOKUP(C79,rfut,5,TRUE))","v":0},null,{"$f":"IF(E79<1.79,0,VLOOKUP(E79,távol,4,TRUE))","v":0},null,{"$f":"IF(G79<4,0,VLOOKUP(G79,kisl,2,TRUE))","v":0},{"$f":"SUM(D79,F79,H79)","v":0},{"$f":"RANK(I79,Egyéni!$J$3:$J$156,0)","v":18},{"$f":"SUM(I79:I84)-MIN(I79:I84)+K84","v":0}]
[null,null,null,0,null,0,null,0,0,{"$f":"RANK(I80,Egyéni!$J$3:$J$156,0)","v":18}]
[null,null,null,0,null,0,null,0,0,{"$f":"RANK(I81,Egyéni!$J$3:$J$156,0)","v":18}]
[null,null,null,0,null,0,null,0,0,{"$f":"RANK(I82,Egyéni!$J$3:$J$156,0)","v":18}]
[null,null,null,0,null,0,null,0,0,{"$f":"RANK(I83,Egyéni!$J$3:$J$156,0)","v":18},"4×100"]
[null,null,null,0,null,0,null,0,0,{"$f":"RANK(I84,Egyéni!$J$3:$J$156,0)","v":18},{"$f":"IF(L83<leány!$D$2,0,VLOOKUP(L83,hfut,3,TRUE))","v":0}]
[]
[]
[null,null,null,null,null,null,null,null,null,null,{"$f":"RANK(K89,Csapat!$C$3:P90,0)","v":4}]
["Név","Sz.év","60 m",null,"Távolugrás",null,"Klabdahajítás",null,"Összpont","Helyezés"]
[null,null,null,{"$f":"IF(C89<6.19,0,VLOOKUP(C89,rfut,5,TRUE))","v":0},null,{"$f":"IF(E89<1.79,0,VLOOKUP(E89,távol,4,TRUE))","v":0},null,{"$f":"IF(G89<4,0,VLOOKUP(G89,kisl,2,TRUE))","v":0},{"$f":"SUM(D89,F89,H89)","v":0},{"$f":"RANK(I89,Egyéni!$J$3:$J$156,0)","v":18},{"$f":"SUM(I89:I94)-MIN(I89:I94)+K94","v":0}]
[null,null,null,0,null,0,null,0,0,{"$f":"RANK(I90,Egyéni!$J$3:$J$156,0)","v":18}]
[null,null,null,0,null,0,null,0,0,{"$f":"RANK(I91,Egyéni!$J$3:$J$156,0)","v":18}]
[null,null,null,0,null,0,null,0,0,{"$f":"RANK(I92,Egyéni!$J$3:$J$156,0)","v":18}]
[null,null,null,0,null,0,null,0,0,{"$f":"RANK(I93,Egyéni!$J$3:$J$156,0)","v":18},"4×100"]
[null,null,null,0,null,0,null,0,0,{"$f":"RANK(I94,Egyéni!$J$3:$J$156,0)","v":18},{"$f":"IF(L93<leány!$D$2,0,VLOOKUP(L93,hfut,3,TRUE))","v":0}]
[]
[]
[null,null,null,null,null,null,null,null,null,null,{"$f":"RANK(K99,Csapat!$C$3:P100,0)","v":4}]
["Név","Sz.év","60 m",null,"Távolugrás",null,"Klabdahajítás",null,"Összpont","Helyezés"]
[null,null,null,{"$f":"IF(C99<6.19,0,VLOOKUP(C99,rfut,5,TRUE))","v":0},null,{"$f":"IF(E99<1.79,0,VLOOKUP(E99,távol,4,TRUE))","v":0},null,{"$f":"IF(G99<4,0,VLOOKUP(G99,kisl,2,TRUE))","v":0},{"$f":"SUM(D99,F99,H99)","v":0},{"$f":"RANK(I99,Egyéni!$J$3:$J$156,0)","v":18},{"$f":"SUM(I99:I104)-MIN(I99:I104)+K104","v":0}]
[null,null,null,0,null,0,null,0,0,{"$f":"RANK(I100,Egyéni!$J$3:$J$156,0)","v":18}]
[null,null,null,0,null,0,null,0,0,{"$f":"RANK(I101,Egyéni!$J$3:$J$156,0)","v":18}]
[null,null,null,0,null,0,null,0,0,{"$f":"RANK(I102,Egyéni!$J$3:$J$156,0)","v":18}]
[null,null,null,0,null,0,null,0,0,{"$f":"RANK(I103,Egyéni!$J$3:$J$156,0)","v":18},"4×100"]
[null,null,null,0,null,0,null,0,0,{"$f":"RANK(I104,Egyéni!$J$3:$J$156,0)","v":18},{"$f":"IF(L103<leány!$D$2,0,VLOOKUP(L103,hfut,3,TRUE))","v":0}]
[]
[]
[null,null,null,null,null,null,null,null,null,null,{"$f":"RANK(K109,Csapat!$C$3:P110,0)","v":4}]
["Név","Sz.év","60 m",null,"Távolugrás",null,"Klabdahajítás",null,"Összpont","Helyezés"]
[null,null,null,{"$f":"IF(C109<6.19,0,VLOOKUP(C109,rfut,5,TRUE))","v":0},null,{"$f":"IF(E109<1.79,0,VLOOKUP(E109,távol,4,TRUE))","v":0},null,{"$f":"IF(G109<4,0,VLOOKUP(G109,kisl,2,TRUE))","v":0},{"$f":"SUM(D109,F109,H109)","v":0},{"$f":"RANK(I109,Egyéni!$J$3:$J$156,0)","v":18},{"$f":"SUM(I109:I114)-MIN(I109:I114)+K114","v":0}]
[null,null,null,0,null,0,null,0,0,{"$f":"RANK(I110,Egyéni!$J$3:$J$156,0)","v":18}]
[null,null,null,0,null,0,null,0,0,{"$f":"RANK(I111,Egyéni!$J$3:$J$156,0)","v":18}]
[null,null,null,0,null,0,null,0,0,{"$f":"RANK(I112,Egyéni!$J$3:$J$156,0)","v":18}]
[null,null,null,0,null,0,null,0,0,{"$f":"RANK(I113,Egyéni!$J$3:$J$156,0)","v":18},"4×100"]
[null,null,null,0,null,0,null,0,0,{"$f":"RANK(I114,Egyéni!$J$3:$J$156,0)","v":18},{"$f":"IF(L113<leány!$D$2,0,VLOOKUP(L113,hfut,3,TRUE))","v":0}]
[]
[]
[null,null,null,null,null,null,null,null,null,null,{"$f":"RANK(K119,Csapat!$C$3:P120,0)","v":4}]
["Név","Sz.év","60 m",null,"Távolugrás",null,"Klabdahajítás",null,"Összpont","Helyezés"]
[null,null,null,{"$f":"IF(C119<6.19,0,VLOOKUP(C119,rfut,5,TRUE))","v":0},null,{"$f":"IF(E119<1.79,0,VLOOKUP(E119,távol,4,TRUE))","v":0},null,{"$f":"IF(G119<4,0,VLOOKUP(G119,kisl,2,TRUE))","v":0},{"$f":"SUM(D119,F119,H119)","v":0},{"$f":"RANK(I119,Egyéni!$J$3:$J$156,0)","v":18},{"$f":"SUM(I119:I124)-MIN(I119:I124)+K124","v":0}]
[null,null,null,0,null,0,null,0,0,{"$f":"RANK(I120,Egyéni!$J$3:$J$156,0)","v":18}]
[null,null,null,0,null,0,null,0,0,{"$f":"RANK(I121,Egyéni!$J$3:$J$156,0)","v":18}]
[null,null,null,0,null,0,null,0,0,{"$f":"RANK(I122,Egyéni!$J$3:$J$156,0)","v":18}]
[null,null,null,0,null,0,null,0,0,{"$f":"RANK(I123,Egyéni!$J$3:$J$156,0)","v":18},"4×100"]
[null,null,null,0,null,0,null,0,0,{"$f":"RANK(I124,Egyéni!$J$3:$J$156,0)","v":18},{"$f":"IF(L123<leány!$D$2,0,VLOOKUP(L123,hfut,3,TRUE))","v":0}]
[]
[]
[null,null,null,null,null,null,null,null,null,null,{"$f":"RANK(K129,Csapat!$C$3:P130,0)","v":4}]
["Név","Sz.év","60 m",null,"Távolugrás",null,"Klabdahajítás",null,"Összpont","Helyezés"]
[null,null,null,{"$f":"IF(C129<6.19,0,VLOOKUP(C129,rfut,5,TRUE))","v":0},null,{"$f":"IF(E129<1.79,0,VLOOKUP(E129,távol,4,TRUE))","v":0},null,{"$f":"IF(G129<4,0,VLOOKUP(G129,kisl,2,TRUE))","v":0},{"$f":"SUM(D129,F129,H129)","v":0},{"$f":"RANK(I129,Egyéni!$J$3:$J$156,0)","v":18},{"$f":"SUM(I129:I134)-MIN(I129:I134)+K134","v":0}]
[null,null,null,0,null,0,null,0,0,{"$f":"RANK(I130,Egyéni!$J$3:$J$156,0)","v":18}]
[null,null,null,0,null,0,null,0,0,{"$f":"RANK(I131,Egyéni!$J$3:$J$156,0)","v":18}]
[null,null,null,0,null,0,null,0,0,{"$f":"RANK(I132,Egyéni!$J$3:$J$156,0)","v":18}]
[null,null,null,0,null,0,null,0,0,{"$f":"RANK(I133,Egyéni!$J$3:$J$156,0)","v":18},"4×100"]
[null,null,null,0,null,0,null,0,0,{"$f":"RANK(I134,Egyéni!$J$3:$J$156,0)","v":18},{"$f":"IF(L133<leány!$D$2,0,VLOOKUP(L133,hfut,3,TRUE))","v":0}]
[]
[]
[null,null,null,null,null,null,null,null,null,null,{"$f":"RANK(K139,Csapat!$C$3:P140,0)","v":4}]
["Név","Sz.év","60 m",null,"Távolugrás",null,"Klabdahajítás",null,"Összpont","Helyezés"]
[null,null,null,{"$f":"IF(C139<6.19,0,VLOOKUP(C139,rfut,5,TRUE))","v":0},null,{"$f":"IF(E139<1.79,0,VLOOKUP(E139,távol,4,TRUE))","v":0},null,{"$f":"IF(G139<4,0,VLOOKUP(G139,kisl,2,TRUE))","v":0},{"$f":"SUM(D139,F139,H139)","v":0},{"$f":"RANK(I139,Egyéni!$J$3:$J$156,0)","v":18},{"$f":"SUM(I139:I144)-MIN(I139:I144)+K144","v":0}]
[null,null,null,0,null,0,null,0,0,{"$f":"RANK(I140,Egyéni!$J$3:$J$156,0)","v":18}]
[null,null,null,0,null,0,null,0,0,{"$f":"RANK(I141,Egyéni!$J$3:$J$156,0)","v":18}]
[null,null,null,0,null,0,null,0,0,{"$f":"RANK(I142,Egyéni!$J$3:$J$156,0)","v":18}]
[null,null,null,0,null,0,null,0,0,{"$f":"RANK(I143,Egyéni!$J$3:$J$156,0)","v":18},"4×100"]
[null,null,null,0,null,0,null,0,0,{"$f":"RANK(I144,Egyéni!$J$3:$J$156,0)","v":18},{"$f":"IF(L143<leány!$D$2,0,VLOOKUP(L143,hfut,3,TRUE))","v":0}]
[]
[]
[null,null,null,null,null,null,null,null,null,null,{"$f":"RANK(K149,Csapat!$C$3:P150,0)","v":4}]
["Név","Sz.év","60 m",null,"Távolugrás",null,"Klabdahajítás",null,"Összpont","Helyezés"]
[null,null,null,{"$f":"IF(C149<6.19,0,VLOOKUP(C149,rfut,5,TRUE))","v":0},null,{"$f":"IF(E149<1.79,0,VLOOKUP(E149,távol,4,TRUE))","v":0},null,{"$f":"IF(G149<4,0,VLOOKUP(G149,kisl,2,TRUE))","v":0},{"$f":"SUM(D149,F149,H149)","v":0},{"$f":"RANK(I149,Egyéni!$J$3:$J$156,0)","v":18},{"$f":"SUM(I149:I154)-MIN(I149:I154)+K154","v":0}]
[null,null,null,0,null,0,null,0,0,{"$f":"RANK(I150,Egyéni!$J$3:$J$156,0)","v":18}]
[null,null,null,0,null,0,null,0,0,{"$f":"RANK(I151,Egyéni!$J$3:$J$156,0)","v":18}]
[null,null,null,0,null,0,null,0,0,{"$f":"RANK(I152,Egyéni!$J$3:$J$156,0)","v":18}]
[null,null,null,0,null,0,null,0,0,{"$f":"RANK(I153,Egyéni!$J$3:$J$156,0)","v":18},"4×100"]
[null,null,null,0,null,0,null,0,0,{"$f":"RANK(I154,Egyéni!$J$3:$J$156,0)","v":18},{"$f":"IF(L153<leány!$D$2,0,VLOOKUP(L153,hfut,3,TRUE))","v":0}]
[]
[]
[null,null,null,null,null,null,null,null,null,null,{"$f":"RANK(K159,Csapat!$C$3:P160,0)","v":4}]
["Név","Sz.év","60 m",null,"Távolugrás",null,"Klabdahajítás",null,"Összpont","Helyezés"]
[null,null,null,{"$f":"IF(C159<6.19,0,VLOOKUP(C159,rfut,5,TRUE))","v":0},null,{"$f":"IF(E159<1.79,0,VLOOKUP(E159,távol,4,TRUE))","v":0},null,{"$f":"IF(G159<4,0,VLOOKUP(G159,kisl,2,TRUE))","v":0},{"$f":"SUM(D159,F159,H159)","v":0},{"$f":"RANK(I159,Egyéni!$J$3:$J$156,0)","v":18},{"$f":"SUM(I159:I164)-MIN(I159:I164)+K164","v":0}]
[null,null,null,0,null,0,null,0,0,{"$f":"RANK(I160,Egyéni!$J$3:$J$156,0)","v":18}]
[null,null,null,0,null,0,null,0,0,{"$f":"RANK(I161,Egyéni!$J$3:$J$156,0)","v":18}]
[null,null,null,0,null,0,null,0,0,{"$f":"RANK(I162,Egyéni!$J$3:$J$156,0)","v":18}]
[null,null,null,0,null,0,null,0,0,{"$f":"RANK(I163,Egyéni!$J$3:$J$156,0)","v":18},"4×100"]
[null,null,null,0,null,0,null,0,0,{"$f":"RANK(I164,Egyéni!$J$3:$J$156,0)","v":18},{"$f":"IF(L163<leány!$D$2,0,VLOOKUP(L163,hfut,3,TRUE))","v":0}]
[]
[]
[null,null,null,null,null,null,null,null,null,null,{"$f":"RANK(K169,Csapat!$C$3:P170,0)","v":4}]
["Név","Sz.év","60 m",null,"Távolugrás",null,"Klabdahajítás",null,"Összpont","Helyezés"]
[null,null,null,{"$f":"IF(C169<6.19,0,VLOOKUP(C169,rfut,5,TRUE))","v":0},null,{"$f":"IF(E169<1.79,0,VLOOKUP(E169,távol,4,TRUE))","v":0},null,{"$f":"IF(G169<4,0,VLOOKUP(G169,kisl,2,TRUE))","v":0},{"$f":"SUM(D169,F169,H169)","v":0},{"$f":"RANK(I169,Egyéni!$J$3:$J$156,0)","v":18},{"$f":"SUM(I169:I174)-MIN(I169:I174)+K174","v":0}]
[null,null,null,0,null,0,null,0,0,{"$f":"RANK(I170,Egyéni!$J$3:$J$156,0)","v":18}]
[null,null,null,0,null,0,null,0,0,{"$f":"RANK(I171,Egyéni!$J$3:$J$156,0)","v":18}]
[null,null,null,0,null,0,null,0,0,{"$f":"RANK(I172,Egyéni!$J$3:$J$156,0)","v":18}]
[null,null,null,0,null,0,null,0,0,{"$f":"RANK(I173,Egyéni!$J$3:$J$156,0)","v":18},"4×100"]
[null,null,null,0,null,0,null,0,0,{"$f":"RANK(I174,Egyéni!$J$3:$J$156,0)","v":18},{"$f":"IF(L173<leány!$D$2,0,VLOOKUP(L173,hfut,3,TRUE))","v":0}]
[]
[]
[null,null,null,null,null,null,null,null,null,null,{"$f":"RANK(K179,Csapat!$C$3:P180,0)","v":4}]
["Név","Sz.év","60 m",null,"Távolugrás",null,"Klabdahajítás",null,"Összpont","Helyezés"]
[null,null,null,{"$f":"IF(C179<6.19,0,VLOOKUP(C179,rfut,5,TRUE))","v":0},null,{"$f":"IF(E179<1.79,0,VLOOKUP(E179,távol,4,TRUE))","v":0},null,{"$f":"IF(G179<4,0,VLOOKUP(G179,kisl,2,TRUE))","v":0},{"$f":"SUM(D179,F179,H179)","v":0},{"$f":"RANK(I179,Egyéni!$J$3:$J$156,0)","v":18},{"$f":"SUM(I179:I184)-MIN(I179:I184)+K184","v":0}]
[null,null,null,0,null,0,null,0,0,{"$f":"RANK(I180,Egyéni!$J$3:$J$156,0)","v":18}]
[null,null,null,0,null,0,null,0,0,{"$f":"RANK(I181,Egyéni!$J$3:$J$156,0)","v":18}]
[null,null,null,0,null,0,null,0,0,{"$f":"RANK(I182,Egyéni!$J$3:$J$156,0)","v":18}]
[null,null,null,0,null,0,null,0,0,{"$f":"RANK(I183,Egyéni!$J$3:$J$156,0)","v":18},"4×100"]
[null,null,null,0,null,0,null,0,0,{"$f":"RANK(I184,Egyéni!$J$3:$J$156,0)","v":18},{"$f":"IF(L183<leány!$D$2,0,VLOOKUP(L183,hfut,3,TRUE))","v":0}]
[]
[]
[null,null,null,null,null,null,null,null,null,null,{"$f":"RANK(K189,Csapat!$C$3:P190,0)","v":4}]
["Név","Sz.év","60 m",null,"Távolugrás",null,"Klabdahajítás",null,"Összpont","Helyezés"]
[null,null,null,{"$f":"IF(C189<6.19,0,VLOOKUP(C189,rfut,5,TRUE))","v":0},null,{"$f":"IF(E189<1.79,0,VLOOKUP(E189,távol,4,TRUE))","v":0},null,{"$f":"IF(G189<4,0,VLOOKUP(G189,kisl,2,TRUE))","v":0},{"$f":"SUM(D189,F189,H189)","v":0},{"$f":"RANK(I189,Egyéni!$J$3:$J$156,0)","v":18},{"$f":"SUM(I189:I194)-MIN(I189:I194)+K194","v":0}]
[null,null,null,0,null,0,null,0,0,{"$f":"RANK(I190,Egyéni!$J$3:$J$156,0)","v":18}]
[null,null,null,0,null,0,null,0,0,{"$f":"RANK(I191,Egyéni!$J$3:$J$156,0)","v":18}]
[null,null,null,0,null,0,null,0,0,{"$f":"RANK(I192,Egyéni!$J$3:$J$156,0)","v":18}]
[null,null,null,0,null,0,null,0,0,{"$f":"RANK(I193,Egyéni!$J$3:$J$156,0)","v":18},"4×100"]
[null,null,null,0,null,0,null,0,0,{"$f":"RANK(I194,Egyéni!$J$3:$J$156,0)","v":18},{"$f":"IF(L193<leány!$D$2,0,VLOOKUP(L193,hfut,3,TRUE))","v":0}]
[]
[]
[null,null,null,null,null,null,null,null,null,null,{"$f":"RANK(K199,Csapat!$C$3:P200,0)","v":4}]
["Név","Sz.év","60 m",null,"Távolugrás",null,"Klabdahajítás",null,"Összpont","Helyezés"]
[null,null,null,{"$f":"IF(C199<6.19,0,VLOOKUP(C199,rfut,5,TRUE))","v":0},null,{"$f":"IF(E199<1.79,0,VLOOKUP(E199,távol,4,TRUE))","v":0},null,{"$f":"IF(G199<4,0,VLOOKUP(G199,kisl,2,TRUE))","v":0},{"$f":"SUM(D199,F199,H199)","v":0},{"$f":"RANK(I199,Egyéni!$J$3:$J$156,0)","v":18},{"$f":"SUM(I199:I204)-MIN(I199:I204)+K204","v":0}]
[null,null,null,0,null,0,null,0,0,{"$f":"RANK(I200,Egyéni!$J$3:$J$156,0)","v":18}]
[null,null,null,0,null,0,null,0,0,{"$f":"RANK(I201,Egyéni!$J$3:$J$156,0)","v":18}]
[null,null,null,0,null,0,null,0,0,{"$f":"RANK(I202,Egyéni!$J$3:$J$156,0)","v":18}]
[null,null,null,0,null,0,null,0,0,{"$f":"RANK(I203,Egyéni!$J$3:$J$156,0)","v":18},"4×100"]
[null,null,null,0,null,0,null,0,0,{"$f":"RANK(I204,Egyéni!$J$3:$J$156,0)","v":18},{"$f":"IF(L203<leány!$D$2,0,VLOOKUP(L203,hfut,3,TRUE))","v":0}]
[]
[]
[null,null,null,null,null,null,null,null,null,null,{"$f":"RANK(K209,Csapat!$C$3:P210,0)","v":4}]
["Név","Sz.év","60 m",null,"Távolugrás",null,"Klabdahajítás",null,"Összpont","Helyezés"]
[null,null,null,{"$f":"IF(C209<6.19,0,VLOOKUP(C209,rfut,5,TRUE))","v":0},null,{"$f":"IF(E209<1.79,0,VLOOKUP(E209,távol,4,TRUE))","v":0},null,{"$f":"IF(G209<4,0,VLOOKUP(G209,kisl,2,TRUE))","v":0},{"$f":"SUM(D209,F209,H209)","v":0},{"$f":"RANK(I209,Egyéni!$J$3:$J$156,0)","v":18},{"$f":"SUM(I209:I214)-MIN(I209:I214)+K214","v":0}]
[null,null,null,0,null,0,null,0,0,{"$f":"RANK(I210,Egyéni!$J$3:$J$156,0)","v":18}]
[null,null,null,0,null,0,null,0,0,{"$f":"RANK(I211,Egyéni!$J$3:$J$156,0)","v":18}]
[null,null,null,0,null,0,null,0,0,{"$f":"RANK(I212,Egyéni!$J$3:$J$156,0)","v":18}]
[null,null,null,0,null,0,null,0,0,{"$f":"RANK(I213,Egyéni!$J$3:$J$156,0)","v":18},"4×100"]
[null,null,null,0,null,0,null,0,0,{"$f":"RANK(I214,Egyéni!$J$3:$J$156,0)","v":18},{"$f":"IF(L213<leány!$D$2,0,VLOOKUP(L213,hfut,3,TRUE))","v":0}]
[]
[]
[null,null,null,null,null,null,null,null,null,null,{"$f":"RANK(K219,Csapat!$C$3:P220,0)","v":4}]
["Név","Sz.év","60 m",null,"Távolugrás",null,"Klabdahajítás",null,"Összpont","Helyezés"]
[null,null,null,{"$f":"IF(C219<6.19,0,VLOOKUP(C219,rfut,5,TRUE))","v":0},null,{"$f":"IF(E219<1.79,0,VLOOKUP(E219,távol,4,TRUE))","v":0},null,{"$f":"IF(G219<4,0,VLOOKUP(G219,kisl,2,TRUE))","v":0},{"$f":"SUM(D219,F219,H219)","v":0},{"$f":"RANK(I219,Egyéni!$J$3:$J$156,0)","v":18},{"$f":"SUM(I219:I224)-MIN(I219:I224)+K224","v":0}]
[null,null,null,0,null,0,null,0,0,{"$f":"RANK(I220,Egyéni!$J$3:$J$156,0)","v":18}]
[null,null,null,0,null,0,null,0,0,{"$f":"RANK(I221,Egyéni!$J$3:$J$156,0)","v":18}]
[null,null,null,0,null,0,null,0,0,{"$f":"RANK(I222,Egyéni!$J$3:$J$156,0)","v":18}]
[null,null,null,0,null,0,null,0,0,{"$f":"RANK(I223,Egyéni!$J$3:$J$156,0)","v":18},"4×100"]
[null,null,null,0,null,0,null,0,0,{"$f":"RANK(I224,Egyéni!$J$3:$J$156,0)","v":18},{"$f":"IF(L223<leány!$D$2,0,VLOOKUP(L223,hfut,3,TRUE))","v":0}]
[]
[]
[null,null,null,null,null,null,null,null,null,null,{"$f":"RANK(K229,Csapat!$C$3:P230,0)","v":4}]
["Név","Sz.év","60 m",null,"Távolugrás",null,"Klabdahajítás",null,"Összpont","Helyezés"]
[null,null,null,{"$f":"IF(C229<6.19,0,VLOOKUP(C229,rfut,5,TRUE))","v":0},null,{"$f":"IF(E229<1.79,0,VLOOKUP(E229,távol,4,TRUE))","v":0},null,{"$f":"IF(G229<4,0,VLOOKUP(G229,kisl,2,TRUE))","v":0},{"$f":"SUM(D229,F229,H229)","v":0},{"$f":"RANK(I229,Egyéni!$J$3:$J$156,0)","v":18},{"$f":"SUM(I229:I234)-MIN(I229:I234)+K234","v":0}]
[null,null,null,0,null,0,null,0,0,{"$f":"RANK(I230,Egyéni!$J$3:$J$156,0)","v":18}]
[null,null,null,0,null,0,null,0,0,{"$f":"RANK(I231,Egyéni!$J$3:$J$156,0)","v":18}]
[null,null,null,0,null,0,null,0,0,{"$f":"RANK(I232,Egyéni!$J$3:$J$156,0)","v":18}]
[null,null,null,0,null,0,null,0,0,{"$f":"RANK(I233,Egyéni!$J$3:$J$156,0)","v":18},"4×100"]
[null,null,null,0,null,0,null,0,0,{"$f":"RANK(I234,Egyéni!$J$3:$J$156,0)","v":18},{"$f":"IF(L233<leány!$D$2,0,VLOOKUP(L233,hfut,3,TRUE))","v":0}]
[]
[]
[null,null,null,null,null,null,null,null,null,null,{"$f":"RANK(K239,Csapat!$C$3:P240,0)","v":4}]
["Név","Sz.év","60 m",null,"Távolugrás",null,"Klabdahajítás",null,"Összpont","Helyezés"]
[null,null,null,{"$f":"IF(C239<6.19,0,VLOOKUP(C239,rfut,5,TRUE))","v":0},null,{"$f":"IF(E239<1.79,0,VLOOKUP(E239,távol,4,TRUE))","v":0},null,{"$f":"IF(G239<4,0,VLOOKUP(G239,kisl,2,TRUE))","v":0},{"$f":"SUM(D239,F239,H239)","v":0},{"$f":"RANK(I239,Egyéni!$J$3:$J$156,0)","v":18},{"$f":"SUM(I239:I244)-MIN(I239:I244)+K244","v":0}]
[null,null,null,0,null,0,null,0,0,{"$f":"RANK(I240,Egyéni!$J$3:$J$156,0)","v":18}]
[null,null,null,0,null,0,null,0,0,{"$f":"RANK(I241,Egyéni!$J$3:$J$156,0)","v":18}]
[null,null,null,0,null,0,null,0,0,{"$f":"RANK(I242,Egyéni!$J$3:$J$156,0)","v":18}]
[null,null,null,0,null,0,null,0,0,{"$f":"RANK(I243,Egyéni!$J$3:$J$156,0)","v":18},"4×100"]
[null,null,null,0,null,0,null,0,0,{"$f":"RANK(I244,Egyéni!$J$3:$J$156,0)","v":18},{"$f":"IF(L243<leány!$D$2,0,VLOOKUP(L243,hfut,3,TRUE))","v":0}]

{"sheet":"Egyéni","index":2,"n_rows":156,"n_cols":12,"rows_kept":156,"cut":false,"hidden":false,"merged":[[0,0,0,11]]}
["II. korcsoport LEÁNY EGYÉNI végeredmény (Rendezés Ctrl + d )"]
["Ssz","Név","Szév","60 m","p","T","p","Kisl","p","Összp",null,"Iskola"]
["1.",{"$f":"Be!A33","v":"Németh Borbála"},{"$f":"Be!B33","v":2007},{"$f":"Be!C33","v":10.25},{"$f":"Be!D33","v":127},{"$f":"Be!E33","v":3},{"$f":"Be!F33","v":66},{"$f":"Be!G33","v":18.55},{"$f":"Be!H33","v":52},{"$f":"Be!I33","v":245},null,{"$f":"Be!A27","v":"Maglódi Vermessy Péter Általános Iskola"}]
["2.",{"$f":"Be!A44","v":"Rettegi Tímea"},{"$f":"Be!B44","v":2008},{"$f":"Be!C44","v":11.2},{"$f":"Be!D44","v":87},{"$f":"Be!E44","v":2.88},{"$f":"Be!F44","v":59},{"$f":"Be!G44","v":26.7},{"$f":"Be!H44","v":84},{"$f":"Be!I44","v":230},null,{"$f":"Be!A37","v":"Jászai Mari Általános Iskola Monor"}]
["3.",{"$f":"Be!A39","v":"Félix Viktória"},{"$f":"Be!B39","v":2008},{"$f":"Be!C39","v":10.98},{"$f":"Be!D39","v":96},{"$f":"Be!E39","v":2.8},{"$f":"Be!F39","v":54},{"$f":"Be!G39","v":21.9},{"$f":"Be!H39","v":65},{"$f":"Be!I39","v":215},null,{"$f":"Be!A37","v":"Jászai Mari Általános Iskola Monor"}]
["4.",{"$f":"Be!A41","v":"Bock Luca"},{"$f":"Be!B41","v":2007},{"$f":"Be!C41","v":10.31},{"$f":"Be!D41","v":125},{"$f":"Be!E41","v":2.8},{"$f":"Be!F41","v":54},{"$f":"Be!G41","v":13.7},{"$f":"Be!H41","v":34},{"$f":"Be!I41","v":213},null,{"$f":"Be!A37","v":"Jászai Mari Általános Iskola Monor"}]
["5.",{"$f":"Be!A32","v":"Vince Kamilla"},{"$f":"Be!B32","v":2008},{"$f":"Be!C32","v":10.54},{"$f":"Be!D32","v":115},{"$f":"Be!E32","v":3},{"$f":"Be!F32","v":66},{"$f":"Be!G32","v":12.55},{"$f":"Be!H32","v":30},{"$f":"Be!I32","v":211},null,{"$f":"Be!A27","v":"Maglódi Vermessy Péter Általános Iskola"}]
["6.",{"$f":"Be!A42","v":"Eöllös Emma"},{"$f":"Be!B42","v":2008},{"$f":"Be!C42","v":10.61},{"$f":"Be!D42","v":112},{"$f":"Be!E42","v":2.7},{"$f":"Be!F42","v":48},{"$f":"Be!G42","v":15},{"$f":"Be!H42","v":39},{"$f":"Be!I42","v":199},null,{"$f":"Be!A37","v":"Jászai Mari Általános Iskola Monor"}]
["7.",{"$f":"Be!A54","v":"Vrábel Molli"},{"$f":"Be!B54","v":2007},{"$f":"Be!C54","v":11.2},{"$f":"Be!D54","v":87},{"$f":"Be!E54","v":2.7},{"$f":"Be!F54","v":48},{"$f":"Be!G54","v":21.6},{"$f":"Be!H54","v":64},{"$f":"Be!I54","v":199},null,{"$f":"Be!A47","v":"Mende"}]
["8.",{"$f":"Be!A43","v":"Magócsi Eszter"},{"$f":"Be!B43","v":2007},{"$f":"Be!C43","v":11.66},{"$f":"Be!D43","v":69},{"$f":"Be!E43","v":2.9},{"$f":"Be!F43","v":60},{"$f":"Be!G43","v":17.899999999999999},{"$f":"Be!H43","v":49},{"$f":"Be!I43","v":178},null,{"$f":"Be!A37","v":"Jászai Mari Általános Iskola Monor"}]
["9.",{"$f":"Be!A50","v":"Kernya Zoé"},{"$f":"Be!B50","v":2007},{"$f":"Be!C50","v":10.93},{"$f":"Be!D50","v":98},{"$f":"Be!E50","v":2.56},{"$f":"Be!F50","v":40},{"$f":"Be!G50","v":15.2},{"$f":"Be!H50","v":40},{"$f":"Be!I50","v":178},null,{"$f":"Be!A47","v":"Mende"}]
["10.",{"$f":"Be!A30","v":"Sotónyi Lili"},{"$f":"Be!B30","v":2007},{"$f":"Be!C30","v":11.27},{"$f":"Be!D30","v":84},{"$f":"Be!E30","v":2.66},{"$f":"Be!F30","v":46},{"$f":"Be!G30","v":14.9},{"$f":"Be!H30","v":39},{"$f":"Be!I30","v":169},null,{"$f":"Be!A27","v":"Maglódi Vermessy Péter Általános Iskola"}]
["11.",{"$f":"Be!A29","v":"Forgó Dorottya"},{"$f":"Be!B29","v":2007},{"$f":"Be!C29","v":11.76},{"$f":"Be!D29","v":65},{"$f":"Be!E29","v":2.6},{"$f":"Be!F29","v":42},{"$f":"Be!G29","v":20.45},{"$f":"Be!H29","v":59},{"$f":"Be!I29","v":166},null,{"$f":"Be!A27","v":"Maglódi Vermessy Péter Általános Iskola"}]
["12.",{"$f":"Be!A40","v":"Neuwelt Petra"},{"$f":"Be!B40","v":2007},{"$f":"Be!C40","v":11.58},{"$f":"Be!D40","v":72},{"$f":"Be!E40","v":2.7},{"$f":"Be!F40","v":48},{"$f":"Be!G40","v":16.600000000000001},{"$f":"Be!H40","v":45},{"$f":"Be!I40","v":165},null,{"$f":"Be!A37","v":"Jászai Mari Általános Iskola Monor"}]
["13.",{"$f":"Be!A49","v":"Ádám Anna"},{"$f":"Be!B49","v":2007},{"$f":"Be!C49","v":11.68},{"$f":"Be!D49","v":68},{"$f":"Be!E49","v":2.63},{"$f":"Be!F49","v":44},{"$f":"Be!G49","v":18.399999999999999},{"$f":"Be!H49","v":51},{"$f":"Be!I49","v":163},null,{"$f":"Be!A47","v":"Mende"}]
["14.",{"$f":"Be!A31","v":"Vetési Dóra"},{"$f":"Be!B31","v":2007},{"$f":"Be!C31","v":12.04},{"$f":"Be!D31","v":53},{"$f":"Be!E31","v":2.95},{"$f":"Be!F31","v":63},{"$f":"Be!G31","v":16.7},{"$f":"Be!H31","v":45},{"$f":"Be!I31","v":161},null,{"$f":"Be!A27","v":"Maglódi Vermessy Péter Általános Iskola"}]
["15.",{"$f":"Be!A52","v":"Turczer Jázmin "},{"$f":"Be!B52","v":2008},{"$f":"Be!C52","v":10.57},{"$f":"Be!D52","v":113},{"$f":"Be!E52","v":2.29},{"$f":"Be!F52","v":26},{"$f":"Be!G52","v":6.3},{"$f":"Be!H52","v":8},{"$f":"Be!I52","v":147},null,{"$f":"Be!A47","v":"Mende"}]
["16.",{"$f":"Be!A53","v":"Vidák Klarissza"},{"$f":"Be!B53","v":2008},{"$f":"Be!C53","v":12.32},{"$f":"Be!D53","v":43},{"$f":"Be!E53","v":2.78},{"$f":"Be!F53","v":53},{"$f":"Be!G53","v":16.149999999999999},{"$f":"Be!H53","v":43},{"$f":"Be!I53","v":139},null,{"$f":"Be!A47","v":"Mende"}]
["17.",{"$f":"Be!A51","v":"Renecz Ramóna"},{"$f":"Be!B51","v":2008},{"$f":"Be!C51","v":12.25},{"$f":"Be!D51","v":45},{"$f":"Be!E51","v":2},{"$f":"Be!F51","v":10},{"$f":"Be!G51","v":13.5},{"$f":"Be!H51","v":34},{"$f":"Be!I51","v":89},null,{"$f":"Be!A47","v":"Mende"}]
["18.",{"$f":"Be!A4","v":0},{"$f":"Be!B4","v":0},{"$f":"Be!C4","v":0},{"$f":"Be!D4","v":0},{"$f":"Be!E4","v":0},{"$f":"Be!F4","v":0},{"$f":"Be!G4","v":0},{"$f":"Be!H4","v":0},{"$f":"Be!I4","v":0},null,{"$f":"Be!K4","v":0}]
["19.",{"$f":"Be!A5","v":0},{"$f":"Be!B5","v":0},{"$f":"Be!C5","v":0},{"$f":"Be!D5","v":0},{"$f":"Be!E5","v":0},{"$f":"Be!F5","v":0},{"$f":"Be!G5","v":0},{"$f":"Be!H5","v":0},{"$f":"Be!I5","v":0},null,{"$f":"Be!K5","v":0}]
["20.",{"$f":"Be!A6","v":0},{"$f":"Be!B6","v":0},{"$f":"Be!C6","v":0},{"$f":"Be!D6","v":0},{"$f":"Be!E6","v":0},{"$f":"Be!F6","v":0},{"$f":"Be!G6","v":0},{"$f":"Be!H6","v":0},{"$f":"Be!I6","v":0},null,{"$f":"Be!K6","v":0}]
["21.",{"$f":"Be!A7","v":0},{"$f":"Be!B7","v":0},{"$f":"Be!C7","v":0},{"$f":"Be!D7","v":0},{"$f":"Be!E7","v":0},{"$f":"Be!F7","v":0},{"$f":"Be!G7","v":0},{"$f":"Be!H7","v":0},{"$f":"Be!I7","v":0},null,{"$f":"Be!K7","v":0}]
["22.",{"$f":"Be!A8","v":0},{"$f":"Be!B8","v":0},{"$f":"Be!C8","v":0},{"$f":"Be!D8","v":0},{"$f":"Be!E8","v":0},{"$f":"Be!F8","v":0},{"$f":"Be!G8","v":0},{"$f":"Be!H8","v":0},{"$f":"Be!I8","v":0},null,{"$f":"Be!K8","v":0}]
["23.",{"$f":"Be!A9","v":0},{"$f":"Be!B9","v":0},{"$f":"Be!C9","v":0},{"$f":"Be!D9","v":0},{"$f":"Be!E9","v":0},{"$f":"Be!F9","v":0},{"$f":"Be!G9","v":0},{"$f":"Be!H9","v":0},{"$f":"Be!I9","v":0},null,{"$f":"Be!K9","v":0}]
["24.",{"$f":"Be!A10","v":0},{"$f":"Be!B10","v":0},{"$f":"Be!C10","v":0},{"$f":"Be!D10","v":0},{"$f":"Be!E10","v":0},{"$f":"Be!F10","v":0},{"$f":"Be!G10","v":0},{"$f":"Be!H10","v":0},{"$f":"Be!I10","v":0},null,{"$f":"Be!K10","v":0}]
["25.",{"$f":"Be!A11","v":0},{"$f":"Be!B11","v":0},{"$f":"Be!C11","v":0},{"$f":"Be!D11","v":0},{"$f":"Be!E11","v":0},{"$f":"Be!F11","v":0},{"$f":"Be!G11","v":0},{"$f":"Be!H11","v":0},{"$f":"Be!I11","v":0},null,{"$f":"Be!K11","v":0}]
["26.",{"$f":"Be!A12","v":0},{"$f":"Be!B12","v":0},{"$f":"Be!C12","v":0},{"$f":"Be!D12","v":0},{"$f":"Be!E12","v":0},{"$f":"Be!F12","v":0},{"$f":"Be!G12","v":0},{"$f":"Be!H12","v":0},{"$f":"Be!I12","v":0},null,{"$f":"Be!K12","v":0}]
["27.",{"$f":"Be!A13","v":0},{"$f":"Be!B13","v":0},{"$f":"Be!C13","v":0},{"$f":"Be!D13","v":0},{"$f":"Be!E13","v":0},{"$f":"Be!F13","v":0},{"$f":"Be!G13","v":0},{"$f":"Be!H13","v":0},{"$f":"Be!I13","v":0},null,{"$f":"Be!K13","v":0}]
["28.",{"$f":"Be!A14","v":0},{"$f":"Be!B14","v":0},{"$f":"Be!C14","v":0},{"$f":"Be!D14","v":0},{"$f":"Be!E14","v":0},{"$f":"Be!F14","v":0},{"$f":"Be!G14","v":0},{"$f":"Be!H14","v":0},{"$f":"Be!I14","v":0},null,{"$f":"Be!K14","v":0}]
["29.",{"$f":"Be!A15","v":0},{"$f":"Be!B15","v":0},{"$f":"Be!C15","v":0},{"$f":"Be!D15","v":0},{"$f":"Be!E15","v":0},{"$f":"Be!F15","v":0},{"$f":"Be!G15","v":0},{"$f":"Be!H15","v":0},{"$f":"Be!I15","v":0},null,{"$f":"Be!K15","v":0}]
["30.",{"$f":"Be!A16","v":0},{"$f":"Be!B16","v":0},{"$f":"Be!C16","v":0},{"$f":"Be!D16","v":0},{"$f":"Be!E16","v":0},{"$f":"Be!F16","v":0},{"$f":"Be!G16","v":0},{"$f":"Be!H16","v":0},{"$f":"Be!I16","v":0},null,{"$f":"Be!K16","v":0}]
["31.",{"$f":"Be!A17","v":0},{"$f":"Be!B17","v":0},{"$f":"Be!C17","v":0},{"$f":"Be!D17","v":0},{"$f":"Be!E17","v":0},{"$f":"Be!F17","v":0},{"$f":"Be!G17","v":0},{"$f":"Be!H17","v":0},{"$f":"Be!I17","v":0},null,{"$f":"Be!K17","v":0}]
["32.",{"$f":"Be!A18","v":0},{"$f":"Be!B18","v":0},{"$f":"Be!C18","v":0},{"$f":"Be!D18","v":0},{"$f":"Be!E18","v":0},{"$f":"Be!F18","v":0},{"$f":"Be!G18","v":0},{"$f":"Be!H18","v":0},{"$f":"Be!I18","v":0},null,{"$f":"Be!K18","v":0}]
["33.",{"$f":"Be!A19","v":0},{"$f":"Be!B19","v":0},{"$f":"Be!C19","v":0},{"$f":"Be!D19","v":0},{"$f":"Be!E19","v":0},{"$f":"Be!F19","v":0},{"$f":"Be!G19","v":0},{"$f":"Be!H19","v":0},{"$f":"Be!I19","v":0},null,{"$f":"Be!K19","v":0}]
["34.",{"$f":"Be!A20","v":0},{"$f":"Be!B20","v":0},{"$f":"Be!C20","v":0},{"$f":"Be!D20","v":0},{"$f":"Be!E20","v":0},{"$f":"Be!F20","v":0},{"$f":"Be!G20","v":0},{"$f":"Be!H20","v":0},{"$f":"Be!I20","v":0},null,{"$f":"Be!K20","v":0}]
["35.",{"$f":"Be!A21","v":0},{"$f":"Be!B21","v":0},{"$f":"Be!C21","v":0},{"$f":"Be!D21","v":0},{"$f":"Be!E21","v":0},{"$f":"Be!F21","v":0},{"$f":"Be!G21","v":0},{"$f":"Be!H21","v":0},{"$f":"Be!I21","v":0},null,{"$f":"Be!K21","v":0}]
["36.",{"$f":"Be!A22","v":0},{"$f":"Be!B22","v":0},{"$f":"Be!C22","v":0},{"$f":"Be!D22","v":0},{"$f":"Be!E22","v":0},{"$f":"Be!F22","v":0},{"$f":"Be!G22","v":0},{"$f":"Be!H22","v":0},{"$f":"Be!I22","v":0},null,{"$f":"Be!K22","v":0}]
["37.",{"$f":"Be!A23","v":0},{"$f":"Be!B23","v":0},{"$f":"Be!C23","v":0},{"$f":"Be!D23","v":0},{"$f":"Be!E23","v":0},{"$f":"Be!F23","v":0},{"$f":"Be!G23","v":0},{"$f":"Be!H23","v":0},{"$f":"Be!I23","v":0},null,{"$f":"Be!K23","v":0}]
["38.",{"$f":"Be!A24","v":0},{"$f":"Be!B24","v":0},{"$f":"Be!C24","v":0},{"$f":"Be!D24","v":0},{"$f":"Be!E24","v":0},{"$f":"Be!F24","v":0},{"$f":"Be!G24","v":0},{"$f":"Be!H24","v":0},{"$f":"Be!I24","v":0},null,{"$f":"Be!K24","v":0}]
["39.",{"$f":"Be!A25","v":0},{"$f":"Be!B25","v":0},{"$f":"Be!C25","v":0},{"$f":"Be!D25","v":0},{"$f":"Be!E25","v":0},{"$f":"Be!F25","v":0},{"$f":"Be!G25","v":0},{"$f":"Be!H25","v":0},{"$f":"Be!I25","v":0},null,{"$f":"Be!K25","v":0}]
["40.",{"$f":"Be!A34","v":0},{"$f":"Be!B34","v":0},{"$f":"Be!C34","v":0},{"$f":"Be!D34","v":0},{"$f":"Be!E34","v":0},{"$f":"Be!F34","v":0},{"$f":"Be!G34","v":0},{"$f":"Be!H34","v":0},{"$f":"Be!I34","v":0},null,{"$f":"Be!A27","v":"Maglódi Vermessy Péter Általános Iskola"}]
["41.",{"$f":"Be!A59","v":0},{"$f":"Be!B59","v":0},{"$f":"Be!C59","v":0},{"$f":"Be!D59","v":0},{"$f":"Be!E59","v":0},{"$f":"Be!F59","v":0},{"$f":"Be!G59","v":0},{"$f":"Be!H59","v":0},{"$f":"Be!I59","v":0},null,{"$f":"Be!A57","v":0}]
["42.",{"$f":"Be!A60","v":0},{"$f":"Be!B60","v":0},{"$f":"Be!C60","v":0},{"$f":"Be!D60","v":0},{"$f":"Be!E60","v":0},{"$f":"Be!F60","v":0},{"$f":"Be!G60","v":0},{"$f":"Be!H60","v":0},{"$f":"Be!I60","v":0},null,{"$f":"Be!A57","v":0}]
["43.",{"$f":"Be!A61","v":0},{"$f":"Be!B61","v":0},{"$f":"Be!C61","v":0},{"$f":"Be!D61","v":0},{"$f":"Be!E61","v":0},{"$f":"Be!F61","v":0},{"$f":"Be!G61","v":0},{"$f":"Be!H61","v":0},{"$f":"Be!I61","v":0},null,{"$f":"Be!A57","v":0}]
["44.",{"$f":"Be!A62","v":0},{"$f":"Be!B62","v":0},{"$f":"Be!C62","v":0},{"$f":"Be!D62","v":0},{"$f":"Be!E62","v":0},{"$f":"Be!F62","v":0},{"$f":"Be!G62","v":0},{"$f":"Be!H62","v":0},{"$f":"Be!I62","v":0},null,{"$f":"Be!A57","v":0}]
["45.",{"$f":"Be!A63","v":0},{"$f":"Be!B63","v":0},{"$f":"Be!C63","v":0},{"$f":"Be!D63","v":0},{"$f":"Be!E63","v":0},{"$f":"Be!F63","v":0},{"$f":"Be!G63","v":0},{"$f":"Be!H63","v":0},{"$f":"Be!I63","v":0},null,{"$f":"Be!A57","v":0}]
["46.",{"$f":"Be!A64","v":0},{"$f":"Be!B64","v":0},{"$f":"Be!C64","v":0},{"$f":"Be!D64","v":0},{"$f":"Be!E64","v":0},{"$f":"Be!F64","v":0},{"$f":"Be!G64","v":0},{"$f":"Be!H64","v":0},{"$f":"Be!I64","v":0},null,{"$f":"Be!A57","v":0}]
["47.",{"$f":"Be!A69","v":0},{"$f":"Be!B69","v":0},{"$f":"Be!C69","v":0},{"$f":"Be!D69","v":0},{"$f":"Be!E69","v":0},{"$f":"Be!F69","v":0},{"$f":"Be!G69","v":0},{"$f":"Be!H69","v":0},{"$f":"Be!I69","v":0},null,{"$f":"Be!A67","v":0}]
["48.",{"$f":"Be!A70","v":0},{"$f":"Be!B70","v":0},{"$f":"Be!C70","v":0},{"$f":"Be!D70","v":0},{"$f":"Be!E70","v":0},{"$f":"Be!F70","v":0},{"$f":"Be!G70","v":0},{"$f":"Be!H70","v":0},{"$f":"Be!I70","v":0},null,{"$f":"Be!A67","v":0}]
["49.",{"$f":"Be!A71","v":0},{"$f":"Be!B71","v":0},{"$f":"Be!C71","v":0},{"$f":"Be!D71","v":0},{"$f":"Be!E71","v":0},{"$f":"Be!F71","v":0},{"$f":"Be!G71","v":0},{"$f":"Be!H71","v":0},{"$f":"Be!I71","v":0},null,{"$f":"Be!A67","v":0}]
["50.",{"$f":"Be!A72","v":0},{"$f":"Be!B72","v":0},{"$f":"Be!C72","v":0},{"$f":"Be!D72","v":0},{"$f":"Be!E72","v":0},{"$f":"Be!F72","v":0},{"$f":"Be!G72","v":0},{"$f":"Be!H72","v":0},{"$f":"Be!I72","v":0},null,{"$f":"Be!A67","v":0}]
["51.",{"$f":"Be!A73","v":0},{"$f":"Be!B73","v":0},{"$f":"Be!C73","v":0},{"$f":"Be!D73","v":0},{"$f":"Be!E73","v":0},{"$f":"Be!F73","v":0},{"$f":"Be!G73","v":0},{"$f":"Be!H73","v":0},{"$f":"Be!I73","v":0},null,{"$f":"Be!A67","v":0}]
["52.",{"$f":"Be!A74","v":0},{"$f":"Be!B74","v":0},{"$f":"Be!C74","v":0},{"$f":"Be!D74","v":0},{"$f":"Be!E74","v":0},{"$f":"Be!F74","v":0},{"$f":"Be!G74","v":0},{"$f":"Be!H74","v":0},{"$f":"Be!I74","v":0},null,{"$f":"Be!A67","v":0}]
["53.",{"$f":"Be!A79","v":0},{"$f":"Be!B79","v":0},{"$f":"Be!C79","v":0},{"$f":"Be!D79","v":0},{"$f":"Be!E79","v":0},{"$f":"Be!F79","v":0},{"$f":"Be!G79","v":0},{"$f":"Be!H79","v":0},{"$f":"Be!I79","v":0},null,{"$f":"Be!A77","v":0}]
["54.",{"$f":"Be!A80","v":0},{"$f":"Be!B80","v":0},{"$f":"Be!C80","v":0},{"$f":"Be!D80","v":0},{"$f":"Be!E80","v":0},{"$f":"Be!F80","v":0},{"$f":"Be!G80","v":0},{"$f":"Be!H80","v":0},{"$f":"Be!I80","v":0},null,{"$f":"Be!A77","v":0}]
["55.",{"$f":"Be!A81","v":0},{"$f":"Be!B81","v":0},{"$f":"Be!C81","v":0},{"$f":"Be!D81","v":0},{"$f":"Be!E81","v":0},{"$f":"Be!F81","v":0},{"$f":"Be!G81","v":0},{"$f":"Be!H81","v":0},{"$f":"Be!I81","v":0},null,{"$f":"Be!A77","v":0}]
["56.",{"$f":"Be!A82","v":0},{"$f":"Be!B82","v":0},{"$f":"Be!C82","v":0},{"$f":"Be!D82","v":0},{"$f":"Be!E82","v":0},{"$f":"Be!F82","v":0},{"$f":"Be!G82","v":0},{"$f":"Be!H82","v":0},{"$f":"Be!I82","v":0},null,{"$f":"Be!A77","v":0}]
["57.",{"$f":"Be!A83","v":0},{"$f":"Be!B83","v":0},{"$f":"Be!C83","v":0},{"$f":"Be!D83","v":0},{"$f":"Be!E83","v":0},{"$f":"Be!F83","v":0},{"$f":"Be!G83","v":0},{"$f":"Be!H83","v":0},{"$f":"Be!I83","v":0},null,{"$f":"Be!A77","v":0}]
["58.",{"$f":"Be!A84","v":0},{"$f":"Be!B84","v":0},{"$f":"Be!C84","v":0},{"$f":"Be!D84","v":0},{"$f":"Be!E84","v":0},{"$f":"Be!F84","v":0},{"$f":"Be!G84","v":0},{"$f":"Be!H84","v":0},{"$f":"Be!I84","v":0},null,{"$f":"Be!A77","v":0}]
["59.",{"$f":"Be!A89","v":0},{"$f":"Be!B89","v":0},{"$f":"Be!C89","v":0},{"$f":"Be!D89","v":0},{"$f":"Be!E89","v":0},{"$f":"Be!F89","v":0},{"$f":"Be!G89","v":0},{"$f":"Be!H89","v":0},{"$f":"Be!I89","v":0},null,{"$f":"Be!A87","v":0}]
["60.",{"$f":"Be!A90","v":0},{"$f":"Be!B90","v":0},{"$f":"Be!C90","v":0},{"$f":"Be!D90","v":0},{"$f":"Be!E90","v":0},{"$f":"Be!F90","v":0},{"$f":"Be!G90","v":0},{"$f":"Be!H90","v":0},{"$f":"Be!I90","v":0},null,{"$f":"Be!A87","v":0}]
["61.",{"$f":"Be!A91","v":0},{"$f":"Be!B91","v":0},{"$f":"Be!C91","v":0},{"$f":"Be!D91","v":0},{"$f":"Be!E91","v":0},{"$f":"Be!F91","v":0},{"$f":"Be!G91","v":0},{"$f":"Be!H91","v":0},{"$f":"Be!I91","v":0},null,{"$f":"Be!A87","v":0}]
["62.",{"$f":"Be!A92","v":0},{"$f":"Be!B92","v":0},{"$f":"Be!C92","v":0},{"$f":"Be!D92","v":0},{"$f":"Be!E92","v":0},{"$f":"Be!F92","v":0},{"$f":"Be!G92","v":0},{"$f":"Be!H92","v":0},{"$f":"Be!I92","v":0},null,{"$f":"Be!A87","v":0}]
["63.",{"$f":"Be!A93","v":0},{"$f":"Be!B93","v":0},{"$f":"Be!C93","v":0},{"$f":"Be!D93","v":0},{"$f":"Be!E93","v":0},{"$f":"Be!F93","v":0},{"$f":"Be!G93","v":0},{"$f":"Be!H93","v":0},{"$f":"Be!I93","v":0},null,{"$f":"Be!A87","v":0}]
["64.",{"$f":"Be!A94","v":0},{"$f":"Be!B94","v":0},{"$f":"Be!C94","v":0},{"$f":"Be!D94","v":0},{"$f":"Be!E94","v":0},{"$f":"Be!F94","v":0},{"$f":"Be!G94","v":0},{"$f":"Be!H94","v":0},{"$f":"Be!I94","v":0},null,{"$f":"Be!A87","v":0}]
["65.",{"$f":"Be!A99","v":0},{"$f":"Be!B99","v":0},{"$f":"Be!C99","v":0},{"$f":"Be!D99","v":0},{"$f":"Be!E99","v":0},{"$f":"Be!F99","v":0},{"$f":"Be!G99","v":0},{"$f":"Be!H99","v":0},{"$f":"Be!I99","v":0},null,{"$f":"Be!A97","v":0}]
["66.",{"$f":"Be!A100","v":0},{"$f":"Be!B100","v":0},{"$f":"Be!C100","v":0},{"$f":"Be!D100","v":0},{"$f":"Be!E100","v":0},{"$f":"Be!F100","v":0},{"$f":"Be!G100","v":0},{"$f":"Be!H100","v":0},{"$f":"Be!I100","v":0},null,{"$f":"Be!A97","v":0}]
["67.",{"$f":"Be!A101","v":0},{"$f":"Be!B101","v":0},{"$f":"Be!C101","v":0},{"$f":"Be!D101","v":0},{"$f":"Be!E101","v":0},{"$f":"Be!F101","v":0},{"$f":"Be!G101","v":0},{"$f":"Be!H101","v":0},{"$f":"Be!I101","v":0},null,{"$f":"Be!A97","v":0}]
["68.",{"$f":"Be!A102","v":0},{"$f":"Be!B102","v":0},{"$f":"Be!C102","v":0},{"$f":"Be!D102","v":0},{"$f":"Be!E102","v":0},{"$f":"Be!F102","v":0},{"$f":"Be!G102","v":0},{"$f":"Be!H102","v":0},{"$f":"Be!I102","v":0},null,{"$f":"Be!A97","v":0}]
["69.",{"$f":"Be!A103","v":0},{"$f":"Be!B103","v":0},{"$f":"Be!C103","v":0},{"$f":"Be!D103","v":0},{"$f":"Be!E103","v":0},{"$f":"Be!F103","v":0},{"$f":"Be!G103","v":0},{"$f":"Be!H103","v":0},{"$f":"Be!I103","v":0},null,{"$f":"Be!A97","v":0}]
["70.",{"$f":"Be!A104","v":0},{"$f":"Be!B104","v":0},{"$f":"Be!C104","v":0},{"$f":"Be!D104","v":0},{"$f":"Be!E104","v":0},{"$f":"Be!F104","v":0},{"$f":"Be!G104","v":0},{"$f":"Be!H104","v":0},{"$f":"Be!I104","v":0},null,{"$f":"Be!A97","v":0}]
["71.",{"$f":"Be!A109","v":0},{"$f":"Be!B109","v":0},{"$f":"Be!C109","v":0},{"$f":"Be!D109","v":0},{"$f":"Be!E109","v":0},{"$f":"Be!F109","v":0},{"$f":"Be!G109","v":0},{"$f":"Be!H109","v":0},{"$f":"Be!I109","v":0},null,{"$f":"Be!A107","v":0}]
["72.",{"$f":"Be!A110","v":0},{"$f":"Be!B110","v":0},{"$f":"Be!C110","v":0},{"$f":"Be!D110","v":0},{"$f":"Be!E110","v":0},{"$f":"Be!F110","v":0},{"$f":"Be!G110","v":0},{"$f":"Be!H110","v":0},{"$f":"Be!I110","v":0},null,{"$f":"Be!A107","v":0}]
["73.",{"$f":"Be!A111","v":0},{"$f":"Be!B111","v":0},{"$f":"Be!C111","v":0},{"$f":"Be!D111","v":0},{"$f":"Be!E111","v":0},{"$f":"Be!F111","v":0},{"$f":"Be!G111","v":0},{"$f":"Be!H111","v":0},{"$f":"Be!I111","v":0},null,{"$f":"Be!A107","v":0}]
["74.",{"$f":"Be!A112","v":0},{"$f":"Be!B112","v":0},{"$f":"Be!C112","v":0},{"$f":"Be!D112","v":0},{"$f":"Be!E112","v":0},{"$f":"Be!F112","v":0},{"$f":"Be!G112","v":0},{"$f":"Be!H112","v":0},{"$f":"Be!I112","v":0},null,{"$f":"Be!A107","v":0}]
["75.",{"$f":"Be!A113","v":0},{"$f":"Be!B113","v":0},{"$f":"Be!C113","v":0},{"$f":"Be!D113","v":0},{"$f":"Be!E113","v":0},{"$f":"Be!F113","v":0},{"$f":"Be!G113","v":0},{"$f":"Be!H113","v":0},{"$f":"Be!I113","v":0},null,{"$f":"Be!A107","v":0}]
["76.",{"$f":"Be!A114","v":0},{"$f":"Be!B114","v":0},{"$f":"Be!C114","v":0},{"$f":"Be!D114","v":0},{"$f":"Be!E114","v":0},{"$f":"Be!F114","v":0},{"$f":"Be!G114","v":0},{"$f":"Be!H114","v":0},{"$f":"Be!I114","v":0},null,{"$f":"Be!A107","v":0}]
["77.",{"$f":"Be!A119","v":0},{"$f":"Be!B119","v":0},{"$f":"Be!C119","v":0},{"$f":"Be!D119","v":0},{"$f":"Be!E119","v":0},{"$f":"Be!F119","v":0},{"$f":"Be!G119","v":0},{"$f":"Be!H119","v":0},{"$f":"Be!I119","v":0},null,{"$f":"Be!A117","v":0}]
["78.",{"$f":"Be!A120","v":0},{"$f":"Be!B120","v":0},{"$f":"Be!C120","v":0},{"$f":"Be!D120","v":0},{"$f":"Be!E120","v":0},{"$f":"Be!F120","v":0},{"$f":"Be!G120","v":0},{"$f":"Be!H120","v":0},{"$f":"Be!I120","v":0},null,{"$f":"Be!A117","v":0}]
["79.",{"$f":"Be!A121","v":0},{"$f":"Be!B121","v":0},{"$f":"Be!C121","v":0},{"$f":"Be!D121","v":0},{"$f":"Be!E121","v":0},{"$f":"Be!F121","v":0},{"$f":"Be!G121","v":0},{"$f":"Be!H121","v":0},{"$f":"Be!I121","v":0},null,{"$f":"Be!A117","v":0}]
["80.",{"$f":"Be!A122","v":0},{"$f":"Be!B122","v":0},{"$f":"Be!C122","v":0},{"$f":"Be!D122","v":0},{"$f":"Be!E122","v":0},{"$f":"Be!F122","v":0},{"$f":"Be!G122","v":0},{"$f":"Be!H122","v":0},{"$f":"Be!I122","v":0},null,{"$f":"Be!A117","v":0}]
["81.",{"$f":"Be!A123","v":0},{"$f":"Be!B123","v":0},{"$f":"Be!C123","v":0},{"$f":"Be!D123","v":0},{"$f":"Be!E123","v":0},{"$f":"Be!F123","v":0},{"$f":"Be!G123","v":0},{"$f":"Be!H123","v":0},{"$f":"Be!I123","v":0},null,{"$f":"Be!A117","v":0}]
["82.",{"$f":"Be!A124","v":0},{"$f":"Be!B124","v":0},{"$f":"Be!C124","v":0},{"$f":"Be!D124","v":0},{"$f":"Be!E124","v":0},{"$f":"Be!F124","v":0},{"$f":"Be!G124","v":0},{"$f":"Be!H124","v":0},{"$f":"Be!I124","v":0},null,{"$f":"Be!A117","v":0}]
["83.",{"$f":"Be!A129","v":0},{"$f":"Be!B129","v":0},{"$f":"Be!C129","v":0},{"$f":"Be!D129","v":0},{"$f":"Be!E129","v":0},{"$f":"Be!F129","v":0},{"$f":"Be!G129","v":0},{"$f":"Be!H129","v":0},{"$f":"Be!I129","v":0},null,{"$f":"Be!A127","v":0}]
["84.",{"$f":"Be!A130","v":0},{"$f":"Be!B130","v":0},{"$f":"Be!C130","v":0},{"$f":"Be!D130","v":0},{"$f":"Be!E130","v":0},{"$f":"Be!F130","v":0},{"$f":"Be!G130","v":0},{"$f":"Be!H130","v":0},{"$f":"Be!I130","v":0},null,{"$f":"Be!A127","v":0}]
["85.",{"$f":"Be!A131","v":0},{"$f":"Be!B131","v":0},{"$f":"Be!C131","v":0},{"$f":"Be!D131","v":0},{"$f":"Be!E131","v":0},{"$f":"Be!F131","v":0},{"$f":"Be!G131","v":0},{"$f":"Be!H131","v":0},{"$f":"Be!I131","v":0},null,{"$f":"Be!A127","v":0}]
["86.",{"$f":"Be!A132","v":0},{"$f":"Be!B132","v":0},{"$f":"Be!C132","v":0},{"$f":"Be!D132","v":0},{"$f":"Be!E132","v":0},{"$f":"Be!F132","v":0},{"$f":"Be!G132","v":0},{"$f":"Be!H132","v":0},{"$f":"Be!I132","v":0},null,{"$f":"Be!A127","v":0}]
["87.",{"$f":"Be!A133","v":0},{"$f":"Be!B133","v":0},{"$f":"Be!C133","v":0},{"$f":"Be!D133","v":0},{"$f":"Be!E133","v":0},{"$f":"Be!F133","v":0},{"$f":"Be!G133","v":0},{"$f":"Be!H133","v":0},{"$f":"Be!I133","v":0},null,{"$f":"Be!A127","v":0}]
["88.",{"$f":"Be!A134","v":0},{"$f":"Be!B134","v":0},{"$f":"Be!C134","v":0},{"$f":"Be!D134","v":0},{"$f":"Be!E134","v":0},{"$f":"Be!F134","v":0},{"$f":"Be!G134","v":0},{"$f":"Be!H134","v":0},{"$f":"Be!I134","v":0},null,{"$f":"Be!A127","v":0}]
["89.",{"$f":"Be!A139","v":0},{"$f":"Be!B139","v":0},{"$f":"Be!C139","v":0},{"$f":"Be!D139","v":0},{"$f":"Be!E139","v":0},{"$f":"Be!F139","v":0},{"$f":"Be!G139","v":0},{"$f":"Be!H139","v":0},{"$f":"Be!I139","v":0},null,{"$f":"Be!A137","v":0}]
["90.",{"$f":"Be!A140","v":0},{"$f":"Be!B140","v":0},{"$f":"Be!C140","v":0},{"$f":"Be!D140","v":0},{"$f":"Be!E140","v":0},{"$f":"Be!F140","v":0},{"$f":"Be!G140","v":0},{"$f":"Be!H140","v":0},{"$f":"Be!I140","v":0},null,{"$f":"Be!A137","v":0}]
["91.",{"$f":"Be!A141","v":0},{"$f":"Be!B141","v":0},{"$f":"Be!C141","v":0},{"$f":"Be!D141","v":0},{"$f":"Be!E141","v":0},{"$f":"Be!F141","v":0},{"$f":"Be!G141","v":0},{"$f":"Be!H141","v":0},{"$f":"Be!I141","v":0},null,{"$f":"Be!A137","v":0}]
["92.",{"$f":"Be!A142","v":0},{"$f":"Be!B142","v":0},{"$f":"Be!C142","v":0},{"$f":"Be!D142","v":0},{"$f":"Be!E142","v":0},{"$f":"Be!F142","v":0},{"$f":"Be!G142","v":0},{"$f":"Be!H142","v":0},{"$f":"Be!I142","v":0},null,{"$f":"Be!A137","v":0}]
["93.",{"$f":"Be!A143","v":0},{"$f":"Be!B143","v":0},{"$f":"Be!C143","v":0},{"$f":"Be!D143","v":0},{"$f":"Be!E143","v":0},{"$f":"Be!F143","v":0},{"$f":"Be!G143","v":0},{"$f":"Be!H143","v":0},{"$f":"Be!I143","v":0},null,{"$f":"Be!A137","v":0}]
["94.",{"$f":"Be!A144","v":0},{"$f":"Be!B144","v":0},{"$f":"Be!C144","v":0},{"$f":"Be!D144","v":0},{"$f":"Be!E144","v":0},{"$f":"Be!F144","v":0},{"$f":"Be!G144","v":0},{"$f":"Be!H144","v":0},{"$f":"Be!I144","v":0},null,{"$f":"Be!A137","v":0}]
["95.",{"$f":"Be!A149","v":0},{"$f":"Be!B149","v":0},{"$f":"Be!C149","v":0},{"$f":"Be!D149","v":0},{"$f":"Be!E149","v":0},{"$f":"Be!F149","v":0},{"$f":"Be!G149","v":0},{"$f":"Be!H149","v":0},{"$f":"Be!I149","v":0},null,{"$f":"Be!A147","v":0}]
["96.",{"$f":"Be!A150","v":0},{"$f":"Be!B150","v":0},{"$f":"Be!C150","v":0},{"$f":"Be!D150","v":0},{"$f":"Be!E150","v":0},{"$f":"Be!F150","v":0},{"$f":"Be!G150","v":0},{"$f":"Be!H150","v":0},{"$f":"Be!I150","v":0},null,{"$f":"Be!A147","v":0}]
["97.",{"$f":"Be!A151","v":0},{"$f":"Be!B151","v":0},{"$f":"Be!C151","v":0},{"$f":"Be!D151","v":0},{"$f":"Be!E151","v":0},{"$f":"Be!F151","v":0},{"$f":"Be!G151","v":0},{"$f":"Be!H151","v":0},{"$f":"Be!I151","v":0},null,{"$f":"Be!A147","v":0}]
["98.",{"$f":"Be!A152","v":0},{"$f":"Be!B152","v":0},{"$f":"Be!C152","v":0},{"$f":"Be!D152","v":0},{"$f":"Be!E152","v":0},{"$f":"Be!F152","v":0},{"$f":"Be!G152","v":0},{"$f":"Be!H152","v":0},{"$f":"Be!I152","v":0},null,{"$f":"Be!A147","v":0}]
["99.",{"$f":"Be!A153","v":0},{"$f":"Be!B153","v":0},{"$f":"Be!C153","v":0},{"$f":"Be!D153","v":0},{"$f":"Be!E153","v":0},{"$f":"Be!F153","v":0},{"$f":"Be!G153","v":0},{"$f":"Be!H153","v":0},{"$f":"Be!I153","v":0},null,{"$f":"Be!A147","v":0}]
["100.",{"$f":"Be!A154","v":0},{"$f":"Be!B154","v":0},{"$f":"Be!C154","v":0},{"$f":"Be!D154","v":0},{"$f":"Be!E154","v":0},{"$f":"Be!F154","v":0},{"$f":"Be!G154","v":0},{"$f":"Be!H154","v":0},{"$f":"Be!I154","v":0},null,{"$f":"Be!A147","v":0}]
["101.",{"$f":"Be!A159","v":0},{"$f":"Be!B159","v":0},{"$f":"Be!C159","v":0},{"$f":"Be!D159","v":0},{"$f":"Be!E159","v":0},{"$f":"Be!F159","v":0},{"$f":"Be!G159","v":0},{"$f":"Be!H159","v":0},{"$f":"Be!I159","v":0},null,{"$f":"Be!A157","v":0}]
["102.",{"$f":"Be!A160","v":0},{"$f":"Be!B160","v":0},{"$f":"Be!C160","v":0},{"$f":"Be!D160","v":0},{"$f":"Be!E160","v":0},{"$f":"Be!F160","v":0},{"$f":"Be!G160","v":0},{"$f":"Be!H160","v":0},{"$f":"Be!I160","v":0},null,{"$f":"Be!A157","v":0}]
["103.",{"$f":"Be!A161","v":0},{"$f":"Be!B161","v":0},{"$f":"Be!C161","v":0},{"$f":"Be!D161","v":0},{"$f":"Be!E161","v":0},{"$f":"Be!F161","v":0},{"$f":"Be!G161","v":0},{"$f":"Be!H161","v":0},{"$f":"Be!I161","v":0},null,{"$f":"Be!A157","v":0}]
["104.",{"$f":"Be!A162","v":0},{"$f":"Be!B162","v":0},{"$f":"Be!C162","v":0},{"$f":"Be!D162","v":0},{"$f":"Be!E162","v":0},{"$f":"Be!F162","v":0},{"$f":"Be!G162","v":0},{"$f":"Be!H162","v":0},{"$f":"Be!I162","v":0},null,{"$f":"Be!A157","v":0}]
["105.",{"$f":"Be!A163","v":0},{"$f":"Be!B163","v":0},{"$f":"Be!C163","v":0},{"$f":"Be!D163","v":0},{"$f":"Be!E163","v":0},{"$f":"Be!F163","v":0},{"$f":"Be!G163","v":0},{"$f":"Be!H163","v":0},{"$f":"Be!I163","v":0},null,{"$f":"Be!A157","v":0}]
["106.",{"$f":"Be!A164","v":0},{"$f":"Be!B164","v":0},{"$f":"Be!C164","v":0},{"$f":"Be!D164","v":0},{"$f":"Be!E164","v":0},{"$f":"Be!F164","v":0},{"$f":"Be!G164","v":0},{"$f":"Be!H164","v":0},{"$f":"Be!I164","v":0},null,{"$f":"Be!A157","v":0}]
["107.",{"$f":"Be!A169","v":0},{"$f":"Be!B169","v":0},{"$f":"Be!C169","v":0},{"$f":"Be!D169","v":0},{"$f":"Be!E169","v":0},{"$f":"Be!F169","v":0},{"$f":"Be!G169","v":0},{"$f":"Be!H169","v":0},{"$f":"Be!I169","v":0},null,{"$f":"Be!A167","v":0}]
["108.",{"$f":"Be!A170","v":0},{"$f":"Be!B170","v":0},{"$f":"Be!C170","v":0},{"$f":"Be!D170","v":0},{"$f":"Be!E170","v":0},{"$f":"Be!F170","v":0},{"$f":"Be!G170","v":0},{"$f":"Be!H170","v":0},{"$f":"Be!I170","v":0},null,{"$f":"Be!A167","v":0}]
["109.",{"$f":"Be!A171","v":0},{"$f":"Be!B171","v":0},{"$f":"Be!C171","v":0},{"$f":"Be!D171","v":0},{"$f":"Be!E171","v":0},{"$f":"Be!F171","v":0},{"$f":"Be!G171","v":0},{"$f":"Be!H171","v":0},{"$f":"Be!I171","v":0},null,{"$f":"Be!A167","v":0}]
["110.",{"$f":"Be!A172","v":0},{"$f":"Be!B172","v":0},{"$f":"Be!C172","v":0},{"$f":"Be!D172","v":0},{"$f":"Be!E172","v":0},{"$f":"Be!F172","v":0},{"$f":"Be!G172","v":0},{"$f":"Be!H172","v":0},{"$f":"Be!I172","v":0},null,{"$f":"Be!A167","v":0}]
["111.",{"$f":"Be!A173","v":0},{"$f":"Be!B173","v":0},{"$f":"Be!C173","v":0},{"$f":"Be!D173","v":0},{"$f":"Be!E173","v":0},{"$f":"Be!F173","v":0},{"$f":"Be!G173","v":0},{"$f":"Be!H173","v":0},{"$f":"Be!I173","v":0},null,{"$f":"Be!A167","v":0}]
["112.",{"$f":"Be!A174","v":0},{"$f":"Be!B174","v":0},{"$f":"Be!C174","v":0},{"$f":"Be!D174","v":0},{"$f":"Be!E174","v":0},{"$f":"Be!F174","v":0},{"$f":"Be!G174","v":0},{"$f":"Be!H174","v":0},{"$f":"Be!I174","v":0},null,{"$f":"Be!A167","v":0}]
["113.",{"$f":"Be!A179","v":0},{"$f":"Be!B179","v":0},{"$f":"Be!C179","v":0},{"$f":"Be!D179","v":0},{"$f":"Be!E179","v":0},{"$f":"Be!F179","v":0},{"$f":"Be!G179","v":0},{"$f":"Be!H179","v":0},{"$f":"Be!I179","v":0},null,{"$f":"Be!A177","v":0}]
["114.",{"$f":"Be!A180","v":0},{"$f":"Be!B180","v":0},{"$f":"Be!C180","v":0},{"$f":"Be!D180","v":0},{"$f":"Be!E180","v":0},{"$f":"Be!F180","v":0},{"$f":"Be!G180","v":0},{"$f":"Be!H180","v":0},{"$f":"Be!I180","v":0},null,{"$f":"Be!A177","v":0}]
["115.",{"$f":"Be!A181","v":0},{"$f":"Be!B181","v":0},{"$f":"Be!C181","v":0},{"$f":"Be!D181","v":0},{"$f":"Be!E181","v":0},{"$f":"Be!F181","v":0},{"$f":"Be!G181","v":0},{"$f":"Be!H181","v":0},{"$f":"Be!I181","v":0},null,{"$f":"Be!A177","v":0}]
["116.",{"$f":"Be!A182","v":0},{"$f":"Be!B182","v":0},{"$f":"Be!C182","v":0},{"$f":"Be!D182","v":0},{"$f":"Be!E182","v":0},{"$f":"Be!F182","v":0},{"$f":"Be!G182","v":0},{"$f":"Be!H182","v":0},{"$f":"Be!I182","v":0},null,{"$f":"Be!A177","v":0}]
["117.",{"$f":"Be!A183","v":0},{"$f":"Be!B183","v":0},{"$f":"Be!C183","v":0},{"$f":"Be!D183","v":0},{"$f":"Be!E183","v":0},{"$f":"Be!F183","v":0},{"$f":"Be!G183","v":0},{"$f":"Be!H183","v":0},{"$f":"Be!I183","v":0},null,{"$f":"Be!A177","v":0}]
["118.",{"$f":"Be!A184","v":0},{"$f":"Be!B184","v":0},{"$f":"Be!C184","v":0},{"$f":"Be!D184","v":0},{"$f":"Be!E184","v":0},{"$f":"Be!F184","v":0},{"$f":"Be!G184","v":0},{"$f":"Be!H184","v":0},{"$f":"Be!I184","v":0},null,{"$f":"Be!A177","v":0}]
["119.",{"$f":"Be!A189","v":0},{"$f":"Be!B189","v":0},{"$f":"Be!C189","v":0},{"$f":"Be!D189","v":0},{"$f":"Be!E189","v":0},{"$f":"Be!F189","v":0},{"$f":"Be!G189","v":0},{"$f":"Be!H189","v":0},{"$f":"Be!I189","v":0},null,{"$f":"Be!A187","v":0}]
["120.",{"$f":"Be!A190","v":0},{"$f":"Be!B190","v":0},{"$f":"Be!C190","v":0},{"$f":"Be!D190","v":0},{"$f":"Be!E190","v":0},{"$f":"Be!F190","v":0},{"$f":"Be!G190","v":0},{"$f":"Be!H190","v":0},{"$f":"Be!I190","v":0},null,{"$f":"Be!A187","v":0}]
["121.",{"$f":"Be!A191","v":0},{"$f":"Be!B191","v":0},{"$f":"Be!C191","v":0},{"$f":"Be!D191","v":0},{"$f":"Be!E191","v":0},{"$f":"Be!F191","v":0},{"$f":"Be!G191","v":0},{"$f":"Be!H191","v":0},{"$f":"Be!I191","v":0},null,{"$f":"Be!A187","v":0}]
["122.",{"$f":"Be!A192","v":0},{"$f":"Be!B192","v":0},{"$f":"Be!C192","v":0},{"$f":"Be!D192","v":0},{"$f":"Be!E192","v":0},{"$f":"Be!F192","v":0},{"$f":"Be!G192","v":0},{"$f":"Be!H192","v":0},{"$f":"Be!I192","v":0},null,{"$f":"Be!A187","v":0}]
["123.",{"$f":"Be!A193","v":0},{"$f":"Be!B193","v":0},{"$f":"Be!C193","v":0},{"$f":"Be!D193","v":0},{"$f":"Be!E193","v":0},{"$f":"Be!F193","v":0},{"$f":"Be!G193","v":0},{"$f":"Be!H193","v":0},{"$f":"Be!I193","v":0},null,{"$f":"Be!A187","v":0}]
["124.",{"$f":"Be!A194","v":0},{"$f":"Be!B194","v":0},{"$f":"Be!C194","v":0},{"$f":"Be!D194","v":0},{"$f":"Be!E194","v":0},{"$f":"Be!F194","v":0},{"$f":"Be!G194","v":0},{"$f":"Be!H194","v":0},{"$f":"Be!I194","v":0},null,{"$f":"Be!A187","v":0}]
["125.",{"$f":"Be!A199","v":0},{"$f":"Be!B199","v":0},{"$f":"Be!C199","v":0},{"$f":"Be!D199","v":0},{"$f":"Be!E199","v":0},{"$f":"Be!F199","v":0},{"$f":"Be!G199","v":0},{"$f":"Be!H199","v":0},{"$f":"Be!I199","v":0},null,{"$f":"Be!A197","v":0}]
["126.",{"$f":"Be!A200","v":0},{"$f":"Be!B200","v":0},{"$f":"Be!C200","v":0},{"$f":"Be!D200","v":0},{"$f":"Be!E200","v":0},{"$f":"Be!F200","v":0},{"$f":"Be!G200","v":0},{"$f":"Be!H200","v":0},{"$f":"Be!I200","v":0},null,{"$f":"Be!A197","v":0}]
["127.",{"$f":"Be!A201","v":0},{"$f":"Be!B201","v":0},{"$f":"Be!C201","v":0},{"$f":"Be!D201","v":0},{"$f":"Be!E201","v":0},{"$f":"Be!F201","v":0},{"$f":"Be!G201","v":0},{"$f":"Be!H201","v":0},{"$f":"Be!I201","v":0},null,{"$f":"Be!A197","v":0}]
["128.",{"$f":"Be!A202","v":0},{"$f":"Be!B202","v":0},{"$f":"Be!C202","v":0},{"$f":"Be!D202","v":0},{"$f":"Be!E202","v":0},{"$f":"Be!F202","v":0},{"$f":"Be!G202","v":0},{"$f":"Be!H202","v":0},{"$f":"Be!I202","v":0},null,{"$f":"Be!A197","v":0}]
["129.",{"$f":"Be!A203","v":0},{"$f":"Be!B203","v":0},{"$f":"Be!C203","v":0},{"$f":"Be!D203","v":0},{"$f":"Be!E203","v":0},{"$f":"Be!F203","v":0},{"$f":"Be!G203","v":0},{"$f":"Be!H203","v":0},{"$f":"Be!I203","v":0},null,{"$f":"Be!A197","v":0}]
["130.",{"$f":"Be!A204","v":0},{"$f":"Be!B204","v":0},{"$f":"Be!C204","v":0},{"$f":"Be!D204","v":0},{"$f":"Be!E204","v":0},{"$f":"Be!F204","v":0},{"$f":"Be!G204","v":0},{"$f":"Be!H204","v":0},{"$f":"Be!I204","v":0},null,{"$f":"Be!A197","v":0}]
["131.",{"$f":"Be!A209","v":0},{"$f":"Be!B209","v":0},{"$f":"Be!C209","v":0},{"$f":"Be!D209","v":0},{"$f":"Be!E209","v":0},{"$f":"Be!F209","v":0},{"$f":"Be!G209","v":0},{"$f":"Be!H209","v":0},{"$f":"Be!I209","v":0},null,{"$f":"Be!A207","v":0}]
["132.",{"$f":"Be!A210","v":0},{"$f":"Be!B210","v":0},{"$f":"Be!C210","v":0},{"$f":"Be!D210","v":0},{"$f":"Be!E210","v":0},{"$f":"Be!F210","v":0},{"$f":"Be!G210","v":0},{"$f":"Be!H210","v":0},{"$f":"Be!I210","v":0},null,{"$f":"Be!A207","v":0}]
["133.",{"$f":"Be!A211","v":0},{"$f":"Be!B211","v":0},{"$f":"Be!C211","v":0},{"$f":"Be!D211","v":0},{"$f":"Be!E211","v":0},{"$f":"Be!F211","v":0},{"$f":"Be!G211","v":0},{"$f":"Be!H211","v":0},{"$f":"Be!I211","v":0},null,{"$f":"Be!A207","v":0}]
["134.",{"$f":"Be!A212","v":0},{"$f":"Be!B212","v":0},{"$f":"Be!C212","v":0},{"$f":"Be!D212","v":0},{"$f":"Be!E212","v":0},{"$f":"Be!F212","v":0},{"$f":"Be!G212","v":0},{"$f":"Be!H212","v":0},{"$f":"Be!I212","v":0},null,{"$f":"Be!A207","v":0}]
["135.",{"$f":"Be!A213","v":0},{"$f":"Be!B213","v":0},{"$f":"Be!C213","v":0},{"$f":"Be!D213","v":0},{"$f":"Be!E213","v":0},{"$f":"Be!F213","v":0},{"$f":"Be!G213","v":0},{"$f":"Be!H213","v":0},{"$f":"Be!I213","v":0},null,{"$f":"Be!A207","v":0}]
["136.",{"$f":"Be!A214","v":0},{"$f":"Be!B214","v":0},{"$f":"Be!C214","v":0},{"$f":"Be!D214","v":0},{"$f":"Be!E214","v":0},{"$f":"Be!F214","v":0},{"$f":"Be!G214","v":0},{"$f":"Be!H214","v":0},{"$f":"Be!I214","v":0},null,{"$f":"Be!A207","v":0}]
["137.",{"$f":"Be!A219","v":0},{"$f":"Be!B219","v":0},{"$f":"Be!C219","v":0},{"$f":"Be!D219","v":0},{"$f":"Be!E219","v":0},{"$f":"Be!F219","v":0},{"$f":"Be!G219","v":0},{"$f":"Be!H219","v":0},{"$f":"Be!I219","v":0},null,{"$f":"Be!A217","v":0}]
["138.",{"$f":"Be!A220","v":0},{"$f":"Be!B220","v":0},{"$f":"Be!C220","v":0},{"$f":"Be!D220","v":0},{"$f":"Be!E220","v":0},{"$f":"Be!F220","v":0},{"$f":"Be!G220","v":0},{"$f":"Be!H220","v":0},{"$f":"Be!I220","v":0},null,{"$f":"Be!A217","v":0}]
["139.",{"$f":"Be!A221","v":0},{"$f":"Be!B221","v":0},{"$f":"Be!C221","v":0},{"$f":"Be!D221","v":0},{"$f":"Be!E221","v":0},{"$f":"Be!F221","v":0},{"$f":"Be!G221","v":0},{"$f":"Be!H221","v":0},{"$f":"Be!I221","v":0},null,{"$f":"Be!A217","v":0}]
["140.",{"$f":"Be!A222","v":0},{"$f":"Be!B222","v":0},{"$f":"Be!C222","v":0},{"$f":"Be!D222","v":0},{"$f":"Be!E222","v":0},{"$f":"Be!F222","v":0},{"$f":"Be!G222","v":0},{"$f":"Be!H222","v":0},{"$f":"Be!I222","v":0},null,{"$f":"Be!A217","v":0}]
["141.",{"$f":"Be!A223","v":0},{"$f":"Be!B223","v":0},{"$f":"Be!C223","v":0},{"$f":"Be!D223","v":0},{"$f":"Be!E223","v":0},{"$f":"Be!F223","v":0},{"$f":"Be!G223","v":0},{"$f":"Be!H223","v":0},{"$f":"Be!I223","v":0},null,{"$f":"Be!A217","v":0}]
["142.",{"$f":"Be!A224","v":0},{"$f":"Be!B224","v":0},{"$f":"Be!C224","v":0},{"$f":"Be!D224","v":0},{"$f":"Be!E224","v":0},{"$f":"Be!F224","v":0},{"$f":"Be!G224","v":0},{"$f":"Be!H224","v":0},{"$f":"Be!I224","v":0},null,{"$f":"Be!A217","v":0}]
["143.",{"$f":"Be!A229","v":0},{"$f":"Be!B229","v":0},{"$f":"Be!C229","v":0},{"$f":"Be!D229","v":0},{"$f":"Be!E229","v":0},{"$f":"Be!F229","v":0},{"$f":"Be!G229","v":0},{"$f":"Be!H229","v":0},{"$f":"Be!I229","v":0},null,{"$f":"Be!A227","v":0}]
["144.",{"$f":"Be!A230","v":0},{"$f":"Be!B230","v":0},{"$f":"Be!C230","v":0},{"$f":"Be!D230","v":0},{"$f":"Be!E230","v":0},{"$f":"Be!F230","v":0},{"$f":"Be!G230","v":0},{"$f":"Be!H230","v":0},{"$f":"Be!I230","v":0},null,{"$f":"Be!A227","v":0}]
["145.",{"$f":"Be!A231","v":0},{"$f":"Be!B231","v":0},{"$f":"Be!C231","v":0},{"$f":"Be!D231","v":0},{"$f":"Be!E231","v":0},{"$f":"Be!F231","v":0},{"$f":"Be!G231","v":0},{"$f":"Be!H231","v":0},{"$f":"Be!I231","v":0},null,{"$f":"Be!A227","v":0}]
["146.",{"$f":"Be!A232","v":0},{"$f":"Be!B232","v":0},{"$f":"Be!C232","v":0},{"$f":"Be!D232","v":0},{"$f":"Be!E232","v":0},{"$f":"Be!F232","v":0},{"$f":"Be!G232","v":0},{"$f":"Be!H232","v":0},{"$f":"Be!I232","v":0},null,{"$f":"Be!A227","v":0}]
["147.",{"$f":"Be!A233","v":0},{"$f":"Be!B233","v":0},{"$f":"Be!C233","v":0},{"$f":"Be!D233","v":0},{"$f":"Be!E233","v":0},{"$f":"Be!F233","v":0},{"$f":"Be!G233","v":0},{"$f":"Be!H233","v":0},{"$f":"Be!I233","v":0},null,{"$f":"Be!A227","v":0}]
["148.",{"$f":"Be!A234","v":0},{"$f":"Be!B234","v":0},{"$f":"Be!C234","v":0},{"$f":"Be!D234","v":0},{"$f":"Be!E234","v":0},{"$f":"Be!F234","v":0},{"$f":"Be!G234","v":0},{"$f":"Be!H234","v":0},{"$f":"Be!I234","v":0},null,{"$f":"Be!A227","v":0}]
["149.",{"$f":"Be!A239","v":0},{"$f":"Be!B239","v":0},{"$f":"Be!C239","v":0},{"$f":"Be!D239","v":0},{"$f":"Be!E239","v":0},{"$f":"Be!F239","v":0},{"$f":"Be!G239","v":0},{"$f":"Be!H239","v":0},{"$f":"Be!I239","v":0},null,{"$f":"Be!A237","v":0}]
["150.",{"$f":"Be!A240","v":0},{"$f":"Be!B240","v":0},{"$f":"Be!C240","v":0},{"$f":"Be!D240","v":0},{"$f":"Be!E240","v":0},{"$f":"Be!F240","v":0},{"$f":"Be!G240","v":0},{"$f":"Be!H240","v":0},{"$f":"Be!I240","v":0},null,{"$f":"Be!A237","v":0}]
["151.",{"$f":"Be!A241","v":0},{"$f":"Be!B241","v":0},{"$f":"Be!C241","v":0},{"$f":"Be!D241","v":0},{"$f":"Be!E241","v":0},{"$f":"Be!F241","v":0},{"$f":"Be!G241","v":0},{"$f":"Be!H241","v":0},{"$f":"Be!I241","v":0},null,{"$f":"Be!A237","v":0}]
["152.",{"$f":"Be!A242","v":0},{"$f":"Be!B242","v":0},{"$f":"Be!C242","v":0},{"$f":"Be!D242","v":0},{"$f":"Be!E242","v":0},{"$f":"Be!F242","v":0},{"$f":"Be!G242","v":0},{"$f":"Be!H242","v":0},{"$f":"Be!I242","v":0},null,{"$f":"Be!A237","v":0}]
["153.",{"$f":"Be!A243","v":0},{"$f":"Be!B243","v":0},{"$f":"Be!C243","v":0},{"$f":"Be!D243","v":0},{"$f":"Be!E243","v":0},{"$f":"Be!F243","v":0},{"$f":"Be!G243","v":0},{"$f":"Be!H243","v":0},{"$f":"Be!I243","v":0},null,{"$f":"Be!A237","v":0}]
["154.",{"$f":"Be!A244","v":0},{"$f":"Be!B244","v":0},{"$f":"Be!C244","v":0},{"$f":"Be!D244","v":0},{"$f":"Be!E244","v":0},{"$f":"Be!F244","v":0},{"$f":"Be!G244","v":0},{"$f":"Be!H244","v":0},{"$f":"Be!I244","v":0},null,{"$f":"Be!A237","v":0}]

{"sheet":"Csapat","index":3,"n_rows":24,"n_cols":3,"rows_kept":24,"cut":false,"hidden":false,"merged":[[0,0,0,2]]}
["II. korcsoport LEÁNY CSAPAT verseny ( Rendezés Ctrl + f )"]
[null,"Iskola","Pont"]
["1.",{"$f":"Be!$A$37&CHAR(10)&Be!$A$39&\"   \"&Be!$I$39&\"      \"&Be!$A$40&\"   \"&Be!$I$40&CHAR(10)&Be!$A$41&\"   \"&Be!$I$41&\"      \"&Be!$A$42&\"   \"&Be!$I$42&CHAR(10)&Be!$A$43&\"   \"&Be!$I$43&\"      \"&Be!$A$44&\"   \"&Be!$I$44&CHAR(10)&\"     \"&Be!$K$43&\"     \"&Be!$K$44","v":"Jászai Mari Általános Iskola Monor\nFélix Viktória   215      Neuwelt Petra   165\nBock Luca   213      Eöllös Emma   199\nMagócsi Eszter   178      Rettegi Tímea   230\n     4×100     80"},{"$f":"Be!$K$39","v":1115}]
["2.",{"$f":"Be!$A$27&CHAR(10)&Be!$A$29&\"   \"&Be!$I$29&\"      \"&Be!$A$30&\"   \"&Be!$I$30&CHAR(10)&Be!$A$31&\"   \"&Be!$I$31&\"      \"&Be!$A$32&\"   \"&Be!$I$32&CHAR(10)&Be!$A$33&\"   \"&Be!$I$33&\"      \"&Be!$A$34&\"   \"&Be!$I$34&CHAR(10)&\"     \"&Be!$K$33&\"     \"&Be!$K$34","v":"Maglódi Vermessy Péter Általános Iskola\nForgó Dorottya   166      Sotónyi Lili   169\nVetési Dóra   161      Vince Kamilla   211\nNémeth Borbála   245         0\n     4×100     85"},{"$f":"Be!$K$29","v":1037}]
["3.",{"$f":"Be!$A$47&CHAR(10)&Be!$A$49&\"   \"&Be!$I$49&\"      \"&Be!$A$50&\"   \"&Be!$I$50&CHAR(10)&Be!$A$51&\"   \"&Be!$I$51&\"      \"&Be!$A$52&\"   \"&Be!$I$52&CHAR(10)&Be!$A$53&\"   \"&Be!$I$53&\"      \"&Be!$A$54&\"   \"&Be!$I$54&CHAR(10)&\"     \"&Be!$K$53&\"     \"&Be!$K$54","v":"Mende\nÁdám Anna   163      Kernya Zoé   178\nRenecz Ramóna   89      Turczer Jázmin    147\nVidák Klarissza   139      Vrábel Molli   199\n     4×100     0"},{"$f":"Be!$K$49","v":826}]
["4.",{"$f":"Be!$A$57&CHAR(10)&Be!$A$59&\"   \"&Be!$I$59&\"      \"&Be!$A$60&\"   \"&Be!$I$60&CHAR(10)&Be!$A$61&\"   \"&Be!$I$61&\"      \"&Be!$A$62&\"   \"&Be!$I$62&CHAR(10)&Be!$A$63&\"   \"&Be!$I$63&\"      \"&Be!$A$64&\"   \"&Be!$I$64&CHAR(10)&\"     \"&Be!$K$63&\"     \"&Be!$K$64","v":"\n   0         0\n   0         0\n   0         0\n     4×100     0"},{"$f":"Be!$K$59","v":0}]
["5.",{"$f":"Be!$A$67&CHAR(10)&Be!$A$69&\"   \"&Be!$I$69&\"      \"&Be!$A$70&\"   \"&Be!$I$70&CHAR(10)&Be!$A$71&\"   \"&Be!$I$71&\"      \"&Be!$A$72&\"   \"&Be!$I$72&CHAR(10)&Be!$A$73&\"   \"&Be!$I$73&\"      \"&Be!$A$74&\"   \"&Be!$I$74&CHAR(10)&\"     \"&Be!$K$73&\"     \"&Be!$K$74","v":"\n   0         0\n   0         0\n   0         0\n     4×100     0"},{"$f":"Be!$K$69","v":0}]
["6.",{"$f":"Be!$A$77&CHAR(10)&Be!$A$79&\"   \"&Be!$I$79&\"      \"&Be!$A$80&\"   \"&Be!$I$80&CHAR(10)&Be!$A$81&\"   \"&Be!$I$81&\"      \"&Be!$A$82&\"   \"&Be!$I$82&CHAR(10)&Be!$A$83&\"   \"&Be!$I$83&\"      \"&Be!$A$84&\"   \"&Be!$I$84&CHAR(10)&\"     \"&Be!$K$83&\"     \"&Be!$K$84","v":"\n   0         0\n   0         0\n   0         0\n     4×100     0"},{"$f":"Be!$K$79","v":0}]
["7.",{"$f":"Be!$A$87&CHAR(10)&Be!$A$89&\"   \"&Be!$I$89&\"      \"&Be!$A$90&\"   \"&Be!$I$90&CHAR(10)&Be!$A$91&\"   \"&Be!$I$91&\"      \"&Be!$A$92&\"   \"&Be!$I$92&CHAR(10)&Be!$A$93&\"   \"&Be!$I$93&\"      \"&Be!$A$94&\"   \"&Be!$I$94&CHAR(10)&\"     \"&Be!$K$93&\"     \"&Be!$K$94","v":"\n   0         0\n   0         0\n   0         0\n     4×100     0"},{"$f":"Be!$K$89","v":0}]
["8.",{"$f":"Be!$A$97&CHAR(10)&Be!$A$99&\"   \"&Be!$I$99&\"      \"&Be!$A$100&\"   \"&Be!$I$100&CHAR(10)&Be!$A$101&\"   \"&Be!$I$101&\"      \"&Be!$A$102&\"   \"&Be!$I$102&CHAR(10)&Be!$A$103&\"   \"&Be!$I$103&\"      \"&Be!$A$104&\"   \"&Be!$I$104&CHAR(10)&\"     \"&Be!$K$103&\"     \"&Be!$K$104","v":"\n   0         0\n   0         0\n   0         0\n     4×100     0"},{"$f":"Be!$K$99","v":0}]
["9.",{"$f":"Be!$A$107&CHAR(10)&Be!$A$109&\"   \"&Be!$I$109&\"      \"&Be!$A$110&\"   \"&Be!$I$110&CHAR(10)&Be!$A$111&\"   \"&Be!$I$111&\"      \"&Be!$A$112&\"   \"&Be!$I$112&CHAR(10)&Be!$A$113&\"   \"&Be!$I$113&\"      \"&Be!$A$114&\"   \"&Be!$I$114&CHAR(10)&\"     \"&Be!$K$113&\"     \"&Be!$K$114","v":"\n   0         0\n   0         0\n   0         0\n     4×100     0"},{"$f":"Be!$K$109","v":0}]
["10.",{"$f":"Be!$A$117&CHAR(10)&Be!$A$119&\"   \"&Be!$I$119&\"      \"&Be!$A$120&\"   \"&Be!$I$120&CHAR(10)&Be!$A$121&\"   \"&Be!$I$121&\"      \"&Be!$A$122&\"   \"&Be!$I$122&CHAR(10)&Be!$A$123&\"   \"&Be!$I$123&\"      \"&Be!$A$124&\"   \"&Be!$I$124&CHAR(10)&\"     \"&Be!$K$123&\"     \"&Be!$K$124","v":"\n   0         0\n   0         0\n   0         0\n     4×100     0"},{"$f":"Be!$K$119","v":0}]
["11.",{"$f":"Be!$A$127&CHAR(10)&Be!$A$129&\"   \"&Be!$I$129&\"      \"&Be!$A$130&\"   \"&Be!$I$130&CHAR(10)&Be!$A$131&\"   \"&Be!$I$131&\"      \"&Be!$A$132&\"   \"&Be!$I$132&CHAR(10)&Be!$A$133&\"   \"&Be!$I$133&\"      \"&Be!$A$134&\"   \"&Be!$I$134&CHAR(10)&\"     \"&Be!$K$133&\"     \"&Be!$K$134","v":"\n   0         0\n   0         0\n   0         0\n     4×100     0"},{"$f":"Be!$K$129","v":0}]
["12.",{"$f":"Be!$A$137&CHAR(10)&Be!$A$139&\"   \"&Be!$I$139&\"      \"&Be!$A$140&\"   \"&Be!$I$140&CHAR(10)&Be!$A$141&\"   \"&Be!$I$141&\"      \"&Be!$A$142&\"   \"&Be!$I$142&CHAR(10)&Be!$A$143&\"   \"&Be!$I$143&\"      \"&Be!$A$144&\"   \"&Be!$I$144&CHAR(10)&\"     \"&Be!$K$143&\"     \"&Be!$K$144","v":"\n   0         0\n   0         0\n   0         0\n     4×100     0"},{"$f":"Be!$K$139","v":0}]
["13.",{"$f":"Be!$A$147&CHAR(10)&Be!$A$149&\"   \"&Be!$I$149&\"      \"&Be!$A$150&\"   \"&Be!$I$150&CHAR(10)&Be!$A$151&\"   \"&Be!$I$151&\"      \"&Be!$A$152&\"   \"&Be!$I$151&CHAR(10)&Be!$A$153&\"   \"&Be!$I$153&\"      \"&Be!$A$154&\"   \"&Be!$I$154&CHAR(10)&\"     \"&Be!$K$153&\"     \"&Be!$K$154","v":"\n   0         0\n   0         0\n   0         0\n     4×100     0"},{"$f":"Be!$K$149","v":0}]
["14.",{"$f":"Be!$A$157&CHAR(10)&Be!$A$159&\"   \"&Be!$I$159&\"      \"&Be!$A$160&\"   \"&Be!$I$160&CHAR(10)&Be!$A$161&\"   \"&Be!$I$161&\"      \"&Be!$A$162&\"   \"&Be!$I$162&CHAR(10)&Be!$A$163&\"   \"&Be!$I$163&\"      \"&Be!$A$164&\"   \"&Be!$I$164&CHAR(10)&\"     \"&Be!$K$163&\"     \"&Be!$K$164","v":"\n   0         0\n   0         0\n   0         0\n     4×100     0"},{"$f":"Be!$K$159","v":0}]
["15.",{"$f":"Be!$A$167&CHAR(10)&Be!$A$169&\"   \"&Be!$I$169&\"      \"&Be!$A$170&\"   \"&Be!$I$170&CHAR(10)&Be!$A$171&\"   \"&Be!$I$171&\"      \"&Be!$A$172&\"   \"&Be!$I$172&CHAR(10)&Be!$A$173&\"   \"&Be!$I$173&\"      \"&Be!$A$174&\"   \"&Be!$I$174&CHAR(10)&\"     \"&Be!$K$173&\"     \"&Be!$K$174","v":"\n   0         0\n   0         0\n   0         0\n     4×100     0"},{"$f":"Be!$K$169","v":0}]
["16.",{"$f":"Be!$A$177&CHAR(10)&Be!$A$179&\"   \"&Be!$I$179&\"      \"&Be!$A$180&\"   \"&Be!$I$180&CHAR(10)&Be!$A$181&\"   \"&Be!$I$181&\"      \"&Be!$A$182&\"   \"&Be!$I$182&CHAR(10)&Be!$A$183&\"   \"&Be!$I$183&\"      \"&Be!$A$184&\"   \"&Be!$I$184&CHAR(10)&\"     \"&Be!$K$183&\"     \"&Be!$K$184","v":"\n   0         0\n   0         0\n   0         0\n     4×100     0"},{"$f":"Be!$K$179","v":0}]
["17.",{"$f":"Be!$A$187&CHAR(10)&Be!$A$189&\"   \"&Be!$I$189&\"      \"&Be!$A$190&\"   \"&Be!$I$190&CHAR(10)&Be!$A$191&\"   \"&Be!$I$191&\"      \"&Be!$A$192&\"   \"&Be!$I$192&CHAR(10)&Be!$A$193&\"   \"&Be!$I$193&\"      \"&Be!$A$194&\"   \"&Be!$I$194&CHAR(10)&\"     \"&Be!$K$193&\"     \"&Be!$K$194","v":"\n   0         0\n   0         0\n   0         0\n     4×100     0"},{"$f":"Be!$K$189","v":0}]
["18.",{"$f":"Be!$A$197&CHAR(10)&Be!$A$199&\"   \"&Be!$I$199&\"      \"&Be!$A$200&\"   \"&Be!$I$200&CHAR(10)&Be!$A$201&\"   \"&Be!$I$201&\"      \"&Be!$A$202&\"   \"&Be!$I$202&CHAR(10)&Be!$A$203&\"   \"&Be!$I$203&\"      \"&Be!$A$204&\"   \"&Be!$I$204&CHAR(10)&\"     \"&Be!$K$203&\"     \"&Be!$K$204","v":"\n   0         0\n   0         0\n   0         0\n     4×100     0"},{"$f":"Be!$K$199","v":0}]
["19.",{"$f":"Be!$A$207&CHAR(10)&Be!$A$209&\"   \"&Be!$I$209&\"      \"&Be!$A$210&\"   \"&Be!$I$210&CHAR(10)&Be!$A$211&\"   \"&Be!$I$211&\"      \"&Be!$A$212&\"   \"&Be!$I$212&CHAR(10)&Be!$A$213&\"   \"&Be!$I$213&\"      \"&Be!$A$214&\"   \"&Be!$I$214&CHAR(10)&\"     \"&Be!$K$213&\"     \"&Be!$K$214","v":"\n   0         0\n   0         0\n   0         0\n     4×100     0"},{"$f":"Be!$K$209","v":0}]
["20.",{"$f":"Be!$A$217&CHAR(10)&Be!$A$219&\"   \"&Be!$I$219&\"      \"&Be!$A$220&\"   \"&Be!$I$220&CHAR(10)&Be!$A$221&\"   \"&Be!$I$221&\"      \"&Be!$A$222&\"   \"&Be!$I$222&CHAR(10)&Be!$A$223&\"   \"&Be!$I$223&\"      \"&Be!$A$224&\"   \"&Be!$I$224&CHAR(10)&\"     \"&Be!$K$223&\"     \"&Be!$K$224","v":"\n   0         0\n   0         0\n   0         0\n     4×100     0"},{"$f":"Be!$K$219","v":0}]
["21.",{"$f":"Be!$A$227&CHAR(10)&Be!$A$229&\"   \"&Be!$I$229&\"      \"&Be!$A$230&\"   \"&Be!$I$230&CHAR(10)&Be!$A$231&\"   \"&Be!$I$231&\"      \"&Be!$A$232&\"   \"&Be!$I$232&CHAR(10)&Be!$A$233&\"   \"&Be!$I$233&\"      \"&Be!$A$234&\"   \"&Be!$I$234&CHAR(10)&\"     \"&Be!$K$233&\"     \"&Be!$K$234","v":"\n   0         0\n   0         0\n   0         0\n     4×100     0"},{"$f":"Be!$K$229","v":0}]
["22.",{"$f":"Be!$A$237&CHAR(10)&Be!$A$239&\"   \"&Be!$I$239&\"      \"&Be!$A$240&\"   \"&Be!$I$240&CHAR(10)&Be!$A$241&\"   \"&Be!$I$241&\"      \"&Be!$A$242&\"   \"&Be!$I$242&CHAR(10)&Be!$A$243&\"   \"&Be!$I$243&\"      \"&Be!$A$244&\"   \"&Be!$I$244&CHAR(10)&\"     \"&Be!$K$243&\"     \"&Be!$K$244","v":"\n   0         0\n   0         0\n   0         0\n     4×100     0"},{"$f":"Be!$K$239","v":0}]