{"text_format":"1","workbook":"xlsx","n_sheets":4,"sheets":["leány","Be","Egyéni","Csapat"],"not_rendered":{"charts":0,"images":0,"macros":1,"external_links":1,"defined_names":9,"comments":0,"pivot_tables":0},"unopened":[],"bounds":{"document_bytes":16777216,"sheet_cells":100000,"rows_first":2000,"rows_last":500,"rows_between":2000,"halvings":0,"cell_chars":16384,"cell_head_chars":4096},"cells_cut":0,"cells_raw":0,"read":"whole","date_system":"1900"}

{"sheet":"leány","index":0,"n_rows":302,"n_cols":16,"rows_kept":302,"cut":false,"hidden":true,"merged":[]}
[null,"101 m","100m","801 m","800 m","Pont","Távol","Súlyl.","Kisl.","Pont"]
[null,11.34,11.35,"00:01:58","00:02:00",300,{"$f":"P2/100","v":1.8},3,4,0,null,null,null,null,null,180]
[null,11.350999999999999,11.37,"00:02:00.001","00:02:00.200",299,1.82,3.05,4.28,1,null,null,null,null,null,182]
[null,11.370999999999999,11.39,"00:02:00.201","00:02:00.600",298,1.84,3.1,4.5599999999999996,2,null,null,null,null,null,184]
[null,11.391,11.41,"00:02:00.601","00:02:00.900",297,1.86,3.14,4.84,3,null,null,null,null,null,186]
[null,11.411,11.43,"00:02:00.901","00:02:01.200",296,1.87,3.19,5.1100000000000003,4,null,null,null,null,null,187]
[null,11.430999999999999,11.46,"00:02:01.201","00:02:01.500",295,1.89,3.24,5.39,5,null,null,null,null,null,189]
[null,11.461,11.48,"00:02:01.501","00:02:01.800",294,1.91,3.29,5.67,6,null,null,null,null,null,191]
[null,11.481,11.5,"00:02:01.801","00:02:02.100",293,1.93,3.34,5.95,7,null,null,null,null,null,193]
[null,11.500999999999999,11.52,"00:02:02.101","00:02:02.400",292,1.95,3.38,6.23,8,null,null,null,null,null,195]
[null,11.520999999999999,11.54,"00:02:02.401","00:02:02.700",291,1.97,3.43,6.51,9,null,null,null,null,null,197]
[null,11.540999999999999,11.56,"00:02:02.701","00:02:03",290,1.99,3.48,6.78,10,null,null,null,null,null,199]
[null,11.561,11.58,"00:02:03.001","00:02:03.300",289,2.0099999999999998,3.53,7.06,11,null,null,null,null,null,201]
[null,11.581,11.6,"00:02:03.301","00:02:03.600",288,2.02,3.58,7.34,12,null,null,null,null,null,202]
[null,11.600999999999999,11.62,"00:02:03.601","00:02:03.900",287,2.04,3.62,7.62,13,null,null,null,null,null,204]
[null,11.620999999999999,11.64,"00:02:03.901","00:02:04.200",286,2.06,3.67,7.9,14,null,null,null,null,null,206]
[null,11.641,11.67,"00:02:04.201","00:02:04.500",285,2.08,3.72,8.18,15,null,null,null,null,null,208]
[null,11.670999999999999,11.69,"00:02:04.501","00:02:04.800",284,2.1,3.77,8.4499999999999993,16,null,null,null,null,null,210]
[null,11.690999999999999,11.71,"00:02:04.801","00:02:05.100",283,2.12,3.82,8.73,17,null,null,null,null,null,212]
[null,11.711,11.73,"00:02:05.101","00:02:05.400",282,2.14,3.86,9.01,18,null,null,null,null,null,214]
[null,11.731,11.75,"00:02:05.401","00:02:05.700",281,2.16,3.91,9.2899999999999991,19,null,null,null,null,null,216]
[null,11.750999999999999,11.77,"00:02:05.701","00:02:06",280,2.17,3.96,9.57,20,null,null,null,null,null,217]
[null,11.770999999999999,11.79,"00:02:06.001","00:02:06.300",279,2.19,4.01,9.85,21,null,null,null,null,null,219]
[null,11.790999999999999,11.81,"00:02:06.301","00:02:06.600",278,2.21,4.0599999999999996,10.119999999999999,22,null,null,null,null,null,221]
[null,11.811,11.83,"00:02:06.601","00:02:06.900",277,2.23,4.0999999999999996,10.4,23,null,null,null,null,null,223]
[null,11.831,11.85,"00:02:06.901","00:02:07.200",276,2.25,4.1500000000000004,10.68,24,null,null,null,null,null,225]
[null,11.850999999999999,11.88,"00:02:07.201","00:02:07.500",275,2.27,4.2,10.96,25,null,null,null,null,null,227]
[null,11.881,11.9,"00:02:07.501","00:02:07.800",274,2.29,4.25,11.24,26,null,null,null,null,null,229]
[null,11.901,11.92,"00:02:07.801","00:02:08.100",273,2.31,4.3,11.52,27,null,null,null,null,null,231]
[null,11.920999999999999,11.94,"00:02:08.101","00:02:08.400",272,2.3199999999999998,4.34,11.8,28,null,null,null,null,null,232]
[null,11.940999999999999,11.96,"00:02:08.401","00:02:08.700",271,2.34,4.3899999999999997,12.07,29,null,null,null,null,null,234]
[null,11.961,11.98,"00:02:08.701","00:02:09",270,2.36,4.4400000000000004,12.35,30,null,null,null,null,null,236]
[null,11.981,12,"00:02:09.001","00:02:09.300",269,2.38,4.49,12.63,31,null,null,null,null,null,238]
[null,12.000999999999999,12.02,"00:02:09.301","00:02:09.600",268,2.4,4.54,12.91,32,null,null,null,null,null,240]
[null,12.020999999999999,12.04,"00:02:09.601","00:02:09.900",267,2.42,4.58,13.19,33,null,null,null,null,null,242]
[null,12.040999999999999,12.04,"00:02:09.901","00:02:10.200",266,2.44,4.63,13.47,34,null,null,null,null,null,244]
[null,12.040999999999999,12.09,"00:02:10.201","00:02:10.500",265,2.46,4.68,13.74,35,null,null,null,null,null,246]
[null,12.090999999999999,12.11,"00:02:10.501","00:02:10.800",264,2.4700000000000002,4.7300000000000004,14.02,36,null,null,null,null,null,247]
[null,12.110999999999999,12.13,"00:02:10.801","00:02:11.100",263,2.4900000000000002,4.78,14.3,37,null,null,null,null,null,249]
[null,12.131,12.15,"00:02:11.101","00:02:11.400",262,2.5099999999999998,4.82,14.58,38,null,null,null,null,null,251]
[null,12.151,12.17,"00:02:11.401","00:02:11.700",261,2.5299999999999998,4.87,14.86,39,null,null,null,null,null,253]
[null,12.170999999999999,12.19,"00:02:11.701","00:02:12",260,2.5499999999999998,4.92,15.14,40,null,null,null,null,null,255]
[null,12.190999999999999,12.21,"00:02:12.001","00:02:12.300",259,2.57,4.97,15.41,41,null,null,null,null,null,257]
[null,12.211,12.23,"00:02:12.301","00:02:12.600",258,2.59,5.0199999999999996,15.69,42,null,null,null,null,null,259]
[null,12.231,12.25,"00:02:12.601","00:02:12.900",257,2.61,5.0599999999999996,15.97,43,null,null,null,null,null,261]
[null,12.250999999999999,12.27,"00:02:12.901","00:02:13.200",256,2.62,5.1100000000000003,16.25,44,null,null,null,null,null,262]
[null,12.270999999999999,12.3,"00:02:13.201","00:02:13.500",255,2.64,5.16,16.53,45,null,null,null,null,null,264]
[null,12.301,12.32,"00:02:13.501","00:02:13.800",254,2.66,5.21,16.809999999999999,46,null,null,null,null,null,266]
[null,12.321,12.34,"00:02:13.801","00:02:14.100",253,2.68,5.26,17.079999999999998,47,null,null,null,null,null,268]
[null,12.340999999999999,12.36,"00:02:14.101","00:02:14.400",252,2.7,5.3,17.36,48,null,null,null,null,null,270]
[null,12.361000000000001,12.38,"00:02:14.401","00:02:14.700",251,2.72,5.35,17.64,49,null,null,null,null,null,272]
[null,12.381,12.4,"00:02:14.701","00:02:15",250,2.73,5.4,17.920000000000002,50,null,null,null,null,null,273]
[null,12.401,12.42,"00:02:15.001","00:02:15.336",249,2.75,5.44,18.18,51,null,null,null,null,null,275]
[null,12.420999999999999,12.44,"00:02:15.341","00:02:15.672",248,2.76,5.49,18.43,52,null,null,null,null,null,276]
[null,12.440999999999999,12.46,"00:02:15.671","00:02:16.008",247,2.78,5.53,18.690000000000001,53,null,null,null,null,null,278]
[null,12.461,12.48,"00:02:16.011","00:02:16.344",246,2.8,5.58,18.940000000000001,54,null,null,null,null,null,280]
[null,12.481,12.51,"00:02:16.341","00:02:16.680",245,2.82,5.62,19.2,55,null,null,null,null,null,282]
[null,12.510999999999999,12.53,"00:02:16.681","00:02:17.016",244,2.83,5.66,19.45,56,null,null,null,null,null,283]
[null,12.530999999999999,12.55,"00:02:17.021","00:02:17.352",243,2.85,5.71,19.71,57,null,null,null,null,null,285]
[null,12.551,12.57,"00:02:17.351","00:02:17.688",242,2.87,5.75,19.96,58,null,null,null,null,null,287]
[null,12.571,12.59,"00:02:17.691","00:02:18.024",241,2.88,5.8,20.22,59,null,null,null,null,null,288]
[null,12.590999999999999,12.61,"00:02:18.021","00:02:18.360",240,2.9,5.84,20.47,60,null,null,null,null,null,290]
[null,12.610999999999999,12.63,"00:02:18.361","00:02:18.696",239,2.92,5.88,20.73,61,null,null,null,null,null,292]
[null,12.631,12.65,"00:02:18.701","00:02:19.032",238,2.94,5.93,20.98,62,null,null,null,null,null,294]
[null,12.651,12.68,"00:02:19.031","00:02:19.368",237,2.95,5.97,21.24,63,null,null,null,null,null,295]
[null,12.680999999999999,12.7,"00:02:19.371","00:02:19.704",236,{"$f":"P66/100","v":2.97},6.02,21.49,64,null,null,null,null,null,297]
[null,12.700999999999999,12.72,"00:02:19.701","00:02:20.040",235,2.99,6.06,21.75,65,null,null,null,null,null,299]
[null,12.721,12.74,"00:02:20.041","00:02:20.376",234,3,6.1,22,66,null,null,null,null,null,300]
[null,12.741,12.76,"00:02:20.381","00:02:20.712",233,3.02,6.15,22.26,67,null,null,null,null,null,302]
[null,12.760999999999999,12.78,"00:02:20.711","00:02:21.048",232,3.04,6.19,22.51,68,null,null,null,null,null,304]
[null,12.780999999999999,12.8,"00:02:21.049","00:02:21.384",231,3.06,6.24,22.77,69,null,null,null,null,null,306]
[null,12.801,12.82,"00:02:21.386","00:02:21.720",230,3.07,6.28,23.02,70,null,null,null,null,null,307]
[null,12.821,12.85,"00:02:21.722","00:02:22.056",229,3.09,6.32,23.28,71,null,null,null,null,null,309]
[null,12.850999999999999,12.87,"00:02:22.261","00:02:22.392",228,3.11,6.37,23.53,72,null,null,null,null,null,311]
[null,12.870999999999999,12.89,"00:02:22.395","00:02:22.728",227,3.12,6.41,23.79,73,null,null,null,null,null,312]
[null,12.891,12.91,"00:02:22.731","00:02:23.064",226,3.14,6.46,24.04,74,null,null,null,null,null,314]
[null,12.911,12.93,"00:02:23.066","00:02:23.400",225,3.16,6.5,24.3,75,null,null,null,null,null,316]
[null,12.930999999999999,12.95,"00:02:23.402","00:02:23.736",224,3.18,6.54,24.56,76,null,null,null,null,null,318]
[null,12.950999999999999,12.97,"00:02:23.741","00:02:24.072",223,3.19,6.59,24.81,77,null,null,null,null,null,319]
[null,12.971,12.99,"00:02:24.073","00:02:24.408",222,3.21,6.63,25.07,78,null,null,null,null,null,321]
[null,12.991,13.01,"00:02:24.411","00:02:24.744",221,3.23,6.68,25.32,79,null,null,null,null,null,323]
[null,13.010999999999999,13.04,"00:02:24.745","00:02:25.080",220,3.24,6.72,25.58,80,null,null,null,null,null,324]
[null,13.040999999999999,13.06,"00:02:25.081","00:02:25.416",219,3.26,6.76,25.83,81,null,null,null,null,null,326]
[null,13.061,13.08,"00:02:25.421","00:02:25.752",218,3.28,6.81,26.09,82,null,null,null,null,null,328]
[null,13.081,13.1,"00:02:25.757","00:02:26.088",217,3.3,6.85,26.34,83,null,null,null,null,null,330]
[null,13.100999999999999,13.12,"00:02:26.093","00:02:26.424",216,3.31,6.9,26.6,84,null,null,null,null,null,331]
[null,13.120999999999999,13.14,"00:02:26.429","00:02:26.760",215,3.33,6.94,26.85,85,null,null,null,null,null,333]
[null,13.141,13.16,"00:02:26.765","00:02:27.096",214,3.35,6.98,27.11,86,null,null,null,null,null,335]
[null,13.161,13.18,"00:02:27.101","00:02:27.432",213,3.36,7.03,27.36,87,null,null,null,null,null,336]
[null,13.180999999999999,13.21,"00:02:27.437","00:02:27.768",212,3.38,7.07,27.62,88,null,null,null,null,null,338]
[null,13.211,13.23,"00:02:27.773","00:02:28.104",211,3.4,7.12,27.87,89,null,null,null,null,null,340]
[null,13.231,13.25,"00:02:28.109","00:02:28.440",210,3.42,7.16,28.13,90,null,null,null,null,null,342]
[null,13.250999999999999,13.27,"00:02:28.445","00:02:28.776",209,3.43,7.2,28.38,91,null,null,null,null,null,343]
[null,13.270999999999999,13.29,"00:02:28.781","00:02:29.112",208,3.45,7.25,28.64,92,null,null,null,null,null,345]
[null,13.290999999999999,13.31,"00:02:29.117","00:02:29.448",207,3.47,7.29,28.89,93,null,null,null,null,null,347]
[null,13.311,13.33,"00:02:29.453","00:02:29.784",206,3.49,7.34,29.15,94,null,null,null,null,null,349]
[null,13.331,13.35,"00:02:29.789","00:02:30.120",205,3.5,7.38,29.4,95,null,null,null,null,null,350]
[null,13.350999999999999,13.38,"00:02:30.125","00:02:30.456",204,3.52,7.42,29.66,96,null,null,null,null,null,352]
[null,13.381,13.4,"00:02:30.461","00:02:30.792",203,3.54,7.47,29.91,97,null,null,null,null,null,354]
[null,13.401,13.42,"00:02:30.797","00:02:31.128",202,3.55,7.51,30.17,98,null,null,null,null,null,355]
[null,13.420999999999999,13.44,"00:02:31.133","00:02:31.464",201,3.57,7.56,30.42,99,null,null,null,null,null,357]
[null,13.440999999999999,13.46,"00:02:31.469","00:02:31.800",200,3.59,7.6,30.68,100,null,null,null,null,null,359]
[null,13.461,13.48,"00:02:31.805","00:02:32.178",199,3.61,7.64,30.91,101,null,null,null,null,null,361]
[null,13.481,13.51,"00:02:32.183","00:02:32.556",198,3.62,7.68,31.14,102,null,null,null,null,null,362]
[null,13.510999999999999,13.53,"00:02:32.561","00:02:32.934",197,3.64,7.72,31.38,103,null,null,null,null,null,364]
[null,13.530999999999999,13.55,"00:02:32.939","00:02:33.312",196,3.65,7.76,31.61,104,null,null,null,null,null,365]
[null,13.551,13.58,"00:02:33.317","00:02:33.690",195,3.67,7.8,31.84,105,null,null,null,null,null,367]
[null,13.581,13.6,"00:02:33.695","00:02:34.068",194,3.68,7.84,32.07,106,null,null,null,null,null,368]
[null,13.600999999999999,13.63,"00:02:34.073","00:02:34.446",193,3.7,7.88,32.299999999999997,107,null,null,null,null,null,370]
[null,13.631,13.65,"00:02:34.451","00:02:34.824",192,3.71,7.92,32.54,108,null,null,null,null,null,371]
[null,13.651,13.67,"00:02:34.829","00:02:35.202",191,3.73,7.96,32.770000000000003,109,null,null,null,null,null,373]
[null,13.670999999999999,13.7,"00:02:35.207","00:02:35.580",190,3.75,8,33,110,null,null,null,null,null,375]
[null,13.700999999999999,13.72,"00:02:35.585","00:02:35.958",189,3.76,8.0399999999999991,33.229999999999997,111,null,null,null,null,null,376]
[null,13.721,13.74,"00:02:35.963","00:02:36.336",188,3.78,8.08,33.46,112,null,null,null,null,null,378]
[null,13.741,13.77,"00:02:36.341","00:02:36.714",187,3.79,8.1199999999999992,33.700000000000003,113,null,null,null,null,null,379]
[null,13.770999999999999,13.79,"00:02:36.719","00:02:37.092",186,3.81,8.16,33.93,114,null,null,null,null,null,381]
[null,13.790999999999999,13.81,"00:02:37.097","00:02:37.470",185,3.82,8.1999999999999993,34.159999999999997,115,null,null,null,null,null,382]
[null,13.811,13.84,"00:02:37.475","00:02:37.848",184,3.84,8.24,34.39,116,null,null,null,null,null,384]
[null,13.840999999999999,13.86,"00:02:37.853","00:02:38.226",183,3.86,8.2799999999999994,34.619999999999997,117,null,null,null,null,null,386]
[null,13.860999999999999,13.88,"00:02:38.231","00:02:38.604",182,3.87,8.32,34.86,118,null,null,null,null,null,387]
[null,13.881,13.91,"00:02:38.609","00:02:38.982",181,3.89,8.36,35.090000000000003,119,null,null,null,null,null,389]
[null,13.911,13.93,"00:02:38.987","00:02:39.360",180,3.9,8.4,35.32,120,null,null,null,null,null,390]
[null,13.930999999999999,13.96,"00:02:39.365","00:02:39.738",179,3.92,8.44,35.549999999999997,121,null,null,null,null,null,392]
[null,13.961,13.98,"00:02:39.743","00:02:40.116",178,3.93,8.48,35.78,122,null,null,null,null,null,393]
[null,13.981,14,"00:02:40.121","00:02:40.494",177,3.95,8.52,36.020000000000003,123,null,null,null,null,null,395]
[null,14.000999999999999,14.03,"00:02:40.499","00:02:40.872",176,3.96,8.56,36.25,124,null,null,null,null,null,396]
[null,14.030999999999999,14.05,"00:02:40.877","00:02:41.250",175,3.98,8.6,36.479999999999997,125,null,null,null,null,null,398]
[null,14.051,14.07,"00:02:41.255","00:02:41.628",174,4,8.64,36.71,126,null,null,null,null,null,400]
[null,14.071,14.1,"00:02:41.633","00:02:42.006",173,4.01,8.68,36.94,127,null,null,null,null,null,401]
[null,14.100999999999999,14.12,"00:02:42.011","00:02:42.384",172,{"$f":"P130/100","v":4.03},8.7200000000000006,37.18,128,null,null,null,null,null,403]
[null,14.120999999999999,14.14,"00:02:42.389","00:02:42.762",171,4.04,8.76,37.409999999999997,129,null,null,null,null,null,404]
[null,14.141,14.17,"00:02:42.767","00:02:43.140",170,4.0599999999999996,8.8000000000000007,37.64,130,null,null,null,null,null,406]
[null,14.170999999999999,14.19,"00:02:43.145","00:02:43.518",169,4.07,8.84,37.869999999999997,131,null,null,null,null,null,407]
[null,14.190999999999999,14.22,"00:02:43.523","00:02:43.896",168,4.09,8.8800000000000008,38.1,132,null,null,null,null,null,409]
[null,14.221,14.24,"00:02:43.901","00:02:44.274",167,4.0999999999999996,8.92,38.340000000000003,133,null,null,null,null,null,410]
[null,14.241,14.26,"00:02:44.279","00:02:44.652",166,4.12,8.9600000000000009,38.57,134,null,null,null,null,null,412]
[null,14.260999999999999,14.29,"00:02:44.657","00:02:45.030",165,4.1399999999999997,9,38.799999999999997,135,null,null,null,null,null,414]
[null,14.290999999999999,14.31,"00:02:45.035","00:02:45.408",164,4.1500000000000004,9.0399999999999991,39.03,136,null,null,null,null,null,415]
[null,14.311,14.33,"00:02:45.413","00:02:45.786",163,4.17,9.08,39.26,137,null,null,null,null,null,417]
[null,14.331,14.36,"00:02:45.791","00:02:46.164",162,4.18,9.1199999999999992,39.5,138,null,null,null,null,null,418]
[null,14.360999999999999,14.38,"00:02:46.169","00:02:46.542",161,4.2,9.16,39.729999999999997,139,null,null,null,null,null,420]
[null,14.381,14.4,"00:02:46.547","00:02:46.920",160,4.21,9.1999999999999993,39.96,140,null,null,null,null,null,421]
[null,14.401,14.43,"00:02:46.925","00:02:47.298",159,4.2300000000000004,9.24,40.19,141,null,null,null,null,null,423]
[null,14.430999999999999,14.45,"00:02:47.303","00:02:47.676",158,4.25,9.2799999999999994,40.42,142,null,null,null,null,null,425]
[null,14.450999999999999,14.47,"00:02:47.681","00:02:48.054",157,4.26,9.32,40.659999999999997,143,null,null,null,null,null,426]
[null,14.471,14.5,"00:02:48.059","00:02:48.432",156,4.28,9.36,40.89,144,null,null,null,null,null,428]
[null,14.500999999999999,14.52,"00:02:48.437","00:02:48.810",155,4.29,9.4,41.12,145,null,null,null,null,null,429]
[null,14.520999999999999,14.55,"00:02:48.815","00:02:49.188",154,4.3099999999999996,9.44,41.35,146,null,null,null,null,null,431]
[null,14.551,14.57,"00:02:49.193","00:02:49.566",153,4.32,9.48,41.58,147,null,null,null,null,null,432]
[null,14.571,14.59,"00:02:49.571","00:02:49.944",152,4.34,9.52,41.82,148,null,null,null,null,null,434]
[null,14.590999999999999,14.62,"00:02:49.949","00:02:50.322",151,4.3499999999999996,9.56,42.05,149,null,null,null,null,null,435]
[null,14.620999999999999,14.64,"00:02:50.327","00:02:50.700",150,4.37,9.6,42.28,150,null,null,null,null,null,437]
[null,14.641,14.67,"00:02:50.705","00:02:51.120",149,4.38,9.64,42.49,151,null,null,null,null,null,438]
[null,14.670999999999999,14.69,"00:02:51.125","00:02:51.540",148,4.4000000000000004,9.67,42.7,152,null,null,null,null,null,440]
[null,14.690999999999999,14.72,"00:02:51.545","00:02:51.960",147,4.41,9.7100000000000009,42.91,153,null,null,null,null,null,441]
[null,14.721,14.75,"00:02:51.965","00:02:52.380",146,4.43,9.74,43.12,154,null,null,null,null,null,443]
[null,14.750999999999999,14.77,"00:02:52.385","00:02:52.800",145,4.4400000000000004,9.7799999999999994,43.32,155,null,null,null,null,null,444]
[null,14.770999999999999,14.8,"00:02:52.805","00:02:53.220",144,4.45,9.82,43.53,156,null,null,null,null,null,445]
[null,14.801,14.82,"00:02:53.225","00:02:53.640",143,4.47,9.85,43.74,157,null,null,null,null,null,447]
[null,14.821,14.85,"00:02:53.645","00:02:54.060",142,4.4800000000000004,9.89,43.95,158,null,null,null,null,null,448]
[null,14.850999999999999,14.88,"00:02:54.065","00:02:54.480",141,4.5,9.92,44.16,159,null,null,null,null,null,450]
[null,14.881,14.9,"00:02:54.485","00:02:54.900",140,4.51,9.9600000000000009,44.37,160,null,null,null,null,null,451]
[null,14.901,14.93,"00:02:54.905","00:02:55.320",139,4.5199999999999996,10,44.58,161,null,null,null,null,null,452]
[null,14.930999999999999,14.96,"00:02:55.325","00:02:55.740",138,4.54,10.029999999999999,44.79,162,null,null,null,null,null,454]
[null,14.961,14.98,"00:02:55.745","00:02:56.160",137,4.55,10.07,44.99,163,null,null,null,null,null,455]
[null,14.981,15.01,"00:02:56.165","00:02:56.580",136,4.57,10.1,45.2,164,null,null,null,null,null,457]
[null,15.010999999999999,15.04,"00:02:56.585","00:02:57",135,4.58,10.14,45.41,165,null,null,null,null,null,458]
[null,15.040999999999999,15.06,"00:02:57.005","00:02:57.420",134,4.59,10.18,45.62,166,null,null,null,null,null,459]
[null,15.061,15.09,"00:02:57.425","00:02:57.840",133,4.6100000000000003,10.210000000000001,45.83,167,null,null,null,null,null,461]
[null,15.090999999999999,15.12,"00:02:57.845","00:02:58.260",132,4.62,10.25,46.04,168,null,null,null,null,null,462]
[null,15.120999999999999,15.14,"00:02:58.265","00:02:58.680",131,4.6399999999999997,10.28,46.25,169,null,null,null,null,null,464]
[null,15.141,15.17,"00:02:58.685","00:02:59.100",130,4.6500000000000004,10.32,46.46,170,null,null,null,null,null,465]
[null,15.170999999999999,15.19,"00:02:59.105","00:02:59.520",129,4.66,10.36,46.66,171,null,null,null,null,null,466]
[null,15.190999999999999,15.22,"00:02:59.525","00:02:59.940",128,4.68,10.39,46.87,172,null,null,null,null,null,468]
[null,15.221,15.25,"00:02:59.945","00:03:00.360",127,4.6900000000000004,10.43,47.08,173,null,null,null,null,null,469]
[null,15.250999999999999,15.27,"00:03:00.365","00:03:00.780",126,4.71,10.46,47.29,174,null,null,null,null,null,471]
[null,15.270999999999999,15.3,"00:03:00.785","00:03:01.200",125,4.72,10.5,47.5,175,null,null,null,null,null,472]
[null,15.301,15.33,"00:03:01.205","00:03:01.620",124,4.74,10.54,47.71,176,null,null,null,null,null,474]
[null,15.331,15.35,"00:03:01.625","00:03:02.040",123,4.75,10.57,47.92,177,null,null,null,null,null,475]
[null,15.350999999999999,15.38,"00:03:02.045","00:03:02.460",122,4.76,10.61,48.13,178,null,null,null,null,null,476]
[null,15.381,15.41,"00:03:02.465","00:03:02.880",121,4.78,10.64,48.34,179,null,null,null,null,null,478]
[null,15.411,15.43,"00:03:02.885","00:03:03.300",120,4.79,10.68,48.54,180,null,null,null,null,null,479]
[null,15.430999999999999,15.46,"00:03:03.305","00:03:03.720",119,4.8099999999999996,10.72,48.75,181,null,null,null,null,null,481]
[null,15.461,15.48,"00:03:03.725","00:03:04.140",118,4.82,10.75,48.96,182,null,null,null,null,null,482]
[null,15.481,15.51,"00:03:04.145","00:03:04.560",117,4.83,10.79,49.17,183,null,null,null,null,null,483]
[null,15.510999999999999,15.54,"00:03:04.565","00:03:04.980",116,4.8499999999999996,10.82,49.38,184,null,null,null,null,null,485]
[null,15.540999999999999,15.56,"00:03:04.985","00:03:05.400",115,4.8600000000000003,10.86,49.59,185,null,null,null,null,null,486]
[null,15.561,15.59,"00:03:05.405","00:03:05.820",114,4.88,10.9,49.8,186,null,null,null,null,null,488]
[null,15.590999999999999,15.62,"00:03:05.825","00:03:06.240",113,4.8899999999999997,10.93,50.01,187,null,null,null,null,null,489]
[null,15.620999999999999,15.64,"00:03:06.245","00:03:06.660",112,4.9000000000000004,10.97,50.21,188,null,null,null,null,null,490]
[null,15.641,15.67,"00:03:06.665","00:03:07.080",111,4.92,11,50.42,189,null,null,null,null,null,492]
[null,15.670999999999999,15.7,"00:03:07.085","00:03:07.500",110,4.93,11.04,50.63,190,null,null,null,null,null,493]
[null,15.700999999999999,15.72,"00:03:07.505","00:03:07.920",109,4.95,11.08,50.84,191,null,null,null,null,null,495]
[null,15.721,15.75,"00:03:07.925","00:03:08.340",108,{"$f":"P194/100","v":4.96},11.11,51.05,192,null,null,null,null,null,496]
[null,15.750999999999999,15.78,"00:03:08.345","00:03:08.760",107,4.97,11.15,51.26,193,null,null,null,null,null,497]
[null,15.780999999999999,15.8,"00:03:08.765","00:03:09.180",106,4.99,11.18,51.47,194,null,null,null,null,null,499]
[null,15.801,15.83,"00:03:09.185","00:03:09.600",105,5,11.22,51.68,195,null,null,null,null,null,500]
[null,15.831,15.85,"00:03:09.605","00:03:10.020",104,5.0199999999999996,11.26,51.88,196,null,null,null,null,null,502]
[null,15.850999999999999,15.88,"00:03:10.025","00:03:10.440",103,5.03,11.29,52.09,197,null,null,null,null,null,503]
[null,15.881,15.91,"00:03:10.445","00:03:10.860",102,5.04,11.33,52.3,198,null,null,null,null,null,504]
[null,15.911,15.93,"00:03:10.865","00:03:11.280",101,5.0599999999999996,11.36,52.51,199,null,null,null,null,null,506]
[null,15.930999999999999,15.96,"00:03:11.285","00:03:11.700",100,5.07,11.4,52.72,200,null,null,null,null,null,507]
[null,15.961,15.99,"00:03:11.705","00:03:12.162",99,5.08,11.43,52.91,201,null,null,null,null,null,508]
[null,15.991,16.02,"00:03:12.167","00:03:12.624",98,5.0999999999999996,11.46,53.09,202,null,null,null,null,null,510]
[null,16.021000000000001,16.05,"00:03:12.629","00:03:13.086",97,5.1100000000000003,11.5,53.28,203,null,null,null,null,null,511]
[null,16.051000000000002,16.079999999999998,"00:03:13.091","00:03:13.548",96,5.12,11.53,53.46,204,null,null,null,null,null,512]
[null,16.081,16.11,"00:03:13.553","00:03:14.010",95,5.13,11.56,53.65,205,null,null,null,null,null,513]
[null,16.111000000000001,16.14,"00:03:14.015","00:03:14.472",94,5.14,11.59,53.83,206,null,null,null,null,null,514]
[null,16.141000000000002,16.16,"00:03:14.477","00:03:14.934",93,5.16,11.62,54.02,207,null,null,null,null,null,516]
[null,16.161000000000001,16.190000000000001,"00:03:14.939","00:03:15.396",92,5.17,11.66,54.2,208,null,null,null,null,null,517]
[null,16.191000000000003,16.22,"00:03:15.401","00:03:15.858",91,5.18,11.69,54.39,209,null,null,null,null,null,518]
[null,16.221,16.25,"00:03:15.863","00:03:16.320",90,5.19,11.72,54.58,210,null,null,null,null,null,519]
[null,16.251000000000001,16.28,"00:03:16.325","00:03:16.782",89,5.21,11.75,54.76,211,null,null,null,null,null,521]
[null,16.281000000000002,16.309999999999999,"00:03:16.787","00:03:17.244",88,5.22,11.78,54.95,212,null,null,null,null,null,522]
[null,16.311,16.34,"00:03:17.249","00:03:17.706",87,5.23,11.82,55.13,213,null,null,null,null,null,523]
[null,16.341000000000001,16.37,"00:03:17.711","00:03:18.168",86,5.24,11.85,55.32,214,null,null,null,null,null,524]
[null,16.371000000000002,16.399999999999999,"00:03:18.173","00:03:18.630",85,5.26,11.88,55.5,215,null,null,null,null,null,526]
[null,16.401,16.43,"00:03:18.635","00:03:19.092",84,5.27,11.91,55.69,216,null,null,null,null,null,527]
[null,16.431000000000001,16.46,"00:03:19.097","00:03:19.554",83,5.28,11.94,55.88,217,null,null,null,null,null,528]
[null,16.461000000000002,16.489999999999998,"00:03:19.559","00:03:20.016",82,5.29,11.98,56.06,218,null,null,null,null,null,529]
[null,16.491,16.510000000000002,"00:03:20.021","00:03:20.478",81,5.31,12.01,56.25,219,null,null,null,null,null,531]
[null,16.511000000000003,16.54,"00:03:20.483","00:03:20.940",80,5.32,12.04,56.43,220,null,null,null,null,null,532]
[null,16.541,16.57,"00:03:20.945","00:03:21.402",79,5.33,12.07,56.62,221,null,null,null,null,null,533]
[null,16.571000000000002,16.600000000000001,"00:03:21.407","00:03:21.864",78,5.34,12.1,56.8,222,null,null,null,null,null,534]
[null,16.601000000000003,16.63,"00:03:21.869","00:03:22.326",77,5.36,12.14,56.99,223,null,null,null,null,null,536]
[null,16.631,16.66,"00:03:22.331","00:03:22.788",76,5.37,12.17,57.17,224,null,null,null,null,null,537]
[null,16.661000000000001,16.690000000000001,"00:03:22.793","00:03:23.250",75,5.38,12.2,57.36,225,null,null,null,null,null,538]
[null,16.691000000000003,16.72,"00:03:23.255","00:03:23.712",74,5.39,12.23,57.55,226,null,null,null,null,null,539]
[null,16.721,16.75,"00:03:23.717","00:03:24.174",73,5.41,12.26,57.73,227,null,null,null,null,null,541]
[null,16.751000000000001,16.78,"00:03:24.179","00:03:24.636",72,5.42,12.3,57.92,228,null,null,null,null,null,542]
[null,16.781000000000002,16.809999999999999,"00:03:24.641","00:03:25.098",71,5.43,12.33,58.1,229,null,null,null,null,null,543]
[null,16.811,16.84,"00:03:25.103","00:03:25.560",70,5.44,12.36,58.29,230,null,null,null,null,null,544]
[null,16.841000000000001,16.87,"00:03:25.565","00:03:26.022",69,5.46,12.39,58.47,231,null,null,null,null,null,546]
[null,16.871000000000002,16.89,"00:03:26.027","00:03:26.484",68,5.47,12.42,58.66,232,null,null,null,null,null,547]
[null,16.891000000000002,16.920000000000002,"00:03:26.489","00:03:26.946",67,5.48,12.46,58.84,233,null,null,null,null,null,548]
[null,16.921000000000003,16.95,"00:03:26.951","00:03:27.408",66,5.49,12.49,59.03,234,null,null,null,null,null,549]
[null,16.951000000000001,16.98,"00:03:27.413","00:03:27.870",65,5.51,12.52,59.22,235,null,null,null,null,null,551]
[null,16.981000000000002,17.010000000000002,"00:03:27.875","00:03:28.332",64,5.52,12.55,59.4,236,null,null,null,null,null,552]
[null,17.011000000000003,17.04,"00:03:28.337","00:03:28.794",63,5.53,12.58,59.59,237,null,null,null,null,null,553]
[null,17.041,17.07,"00:03:28.799","00:03:29.256",62,5.54,12.62,59.77,238,null,null,null,null,null,554]
[null,17.071000000000002,17.100000000000001,"00:03:29.261","00:03:29.718",61,5.56,12.65,59.96,239,null,null,null,null,null,556]
[null,17.101000000000003,17.13,"00:03:29.723","00:03:30.180",60,5.57,12.68,60.14,240,null,null,null,null,null,557]
[null,17.131,17.16,"00:03:30.185","00:03:30.642",59,5.58,12.71,60.33,241,null,null,null,null,null,558]
[null,17.161000000000001,17.190000000000001,"00:03:30.647","00:03:31.104",58,5.59,12.74,60.52,242,null,null,null,null,null,559]
[null,17.191000000000003,17.22,"00:03:31.109","00:03:31.566",57,5.61,12.78,60.7,243,null,null,null,null,null,561]
[null,17.221,17.239999999999998,"00:03:31.571","00:03:32.028",56,5.62,12.81,60.89,244,null,null,null,null,null,562]
[null,17.241,17.27,"00:03:32.033","00:03:32.490",55,5.63,12.84,61.07,245,null,null,null,null,null,563]
[null,17.271000000000001,17.3,"00:03:32.495","00:03:32.952",54,5.64,12.87,61.26,246,null,null,null,null,null,564]
[null,17.301000000000002,17.329999999999998,"00:03:32.957","00:03:33.414",53,5.66,12.9,61.44,247,null,null,null,null,null,566]
[null,17.331,17.36,"00:03:33.419","00:03:33.876",52,5.67,12.94,61.63,248,null,null,null,null,null,567]
[null,17.361000000000001,17.39,"00:03:33.881","00:03:34.338",51,5.68,12.97,61.81,249,null,null,null,null,null,568]
[null,17.391000000000002,17.420000000000002,"00:03:34.343","00:03:34.800",50,5.7,13,62,250,null,null,null,null,null,570]
[null,17.421000000000003,17.45,"00:03:34.805","00:03:35.304",49,5.71,13.04,62.18,251,null,null,null,null,null,571]
[null,17.451000000000001,17.48,"00:03:35.309","00:03:35.808",48,5.72,13.08,62.37,252,null,null,null,null,null,572]
[null,17.481000000000002,17.510000000000002,"00:03:35.813","00:03:36.312",47,5.74,13.12,62.55,253,null,null,null,null,null,574]
[null,17.511000000000003,17.55,"00:03:36.317","00:03:36.816",46,5.75,13.16,62.74,254,null,null,null,null,null,575]
[null,17.551000000000002,17.579999999999998,"00:03:36.821","00:03:37.320",45,5.76,13.2,62.92,255,null,null,null,null,null,576]
[null,17.581,17.61,"00:03:37.325","00:03:37.824",44,{"$f":"P258/100","v":5.77},13.24,63.1,256,null,null,null,null,null,577]
[null,17.611000000000001,17.64,"00:03:37.829","00:03:38.328",43,5.78,13.28,63.29,257,null,null,null,null,null,578]
[null,17.641000000000002,17.670000000000002,"00:03:38.333","00:03:38.832",42,5.8,13.32,63.47,258,null,null,null,null,null,580]
[null,17.671000000000003,17.7,"00:03:38.837","00:03:39.336",41,5.81,13.36,63.66,259,null,null,null,null,null,581]
[null,17.701000000000001,17.739999999999998,"00:03:39.341","00:03:39.840",40,5.82,13.4,63.741599999999998,260,null,null,null,null,null,582]
[null,17.741,17.77,"00:03:39.845","00:03:40.344",39,5.83,13.44,64.02,261,null,null,null,null,null,583]
[null,17.771000000000001,17.8,"00:03:40.349","00:03:40.848",38,5.84,13.48,64.209999999999994,262,null,null,null,null,null,584]
[null,17.801000000000002,17.829999999999998,"00:03:40.853","00:03:41.352",37,5.86,13.52,64.39,263,null,null,null,null,null,586]
[null,17.831,17.86,"00:03:41.357","00:03:41.856",36,5.87,13.56,64.58,264,null,null,null,null,null,587]
[null,17.861000000000001,17.89,"00:03:41.861","00:03:42.360",35,5.88,13.6,64.760000000000005,265,null,null,null,null,null,588]
[null,17.891000000000002,17.93,"00:03:42.365","00:03:42.864",34,5.89,13.64,64.94,266,null,null,null,null,null,589]
[null,17.931000000000001,17.96,"00:03:42.869","00:03:43.368",33,5.9,13.68,65.13,267,null,null,null,null,null,590]
[null,17.961000000000002,17.989999999999998,"00:03:43.373","00:03:43.872",32,5.92,13.72,65.31,268,null,null,null,null,null,592]
[null,17.991,18.02,"00:03:43.877","00:03:44.376",31,5.93,13.76,65.5,269,null,null,null,null,null,593]
[null,18.021000000000001,18.05,"00:03:44.381","00:03:44.880",30,5.94,13.8,65.680000000000007,270,null,null,null,null,null,594]
[null,18.051000000000002,18.079999999999998,"00:03:44.885","00:03:45.384",29,5.95,13.84,65.86,271,null,null,null,null,null,595]
[null,18.081,18.12,"00:03:45.389","00:03:45.888",28,5.96,13.88,66.05,272,null,null,null,null,null,596]
[null,18.121000000000002,18.149999999999999,"00:03:45.893","00:03:46.392",27,5.98,13.92,66.23,273,null,null,null,null,null,598]
[null,18.151,18.18,"00:03:46.397","00:03:46.896",26,5.99,13.96,66.42,274,null,null,null,null,null,599]
[null,18.181000000000001,18.21,"00:03:46.901","00:03:47.400",25,6,14,66.599999999999994,275,null,null,null,null,null,600]
[null,18.211000000000002,18.239999999999998,"00:03:47.405","00:03:47.904",24,6.01,14.04,66.78,276,null,null,null,null,null,601]
[null,18.241,18.27,"00:03:47.909","00:03:48.408",23,6.02,14.08,66.97,277,null,null,null,null,null,602]
[null,18.271000000000001,18.3,"00:03:48.413","00:03:48.912",22,6.04,14.12,67.150000000000006,278,null,null,null,null,null,604]
[null,18.301000000000002,18.34,"00:03:48.917","00:03:49.416",21,6.05,14.16,67.34,279,null,null,null,null,null,605]
[null,18.341000000000001,18.37,"00:03:49.421","00:03:49.920",20,6.06,14.2,67.52,280,null,null,null,null,null,606]
[null,18.371000000000002,18.399999999999999,"00:03:49.925","00:03:50.424",19,6.07,14.24,67.7,281,null,null,null,null,null,607]
[null,18.401,18.43,"00:03:50.429","00:03:50.928",18,6.08,14.28,67.89,282,null,null,null,null,null,608]
[null,18.431000000000001,18.46,"00:03:50.933","00:03:51.432",17,6.1,14.32,68.069999999999993,283,null,null,null,null,null,610]
[null,18.461000000000002,18.489999999999998,"00:03:51.437","00:03:51.936",16,6.11,14.36,68.260000000000005,284,null,null,null,null,null,611]
[null,18.491,18.53,"00:03:51.941","00:03:52.440",15,6.12,14.4,68.44,285,null,null,null,null,null,612]
[null,18.531000000000002,18.559999999999999,"00:03:52.445","00:03:52.944",14,6.13,14.44,68.62,286,null,null,null,null,null,613]
[null,18.561,18.59,"00:03:52.949","00:03:53.448",13,6.14,14.48,68.81,287,null,null,null,null,null,614]
[null,18.591000000000001,18.62,"00:03:53.453","00:03:53.952",12,6.16,14.52,68.989999999999995,288,null,null,null,null,null,616]
[null,18.621000000000002,18.649999999999999,"00:03:53.957","00:03:54.456",11,6.17,14.56,69.180000000000007,289,null,null,null,null,null,617]
[null,18.651,18.68,"00:03:54.461","00:03:54.960",10,6.18,14.6,69.36,290,null,null,null,null,null,618]
[null,18.681000000000001,18.72,"00:03:54.965","00:03:55.464",9,6.19,14.64,69.540000000000006,291,null,null,null,null,null,619]
[null,18.721,18.75,"00:03:55.469","00:03:55.968",8,6.2,14.68,69.73,292,null,null,null,null,null,620]
[null,18.751000000000001,18.78,"00:03:55.973","00:03:56.472",7,6.22,14.72,69.91,293,null,null,null,null,null,622]
[null,18.781000000000002,18.809999999999999,"00:03:56.477","00:03:56.976",6,6.23,14.76,70.099999999999994,294,null,null,null,null,null,623]
[null,18.811,18.84,"00:03:56.981","00:03:57.480",5,6.24,14.8,70.28,295,null,null,null,null,null,624]
[null,18.841000000000001,18.87,"00:03:57.485","00:03:57.984",4,6.25,14.84,70.459999999999994,296,null,null,null,null,null,625]
[null,18.871000000000002,18.91,"00:03:57.989","00:03:58.488",3,6.26,14.88,70.650000000000006,297,null,null,null,null,null,626]
[null,18.911000000000001,18.940000000000001,"00:03:58.493","00:03:58.992",2,6.28,14.92,70.83,298,null,null,null,null,null,628]
[null,18.941000000000003,18.97,"00:03:58.997","00:03:59.496",1,6.29,14.96,71.02,299,null,null,null,null,null,629]
[null,18.971,19,"00:03:59.501","00:04:00",0,6.3,15,71.2,300,null,null,null,null,null,630]

{"sheet":"Be","index":1,"n_rows":244,"n_cols":15,"rows_kept":244,"cut":false,"hidden":false,"merged":[[27,2,27,3],[27,4,27,5],[27,6,27,7],[26,0,26,13],[27,10,27,11],[26,14,27,15],[33,14,33,15],[28,14,31,15],[36,0,36,13],[36,14,37,15],[37,2,37,3],[37,4,37,5],[37,6,37,7],[37,10,37,11],[27,8,27,9],[37,8,37,9],[48,14,51,15],[53,14,53,15],[56,0,56,13],[56,14,57,15],[57,2,57,3],[57,4,57,5],[57,6,57,7],[57,10,57,11],[38,14,41,15],[43,14,43,15],[46,0,46,13],[46,14,47,15],[47,2,47,3],[47,4,47,5],[47,6,47,7],[47,10,47,11],[47,8,47,9],[57,8,57,9],[68,14,71,15],[73,14,73,15],[76,0,76,13],[76,14,77,15],[77,2,77,3],[77,4,77,5],[77,6,77,7],[77,10,77,11],[58,14,61,15],[63,14,63,15],[66,0,66,13],[66,14,67,15],[67,2,67,3],[67,4,67,5],[67,6,67,7],[67,10,67,11],[67,8,67,9],[77,8,77,9],[88,14,91,15],[93,14,93,15],[96,0,96,13],[96,14,97,15],[97,2,97,3],[97,4,97,5],[97,6,97,7],[97,10,97,11],[78,14,81,15],[83,14,83,15],[86,0,86,13],[86,14,87,15],[87,2,87,3],[87,4,87,5],[87,6,87,7],[87,10,87,11],[87,8,87,9],[97,8,97,9],[108,14,111,15],[113,14,113,15],[116,0,116,13],[116,14,117,15],[117,2,117,3],[117,4,117,5],[117,6,117,7],[117,10,117,11],[98,14,101,15],[103,14,103,15],[106,0,106,13],[106,14,107,15],[107,2,107,3],[107,4,107,5],[107,6,107,7],[107,10,107,11],[107,8,107,9],[117,8,117,9],[128,14,131,15],[133,14,133,15],[136,0,136,13],[136,14,137,15],[137,2,137,3],[137,4,137,5],[137,6,137,7],[137,10,137,11],[118,14,121,15],[123,14,123,15],[126,0,126,13],[126,14,127,15],[127,2,127,3],[127,4,127,5],[127,6,127,7],[127,10,127,11],[127,8,127,9],[137,8,137,9],[148,14,151,15],[153,14,153,15],[156,0,156,13],[156,14,157,15],[157,2,157,3],[157,4,157,5],[157,6,157,7],[157,10,157,11],[138,14,141,15],[143,14,143,15],[146,0,146,13],[146,14,147,15],[147,2,147,3],[147,4,147,5],[147,6,147,7],[147,10,147,11],[147,8,147,9],[157,8,157,9],[176,0,176,13],[176,14,177,15],[177,2,177,3],[177,4,177,5],[177,6,177,7],[177,10,177,11],[158,14,161,15],[163,14,163,15],[166,0,166,13],[166,14,167,15],[167,2,167,3],[167,4,167,5],[167,6,167,7],[167,10,167,11],[167,8,167,9],[177,8,177,9],[196,0,196,13],[196,14,197,15],[197,2,197,3],[197,4,197,5],[197,6,197,7],[197,10,197,11],[178,14,181,15],[183,14,183,15],[186,0,186,13],[186,14,187,15],[187,2,187,3],[187,4,187,5],[187,6,187,7],[187,10,187,11],[187,8,187,9],[197,8,197,9],[216,0,216,13],[216,14,217,15],[217,2,217,3],[217,4,217,5],[217,6,217,7],[217,10,217,11],[198,14,201,15],[203,14,203,15],[206,0,206,13],[206,14,207,15],[207,2,207,3],[207,4,207,5],[207,6,207,7],[207,10,207,11],[207,8,207,9],[217,8,217,9],[236,0,236,13],[236,14,237,15],[237,2,237,3],[237,4,237,5],[237,6,237,7],[237,10,237,11],[218,14,221,15],[223,14,223,15],[226,0,226,13],[226,14,227,15],[227,2,227,3],[227,4,227,5],[227,6,227,7],[227,10,227,11],[227,8,227,9],[237,8,237,9],[238,14,241,15],[243,14,243,15],[3,14,3,15],[4,14,4,15],[5,14,5,15],[6,14,6,15],[7,14,7,15],[8,14,8,15],[9,14,9,15],[10,14,10,15],[11,14,11,15],[12,14,12,15],[13,14,13,15],[14,14,14,15],[15,14,15,15],[16,14,16,15],[228,14,231,15],[233,14,233,15],[208,14,211,15],[213,14,213,15],[188,14,191,15],[193,14,193,15],[168,14,171,15],[173,14,173,15],[22,14,22,15],[23,14,23,15],[24,14,24,15],[2,14,2,15],[0,0,0,15],[2,10,2,11],[17,14,17,15],[18,14,18,15],[19,14,19,15],[20,14,20,15],[21,14,21,15],[2,2,2,3],[2,4,2,5],[2,6,2,7],[2,8,2,9]]}
["IV. korcsoport LEÁNY Összetett verseny "]
[]
["Név","Sz.év","100 m",null,"Távolugrás",null,"Klabdahajítás",null,"Súlylökés",null,"800 m",null,"Összpont","helyezés","Iskola"]
["Kővári Zsófia",2008,0,{"$f":"IF(C4<6.19,0,VLOOKUP(C4,rfut,5,TRUE))","v":0},0,{"$f":"IF(E4<1.79,0,VLOOKUP(E4,távol,4,TRUE))","v":0},0,{"$f":"IF(G4<4,0,VLOOKUP(G4,kisl,2,TRUE))","v":0},0,{"$f":"IF(I4<3,0,VLOOKUP(I4,súly,3,TRUE))","v":0},"00:00:00",{"$f":"IF(K4<leány!$D$2,0,VLOOKUP(K4,hfut,3,TRUE))","v":0},{"$f":"SUM(D4,F4,H4,L4,J4)","v":0},{"$f":"RANK(M4,Egyéni!$N$3:$N$156,0)","v":41},"Kiskunalacházi Ált.Isk"]
["Jakab Amanda",2008,14.55,154,3.32,84,23.5,71,5.79,58,"00:00:00",{"$f":"IF(K5<leány!$D$2,0,VLOOKUP(K5,hfut,3,TRUE))","v":0},{"$f":"SUM(D5,F5,H5,L5,J5)","v":367},{"$f":"RANK(M5,Egyéni!$N$3:$N$156,0)","v":38},"Kiskunalacházi Ált.Isk"]
["Zöllei Panka",2008,14.07,174,3.41,89,32.1,106,5.52,52,"00:03:41.990",{"$f":"IF(K6<leány!$D$2,0,VLOOKUP(K6,hfut,3,TRUE))","v":35},456,{"$f":"RANK(M6,Egyéni!$N$3:$N$156,0)","v":31},"Kiskunalacházi Ált.Isk"]
[null,null,null,0,null,0,null,0,null,0,null,{"$f":"IF(K7<leány!$D$2,0,VLOOKUP(K7,hfut,3,TRUE))","v":0},0,{"$f":"RANK(M7,Egyéni!$N$3:$N$156,0)","v":41}]
[null,null,null,0,null,0,null,0,null,0,null,{"$f":"IF(K8<leány!$D$2,0,VLOOKUP(K8,hfut,3,TRUE))","v":0},0,{"$f":"RANK(M8,Egyéni!$N$3:$N$156,0)","v":41}]
[null,null,null,0,null,0,null,0,null,0,null,{"$f":"IF(K9<leány!$D$2,0,VLOOKUP(K9,hfut,3,TRUE))","v":0},0,{"$f":"RANK(M9,Egyéni!$N$3:$N$156,0)","v":41}]
[null,null,null,0,null,0,null,0,null,0,null,{"$f":"IF(K10<leány!$D$2,0,VLOOKUP(K10,hfut,3,TRUE))","v":0},0,{"$f":"RANK(M10,Egyéni!$N$3:$N$156,0)","v":41}]
[null,null,null,0,null,0,null,0,null,0,null,{"$f":"IF(K11<leány!$D$2,0,VLOOKUP(K11,hfut,3,TRUE))","v":0},0,{"$f":"RANK(M11,Egyéni!$N$3:$N$156,0)","v":41}]
[null,null,null,0,null,0,null,0,null,0,null,{"$f":"IF(K12<leány!$D$2,0,VLOOKUP(K12,hfut,3,TRUE))","v":0},0,{"$f":"RANK(M12,Egyéni!$N$3:$N$156,0)","v":41}]
[null,null,null,0,null,0,null,0,null,0,null,{"$f":"IF(K13<leány!$D$2,0,VLOOKUP(K13,hfut,3,TRUE))","v":0},0,{"$f":"RANK(M13,Egyéni!$N$3:$N$156,0)","v":41}]
[null,null,null,0,null,0,null,0,null,0,null,{"$f":"IF(K14<leány!$D$2,0,VLOOKUP(K14,hfut,3,TRUE))","v":0},0,{"$f":"RANK(M14,Egyéni!$N$3:$N$156,0)","v":41}]
[null,null,null,0,null,0,null,0,null,0,null,{"$f":"IF(K15<leány!$D$2,0,VLOOKUP(K15,hfut,3,TRUE))","v":0},0,{"$f":"RANK(M15,Egyéni!$N$3:$N$156,0)","v":41}]
[null,null,null,0,null,0,null,0,null,0,null,{"$f":"IF(K16<leány!$D$2,0,VLOOKUP(K16,hfut,3,TRUE))","v":0},0,{"$f":"RANK(M16,Egyéni!$N$3:$N$156,0)","v":41}]
[null,null,null,0,null,0,null,0,null,0,null,{"$f":"IF(K17<leány!$D$2,0,VLOOKUP(K17,hfut,3,TRUE))","v":0},0,{"$f":"RANK(M17,Egyéni!$N$3:$N$156,0)","v":41}]
[null,null,null,0,null,0,null,0,null,0,null,{"$f":"IF(K18<leány!$D$2,0,VLOOKUP(K18,hfut,3,TRUE))","v":0},0,{"$f":"RANK(M18,Egyéni!$N$3:$N$156,0)","v":41}]
[null,null,null,0,null,0,null,0,null,0,null,{"$f":"IF(K19<leány!$D$2,0,VLOOKUP(K19,hfut,3,TRUE))","v":0},0,{"$f":"RANK(M19,Egyéni!$N$3:$N$156,0)","v":41}]
[null,null,null,0,null,0,null,0,null,0,null,{"$f":"IF(K20<leány!$D$2,0,VLOOKUP(K20,hfut,3,TRUE))","v":0},0,{"$f":"RANK(M20,Egyéni!$N$3:$N$156,0)","v":41}]
[null,null,null,0,null,0,null,0,null,0,null,{"$f":"IF(K21<leány!$D$2,0,VLOOKUP(K21,hfut,3,TRUE))","v":0},0,{"$f":"RANK(M21,Egyéni!$N$3:$N$156,0)","v":41}]
[null,null,null,0,null,0,null,0,null,0,null,{"$f":"IF(K22<leány!$D$2,0,VLOOKUP(K22,hfut,3,TRUE))","v":0},0,{"$f":"RANK(M22,Egyéni!$N$3:$N$156,0)","v":41}]
[null,null,null,0,null,0,null,0,null,0,null,{"$f":"IF(K23<leány!$D$2,0,VLOOKUP(K23,hfut,3,TRUE))","v":0},0,{"$f":"RANK(M23,Egyéni!$N$3:$N$156,0)","v":41}]
[null,null,null,0,null,0,null,0,null,0,null,{"$f":"IF(K24<leány!$D$2,0,VLOOKUP(K24,hfut,3,TRUE))","v":0},0,{"$f":"RANK(M24,Egyéni!$N$3:$N$156,0)","v":41}]
[null,null,null,0,null,0,null,0,null,0,null,{"$f":"IF(K25<leány!$D$2,0,VLOOKUP(K25,hfut,3,TRUE))","v":0},0,{"$f":"RANK(M25,Egyéni!$N$3:$N$156,0)","v":41}]
[]
["Ráckeve Szent Imre Katolikus Ált. Isk.",null,null,null,null,null,null,null,null,null,null,null,null,null,{"$f":"RANK(O29,Csapat!$C$3:P30,0)","v":5}]
["Név","Sz.év","100 m",null,"Távolugrás",null,"Klabdahajítás",null,"Súlylökés",null,"800 m",null,"Összpont","Helyezés"]
["Galambos Eszter",2008,13.69,{"$f":"IF(C29<6.19,0,VLOOKUP(C29,rfut,5,TRUE))","v":190},3.81,{"$f":"IF(E29<1.79,0,VLOOKUP(E29,távol,4,TRUE))","v":114},41.92,{"$f":"IF(G29<4,0,VLOOKUP(G29,kisl,2,TRUE))","v":148},8.7799999999999994,{"$f":"IF(I29<3,0,VLOOKUP(I29,súly,3,TRUE))","v":129},"00:03:21.910",{"$f":"IF(K29<leány!$D$2,0,VLOOKUP(K29,hfut,3,TRUE))","v":77},{"$f":"SUM(D29,F29,H29,L29,J29)","v":658},{"$f":"RANK(M29,Egyéni!$N$3:$N$156,0)","v":5},{"$f":"SUM(M29:M34)-MIN(M29:M34)","v":2753}]
["Badits Vanda",2008,13.79,186,3.61,101,38.729999999999997,134,7.06,87,"00:04:10.820",{"$f":"IF(K30<leány!$D$2,0,VLOOKUP(K30,hfut,3,TRUE))","v":0},508,{"$f":"RANK(M30,Egyéni!$N$3:$N$156,0)","v":24}]
["Samu Szellő",2008,13.96,179,3.78,112,27.41,87,7.84,106,"00:03:25.140",{"$f":"IF(K31<leány!$D$2,0,VLOOKUP(K31,hfut,3,TRUE))","v":70},554,{"$f":"RANK(M31,Egyéni!$N$3:$N$156,0)","v":14}]
["Novák Alexandra ",2007,13.62,193,3.96,124,32.39,107,5.0199999999999996,42,"00:03:34.050",{"$f":"IF(K32<leány!$D$2,0,VLOOKUP(K32,hfut,3,TRUE))","v":51},517,{"$f":"RANK(M32,Egyéni!$N$3:$N$156,0)","v":21}]
["Szebellédi Veronika",2007,13.86,183,3.72,108,29.1,93,8.2899999999999991,117,"00:03:52.350",{"$f":"IF(K33<leány!$D$2,0,VLOOKUP(K33,hfut,3,TRUE))","v":15},516,{"$f":"RANK(M33,Egyéni!$N$3:$N$156,0)","v":22}]
[null,null,null,0,null,0,null,0,null,0,null,{"$f":"IF(K34<leány!$D$2,0,VLOOKUP(K34,hfut,3,TRUE))","v":0},0,{"$f":"RANK(M34,Egyéni!$N$3:$N$156,0)","v":41}]
[]
[]
["Ráckevei Ady Endre Gimnázium",null,null,null,null,null,null,null,null,null,null,null,null,null,{"$f":"RANK(O39,Csapat!$C$3:P40,0)","v":2}]
["Név","Sz.év","100 m",null,"Távolugrás",null,"Klabdahajítás",null,"Súlylökés",null,"800 m",null,"Összpont","Helyezés"]
["Rupa Sára",2008,14.91,{"$f":"IF(C39<6.19,0,VLOOKUP(C39,rfut,5,TRUE))","v":139},3.08,{"$f":"IF(E39<1.79,0,VLOOKUP(E39,távol,4,TRUE))","v":70},31.3,{"$f":"IF(G39<4,0,VLOOKUP(G39,kisl,2,TRUE))","v":102},8.39,{"$f":"IF(I39<3,0,VLOOKUP(I39,súly,3,TRUE))","v":119},"00:04:07.740",{"$f":"IF(K39<leány!$D$2,0,VLOOKUP(K39,hfut,3,TRUE))","v":0},{"$f":"SUM(D39,F39,H39,L39,J39)","v":430},{"$f":"RANK(M39,Egyéni!$N$3:$N$156,0)","v":35},{"$f":"SUM(M39:M44)-MIN(M39:M44)","v":2978}]
["Rácz Emese",2007,13.22,211,3.4,89,22.8,69,6.01,63,"00:03:46.090",{"$f":"IF(K40<leány!$D$2,0,VLOOKUP(K40,hfut,3,TRUE))","v":27},459,{"$f":"RANK(M40,Egyéni!$N$3:$N$156,0)","v":30}]
["Csömöri Boglárka",2007,13.28,208,3.86,117,32.4,107,7.26,92,"00:03:41.180",{"$f":"IF(K41<leány!$D$2,0,VLOOKUP(K41,hfut,3,TRUE))","v":37},561,{"$f":"RANK(M41,Egyéni!$N$3:$N$156,0)","v":13}]
["Gólya Boglárka",2007,13.75,187,3.74,109,27.8,88,7.42,96,"00:03:37.530",{"$f":"IF(K42<leány!$D$2,0,VLOOKUP(K42,hfut,3,TRUE))","v":44},524,{"$f":"RANK(M42,Egyéni!$N$3:$N$156,0)","v":18}]
["Sokácz Nóra",2008,13.88,182,3.71,108,44.9,162,7.48,97,"00:03:23.350",{"$f":"IF(K43<leány!$D$2,0,VLOOKUP(K43,hfut,3,TRUE))","v":74},623,{"$f":"RANK(M43,Egyéni!$N$3:$N$156,0)","v":7}]
["Novák Orsolya",2008,13.09,217,4.4000000000000004,152,44.6,161,9.4700000000000006,146,"00:02:56.600",{"$f":"IF(K44<leány!$D$2,0,VLOOKUP(K44,hfut,3,TRUE))","v":135},811,{"$f":"RANK(M44,Egyéni!$N$3:$N$156,0)","v":1}]
[]
[]
["Tököli Weöres Sándor Ált.Iskola",null,null,null,null,null,null,null,null,null,null,null,null,null,{"$f":"RANK(O49,Csapat!$C$3:P50,0)","v":3}]
["Név","Sz.év","100 m",null,"Távolugrás",null,"Klabdahajítás",null,"Súlylökés",null,"800 m",null,"Összpont","Helyezés"]
["Bednanics Dóra",2008,13.42,{"$f":"IF(C49<6.19,0,VLOOKUP(C49,rfut,5,TRUE))","v":202},3.58,{"$f":"IF(E49<1.79,0,VLOOKUP(E49,távol,4,TRUE))","v":99},24.69,{"$f":"IF(G49<4,0,VLOOKUP(G49,kisl,2,TRUE))","v":76},5.73,{"$f":"IF(I49<3,0,VLOOKUP(I49,súly,3,TRUE))","v":57},"00:02:58.380",{"$f":"IF(K49<leány!$D$2,0,VLOOKUP(K49,hfut,3,TRUE))","v":131},{"$f":"SUM(D49,F49,H49,L49,J49)","v":565},{"$f":"RANK(M49,Egyéni!$N$3:$N$156,0)","v":12},{"$f":"SUM(M49:M54)-MIN(M49:M54)","v":2885}]
["Csoma Liliána",2007,12.97,223,3.61,101,36.67,125,6.58,76,"00:03:14.030",{"$f":"IF(K50<leány!$D$2,0,VLOOKUP(K50,hfut,3,TRUE))","v":94},619,{"$f":"RANK(M50,Egyéni!$N$3:$N$156,0)","v":8}]
["Deidda Elisa",2007,13.58,195,3.11,72,25.75,80,5.98,63,"00:03:46.380",{"$f":"IF(K51<leány!$D$2,0,VLOOKUP(K51,hfut,3,TRUE))","v":27},437,{"$f":"RANK(M51,Egyéni!$N$3:$N$156,0)","v":34}]
["Hirth Szonja",2007,13.09,217,3.81,114,25.7,80,5.59,54,"00:03:25.100",{"$f":"IF(K52<leány!$D$2,0,VLOOKUP(K52,hfut,3,TRUE))","v":71},536,{"$f":"RANK(M52,Egyéni!$N$3:$N$156,0)","v":17}]
["Kassai Adrienn Zora",2008,13.88,182,3.81,114,27.49,87,5.61,54,"00:03:37.660",{"$f":"IF(K53<leány!$D$2,0,VLOOKUP(K53,hfut,3,TRUE))","v":44},481,{"$f":"RANK(M53,Egyéni!$N$3:$N$156,0)","v":27}]
["Strucz Laura",2007,12.78,232,3.71,108,36.36,124,7.09,88,"00:02:58.020",{"$f":"IF(K54<leány!$D$2,0,VLOOKUP(K54,hfut,3,TRUE))","v":132},684,{"$f":"RANK(M54,Egyéni!$N$3:$N$156,0)","v":4}]
[]
[]
["Dunaharaszti Körösi Csoma Sándor. Ált. Isk",null,null,null,null,null,null,null,null,null,null,null,null,null,{"$f":"RANK(O59,Csapat!$C$3:P60,0)","v":1}]
["Név","Sz.év","100 m",null,"Távolugrás",null,"Klabdahajítás",null,"Súlylökés",null,"800 m",null,"Összpont","Helyezés"]
["Fehér Fanni ",2008,12.99,{"$f":"IF(C59<6.19,0,VLOOKUP(C59,rfut,5,TRUE))","v":222},3.25,{"$f":"IF(E59<1.79,0,VLOOKUP(E59,távol,4,TRUE))","v":80},32.799999999999997,{"$f":"IF(G59<4,0,VLOOKUP(G59,kisl,2,TRUE))","v":109},6.57,{"$f":"IF(I59<3,0,VLOOKUP(I59,súly,3,TRUE))","v":76},"00:03:11.730",{"$f":"IF(K59<leány!$D$2,0,VLOOKUP(K59,hfut,3,TRUE))","v":99},{"$f":"SUM(D59,F59,H59,L59,J59)","v":586},{"$f":"RANK(M59,Egyéni!$N$3:$N$156,0)","v":11},{"$f":"SUM(M59:M64)-MIN(M59:M64)","v":3128}]
["Gabona Nikol",2008,12.85,229,4.22,140,39.9,139,8.14,113,"00:03:12.300",{"$f":"IF(K60<leány!$D$2,0,VLOOKUP(K60,hfut,3,TRUE))","v":98},719,{"$f":"RANK(M60,Egyéni!$N$3:$N$156,0)","v":3}]
["Horváth Amira",2008,13.98,178,3.37,87,33.799999999999997,113,8.42,120,"00:00:00",{"$f":"IF(K61<leány!$D$2,0,VLOOKUP(K61,hfut,3,TRUE))","v":0},498,{"$f":"RANK(M61,Egyéni!$N$3:$N$156,0)","v":26}]
["Králik Borbála",2007,12.69,236,4.51,160,37.6,129,7.81,105,"00:03:13.570",{"$f":"IF(K62<leány!$D$2,0,VLOOKUP(K62,hfut,3,TRUE))","v":95},725,{"$f":"RANK(M62,Egyéni!$N$3:$N$156,0)","v":2}]
["Ordódy Norina",2007,12.76,233,4.01,127,33.4,111,7.63,100,"00:03:45.280",{"$f":"IF(K63<leány!$D$2,0,VLOOKUP(K63,hfut,3,TRUE))","v":29},600,{"$f":"RANK(M63,Egyéni!$N$3:$N$156,0)","v":9}]
["Sárosi Bianka",2008,13.77,187,3.65,104,28.9,93,5.83,59,"00:03:47.660",{"$f":"IF(K64<leány!$D$2,0,VLOOKUP(K64,hfut,3,TRUE))","v":24},467,{"$f":"RANK(M64,Egyéni!$N$3:$N$156,0)","v":28}]
[]
[]
["Kiskunlacházi Ált.Isk",null,null,null,null,null,null,null,null,null,null,null,null,null,{"$f":"RANK(O69,Csapat!$C$3:P70,0)","v":4}]
["Név","Sz.év","100 m",null,"Távolugrás",null,"Klabdahajítás",null,"Súlylökés",null,"800 m",null,"Összpont","Helyezés"]
["Kovács Daniella",2007,13.51,{"$f":"IF(C69<6.19,0,VLOOKUP(C69,rfut,5,TRUE))","v":198},3.61,{"$f":"IF(E69<1.79,0,VLOOKUP(E69,távol,4,TRUE))","v":101},41.2,{"$f":"IF(G69<4,0,VLOOKUP(G69,kisl,2,TRUE))","v":145},9.4,{"$f":"IF(I69<3,0,VLOOKUP(I69,súly,3,TRUE))","v":145},"00:03:40.830",{"$f":"IF(K69<leány!$D$2,0,VLOOKUP(K69,hfut,3,TRUE))","v":38},{"$f":"SUM(D69,F69,H69,L69,J69)","v":627},{"$f":"RANK(M69,Egyéni!$N$3:$N$156,0)","v":6},{"$f":"SUM(M69:M74)-MIN(M69:M74)","v":2758}]
["Erős Boglárka",2007,13.56,195,4.03,128,39.5,138,8.7899999999999991,129,"00:03:58.280",{"$f":"IF(K70<leány!$D$2,0,VLOOKUP(K70,hfut,3,TRUE))","v":3},593,{"$f":"RANK(M70,Egyéni!$N$3:$N$156,0)","v":10}]
["Lacza Lilla",2008,13.76,187,3.69,106,34.299999999999997,115,6.2,68,"00:03:41.540",{"$f":"IF(K71<leány!$D$2,0,VLOOKUP(K71,hfut,3,TRUE))","v":36},512,{"$f":"RANK(M71,Egyéni!$N$3:$N$156,0)","v":23}]
["Varga Szonja",2008,14.23,167,3.59,100,35,118,8.56,124,"00:03:54.990",{"$f":"IF(K72<leány!$D$2,0,VLOOKUP(K72,hfut,3,TRUE))","v":9},518,{"$f":"RANK(M72,Egyéni!$N$3:$N$156,0)","v":20}]
["Marossy Kiara",2008,13.15,214,3.04,68,23.1,70,5.89,61,"00:03:39.780",{"$f":"IF(K73<leány!$D$2,0,VLOOKUP(K73,hfut,3,TRUE))","v":40},453,{"$f":"RANK(M73,Egyéni!$N$3:$N$156,0)","v":33}]
["Marossy Rebeka",2008,13.12,216,3.62,102,27.6,87,5.24,46,"00:03:31.120",{"$f":"IF(K74<leány!$D$2,0,VLOOKUP(K74,hfut,3,TRUE))","v":57},508,{"$f":"RANK(M74,Egyéni!$N$3:$N$156,0)","v":24}]
[]
[]
["Szigetszentmárton",null,null,null,null,null,null,null,null,null,null,null,null,null,{"$f":"RANK(O79,Csapat!$C$3:P80,0)","v":6}]
["Név","Sz.év","100 m",null,"Távolugrás",null,"Klabdahajítás",null,"Súlylökés",null,"800 m",null,"Összpont","Helyezés"]
["Forró Eszter",2008,15.53,{"$f":"IF(C79<6.19,0,VLOOKUP(C79,rfut,5,TRUE))","v":116},0,{"$f":"IF(E79<1.79,0,VLOOKUP(E79,távol,4,TRUE))","v":0},29.4,{"$f":"IF(G79<4,0,VLOOKUP(G79,kisl,2,TRUE))","v":95},6.16,{"$f":"IF(I79<3,0,VLOOKUP(I79,súly,3,TRUE))","v":67},"00:05:14.120",{"$f":"IF(K79<leány!$D$2,0,VLOOKUP(K79,hfut,3,TRUE))","v":0},{"$f":"SUM(D79,F79,H79,L79,J79)","v":278},{"$f":"RANK(M79,Egyéni!$N$3:$N$156,0)","v":40},{"$f":"SUM(M79:M84)-MIN(M79:M84)","v":2414}]
["Kaszab Lili",2008,15.04,135,3.64,103,22.9,69,4.4800000000000004,30,"00:05:13.820",{"$f":"IF(K80<leány!$D$2,0,VLOOKUP(K80,hfut,3,TRUE))","v":0},337,{"$f":"RANK(M80,Egyéni!$N$3:$N$156,0)","v":39}]
["Molnár Kincső",2008,13.19,212,3.97,124,30.3,98,6.57,76,"00:03:42.490",{"$f":"IF(K81<leány!$D$2,0,VLOOKUP(K81,hfut,3,TRUE))","v":34},544,{"$f":"RANK(M81,Egyéni!$N$3:$N$156,0)","v":15}]
["Réti Blanka",2007,14.12,172,3.52,96,29.2,94,6.59,77,"00:03:45.750",{"$f":"IF(K82<leány!$D$2,0,VLOOKUP(K82,hfut,3,TRUE))","v":28},467,{"$f":"RANK(M82,Egyéni!$N$3:$N$156,0)","v":28}]
["Tátrai Zita",2008,13.81,185,3.98,125,33.700000000000003,113,6.64,78,"00:03:38.940",{"$f":"IF(K83<leány!$D$2,0,VLOOKUP(K83,hfut,3,TRUE))","v":41},542,{"$f":"RANK(M83,Egyéni!$N$3:$N$156,0)","v":16}]
["Váradi Szabina",2007,13.76,187,3.95,123,29.8,96,6.91,84,"00:03:42.810",{"$f":"IF(K84<leány!$D$2,0,VLOOKUP(K84,hfut,3,TRUE))","v":34},524,{"$f":"RANK(M84,Egyéni!$N$3:$N$156,0)","v":18}]
[]
[]
["Áporka Ált. Isk",null,null,null,null,null,null,null,null,null,null,null,null,null,{"$f":"RANK(O89,Csapat!$C$3:P90,0)","v":7}]
["Név","Sz.év","100 m",null,"Távolugrás",null,"Klabdahajítás",null,"Súlylökés",null,"800 m",null,"Összpont","Helyezés"]
["Kelemen Kata Boglárka",2008,14.37,{"$f":"IF(C89<6.19,0,VLOOKUP(C89,rfut,5,TRUE))","v":161},3.22,{"$f":"IF(E89<1.79,0,VLOOKUP(E89,távol,4,TRUE))","v":78},25.21,{"$f":"IF(G89<4,0,VLOOKUP(G89,kisl,2,TRUE))","v":78},5.61,{"$f":"IF(I89<3,0,VLOOKUP(I89,súly,3,TRUE))","v":54},"00:00:00",{"$f":"IF(K89<leány!$D$2,0,VLOOKUP(K89,hfut,3,TRUE))","v":0},{"$f":"SUM(D89,F89,H89,L89,J89)","v":371},{"$f":"RANK(M89,Egyéni!$N$3:$N$156,0)","v":37},{"$f":"SUM(M89:M94)-MIN(M89:M94)","v":1223}]
["Kiss Mollii",2008,14.21,168,3.14,74,18.420000000000002,51,5.88,61,"00:03:38.620",{"$f":"IF(K90<leány!$D$2,0,VLOOKUP(K90,hfut,3,TRUE))","v":42},396,{"$f":"RANK(M90,Egyéni!$N$3:$N$156,0)","v":36}]
["Hihály Bianka",2008,13.54,196,3.15,74,21.55,64,5.68,56,"00:03:27.400",{"$f":"IF(K91<leány!$D$2,0,VLOOKUP(K91,hfut,3,TRUE))","v":66},456,{"$f":"RANK(M91,Egyéni!$N$3:$N$156,0)","v":31}]
[null,null,null,0,null,0,null,0,null,0,null,{"$f":"IF(K92<leány!$D$2,0,VLOOKUP(K92,hfut,3,TRUE))","v":0},0,{"$f":"RANK(M92,Egyéni!$N$3:$N$156,0)","v":41}]
[null,null,null,0,null,0,null,0,null,0,null,{"$f":"IF(K93<leány!$D$2,0,VLOOKUP(K93,hfut,3,TRUE))","v":0},0,{"$f":"RANK(M93,Egyéni!$N$3:$N$156,0)","v":41}]
[null,null,null,0,null,0,null,0,null,0,null,{"$f":"IF(K94<leány!$D$2,0,VLOOKUP(K94,hfut,3,TRUE))","v":0},0,{"$f":"RANK(M94,Egyéni!$N$3:$N$156,0)","v":41}]
[]
[]
[null,null,null,null,null,null,null,null,null,null,null,null,null,null,{"$f":"RANK(O99,Csapat!$C$3:P100,0)","v":8}]
["Név","Sz.év","100 m",null,"Távolugrás",null,"Klabdahajítás",null,"Súlylökés",null,"800 m",null,"Összpont","Helyezés"]
[null,null,null,{"$f":"IF(C99<6.19,0,VLOOKUP(C99,rfut,5,TRUE))","v":0},null,{"$f":"IF(E99<1.79,0,VLOOKUP(E99,távol,4,TRUE))","v":0},null,{"$f":"IF(G99<4,0,VLOOKUP(G99,kisl,2,TRUE))","v":0},null,{"$f":"IF(I99<3,0,VLOOKUP(I99,súly,3,TRUE))","v":0},null,{"$f":"IF(K99<leány!$D$2,0,VLOOKUP(K99,hfut,3,TRUE))","v":0},{"$f":"SUM(D99,F99,H99,L99,J99)","v":0},{"$f":"RANK(M99,Egyéni!$N$3:$N$156,0)","v":41},{"$f":"SUM(M99:M104)-MIN(M99:M104)","v":0}]
[null,null,null,0,null,0,null,0,null,0,null,{"$f":"IF(K100<leány!$D$2,0,VLOOKUP(K100,hfut,3,TRUE))","v":0},0,{"$f":"RANK(M100,Egyéni!$N$3:$N$156,0)","v":41}]
[null,null,null,0,null,0,null,0,null,0,null,{"$f":"IF(K101<leány!$D$2,0,VLOOKUP(K101,hfut,3,TRUE))","v":0},0,{"$f":"RANK(M101,Egyéni!$N$3:$N$156,0)","v":41}]
[null,null,null,0,null,0,null,0,null,0,null,{"$f":"IF(K102<leány!$D$2,0,VLOOKUP(K102,hfut,3,TRUE))","v":0},0,{"$f":"RANK(M102,Egyéni!$N$3:$N$156,0)","v":41}]
[null,null,null,0,null,0,null,0,null,0,null,{"$f":"IF(K103<leány!$D$2,0,VLOOKUP(K103,hfut,3,TRUE))","v":0},0,{"$f":"RANK(M103,Egyéni!$N$3:$N$156,0)","v":41}]
[null,null,null,0,null,0,null,0,null,0,null,{"$f":"IF(K104<leány!$D$2,0,VLOOKUP(K104,hfut,3,TRUE))","v":0},0,{"$f":"RANK(M104,Egyéni!$N$3:$N$156,0)","v":41}]
[]
[]
[null,null,null,null,null,null,null,null,null,null,null,null,null,null,{"$f":"RANK(O109,Csapat!$C$3:P110,0)","v":8}]
["Név","Sz.év","100 m",null,"Távolugrás",null,"Klabdahajítás",null,"Súlylökés",null,"800 m",null,"Összpont","Helyezés"]
[null,null,null,{"$f":"IF(C109<6.19,0,VLOOKUP(C109,rfut,5,TRUE))","v":0},null,{"$f":"IF(E109<1.79,0,VLOOKUP(E109,távol,4,TRUE))","v":0},null,{"$f":"IF(G109<4,0,VLOOKUP(G109,kisl,2,TRUE))","v":0},null,{"$f":"IF(I109<3,0,VLOOKUP(I109,súly,3,TRUE))","v":0},null,{"$f":"IF(K109<leány!$D$2,0,VLOOKUP(K109,hfut,3,TRUE))","v":0},{"$f":"SUM(D109,F109,H109,L109,J109)","v":0},{"$f":"RANK(M109,Egyéni!$N$3:$N$156,0)","v":41},{"$f":"SUM(M109:M114)-MIN(M109:M114)","v":0}]
[null,null,null,0,null,0,null,0,null,0,null,{"$f":"IF(K110<leány!$D$2,0,VLOOKUP(K110,hfut,3,TRUE))","v":0},0,{"$f":"RANK(M110,Egyéni!$N$3:$N$156,0)","v":41}]
[null,null,null,0,null,0,null,0,null,0,null,{"$f":"IF(K111<leány!$D$2,0,VLOOKUP(K111,hfut,3,TRUE))","v":0},0,{"$f":"RANK(M111,Egyéni!$N$3:$N$156,0)","v":41}]
[null,null,null,0,null,0,null,0,null,0,null,{"$f":"IF(K112<leány!$D$2,0,VLOOKUP(K112,hfut,3,TRUE))","v":0},0,{"$f":"RANK(M112,Egyéni!$N$3:$N$156,0)","v":41}]
[null,null,null,0,null,0,null,0,null,0,null,{"$f":"IF(K113<leány!$D$2,0,VLOOKUP(K113,hfut,3,TRUE))","v":0},0,{"$f":"RANK(M113,Egyéni!$N$3:$N$156,0)","v":41}]
[null,null,null,0,null,0,null,0,null,0,null,{"$f":"IF(K114<leány!$D$2,0,VLOOKUP(K114,hfut,3,TRUE))","v":0},0,{"$f":"RANK(M114,Egyéni!$N$3:$N$156,0)","v":41}]
[]
[]
[null,null,null,null,null,null,null,null,null,null,null,null,null,null,{"$f":"RANK(O119,Csapat!$C$3:P120,0)","v":8}]
["Név","Sz.év","100 m",null,"Távolugrás",null,"Klabdahajítás",null,"Súlylökés",null,"800 m",null,"Összpont","Helyezés"]
[null,null,null,{"$f":"IF(C119<6.19,0,VLOOKUP(C119,rfut,5,TRUE))","v":0},null,{"$f":"IF(E119<1.79,0,VLOOKUP(E119,távol,4,TRUE))","v":0},null,{"$f":"IF(G119<4,0,VLOOKUP(G119,kisl,2,TRUE))","v":0},null,{"$f":"IF(I119<3,0,VLOOKUP(I119,súly,3,TRUE))","v":0},null,{"$f":"IF(K119<leány!$D$2,0,VLOOKUP(K119,hfut,3,TRUE))","v":0},{"$f":"SUM(D119,F119,H119,L119,J119)","v":0},{"$f":"RANK(M119,Egyéni!$N$3:$N$156,0)","v":41},{"$f":"SUM(M119:M124)-MIN(M119:M124)","v":0}]
[null,null,null,0,null,0,null,0,null,0,null,{"$f":"IF(K120<leány!$D$2,0,VLOOKUP(K120,hfut,3,TRUE))","v":0},0,{"$f":"RANK(M120,Egyéni!$N$3:$N$156,0)","v":41}]
[null,null,null,0,null,0,null,0,null,0,null,{"$f":"IF(K121<leány!$D$2,0,VLOOKUP(K121,hfut,3,TRUE))","v":0},0,{"$f":"RANK(M121,Egyéni!$N$3:$N$156,0)","v":41}]
[null,null,null,0,null,0,null,0,null,0,null,{"$f":"IF(K122<leány!$D$2,0,VLOOKUP(K122,hfut,3,TRUE))","v":0},0,{"$f":"RANK(M122,Egyéni!$N$3:$N$156,0)","v":41}]
[null,null,null,0,null,0,null,0,null,0,null,{"$f":"IF(K123<leány!$D$2,0,VLOOKUP(K123,hfut,3,TRUE))","v":0},0,{"$f":"RANK(M123,Egyéni!$N$3:$N$156,0)","v":41}]
[null,null,null,0,null,0,null,0,null,0,null,{"$f":"IF(K124<leány!$D$2,0,VLOOKUP(K124,hfut,3,TRUE))","v":0},0,{"$f":"RANK(M124,Egyéni!$N$3:$N$156,0)","v":41}]
[]
[]
[null,null,null,null,null,null,null,null,null,null,null,null,null,null,{"$f":"RANK(O129,Csapat!$C$3:P130,0)","v":8}]
["Név","Sz.év","100 m",null,"Távolugrás",null,"Klabdahajítás",null,"Súlylökés",null,"800 m",null,"Összpont","Helyezés"]
[null,null,null,{"$f":"IF(C129<6.19,0,VLOOKUP(C129,rfut,5,TRUE))","v":0},null,{"$f":"IF(E129<1.79,0,VLOOKUP(E129,távol,4,TRUE))","v":0},null,{"$f":"IF(G129<4,0,VLOOKUP(G129,kisl,2,TRUE))","v":0},null,{"$f":"IF(I129<3,0,VLOOKUP(I129,súly,3,TRUE))","v":0},null,{"$f":"IF(K129<leány!$D$2,0,VLOOKUP(K129,hfut,3,TRUE))","v":0},{"$f":"SUM(D129,F129,H129,L129,J129)","v":0},{"$f":"RANK(M129,Egyéni!$N$3:$N$156,0)","v":41},{"$f":"SUM(M129:M134)-MIN(M129:M134)","v":0}]
[null,null,null,0,null,0,null,0,null,0,null,{"$f":"IF(K130<leány!$D$2,0,VLOOKUP(K130,hfut,3,TRUE))","v":0},0,{"$f":"RANK(M130,Egyéni!$N$3:$N$156,0)","v":41}]
[null,null,null,0,null,0,null,0,null,0,null,{"$f":"IF(K131<leány!$D$2,0,VLOOKUP(K131,hfut,3,TRUE))","v":0},0,{"$f":"RANK(M131,Egyéni!$N$3:$N$156,0)","v":41}]
[null,null,null,0,null,0,null,0,null,0,null,{"$f":"IF(K132<leány!$D$2,0,VLOOKUP(K132,hfut,3,TRUE))","v":0},0,{"$f":"RANK(M132,Egyéni!$N$3:$N$156,0)","v":41}]
[null,null,null,0,null,0,null,0,null,0,null,{"$f":"IF(K133<leány!$D$2,0,VLOOKUP(K133,hfut,3,TRUE))","v":0},0,{"$f":"RANK(M133,Egyéni!$N$3:$N$156,0)","v":41}]
[null,null,null,0,null,0,null,0,null,0,null,{"$f":"IF(K134<leány!$D$2,0,VLOOKUP(K134,hfut,3,TRUE))","v":0},0,{"$f":"RANK(M134,Egyéni!$N$3:$N$156,0)","v":41}]
[]
[]
[null,null,null,null,null,null,null,null,null,null,null,null,null,null,{"$f":"RANK(O139,Csapat!$C$3:P140,0)","v":8}]
["Név","Sz.év","100 m",null,"Távolugrás",null,"Klabdahajítás",null,"Súlylökés",null,"800 m",null,"Összpont","Helyezés"]
[null,null,null,{"$f":"IF(C139<6.19,0,VLOOKUP(C139,rfut,5,TRUE))","v":0},null,{"$f":"IF(E139<1.79,0,VLOOKUP(E139,távol,4,TRUE))","v":0},null,{"$f":"IF(G139<4,0,VLOOKUP(G139,kisl,2,TRUE))","v":0},null,{"$f":"IF(I139<3,0,VLOOKUP(I139,súly,3,TRUE))","v":0},null,{"$f":"IF(K139<leány!$D$2,0,VLOOKUP(K139,hfut,3,TRUE))","v":0},{"$f":"SUM(D139,F139,H139,L139,J139)","v":0},{"$f":"RANK(M139,Egyéni!$N$3:$N$156,0)","v":41},{"$f":"SUM(M139:M144)-MIN(M139:M144)","v":0}]
[null,null,null,0,null,0,null,0,null,0,null,{"$f":"IF(K140<leány!$D$2,0,VLOOKUP(K140,hfut,3,TRUE))","v":0},0,{"$f":"RANK(M140,Egyéni!$N$3:$N$156,0)","v":41}]
[null,null,null,0,null,0,null,0,null,0,null,{"$f":"IF(K141<leány!$D$2,0,VLOOKUP(K141,hfut,3,TRUE))","v":0},0,{"$f":"RANK(M141,Egyéni!$N$3:$N$156,0)","v":41}]
[null,null,null,0,null,0,null,0,null,0,null,{"$f":"IF(K142<leány!$D$2,0,VLOOKUP(K142,hfut,3,TRUE))","v":0},0,{"$f":"RANK(M142,Egyéni!$N$3:$N$156,0)","v":41}]
[null,null,null,0,null,0,null,0,null,0,null,{"$f":"IF(K143<leány!$D$2,0,VLOOKUP(K143,hfut,3,TRUE))","v":0},0,{"$f":"RANK(M143,Egyéni!$N$3:$N$156,0)","v":41}]
[null,null,null,0,null,0,null,0,null,0,null,{"$f":"IF(K144<leány!$D$2,0,VLOOKUP(K144,hfut,3,TRUE))","v":0},0,{"$f":"RANK(M144,Egyéni!$N$3:$N$156,0)","v":41}]
[]
[]
[null,null,null,null,null,null,null,null,null,null,null,null,null,null,{"$f":"RANK(O149,Csapat!$C$3:P150,0)","v":8}]
["Név","Sz.év","100 m",null,"Távolugrás",null,"Klabdahajítás",null,"Súlylökés",null,"800 m",null,"Összpont","Helyezés"]
[null,null,null,{"$f":"IF(C149<6.19,0,VLOOKUP(C149,rfut,5,TRUE))","v":0},null,{"$f":"IF(E149<1.79,0,VLOOKUP(E149,távol,4,TRUE))","v":0},null,{"$f":"IF(G149<4,0,VLOOKUP(G149,kisl,2,TRUE))","v":0},null,{"$f":"IF(I149<3,0,VLOOKUP(I149,súly,3,TRUE))","v":0},null,{"$f":"IF(K149<leány!$D$2,0,VLOOKUP(K149,hfut,3,TRUE))","v":0},{"$f":"SUM(D149,F149,H149,L149,J149)","v":0},{"$f":"RANK(M149,Egyéni!$N$3:$N$156,0)","v":41},{"$f":"SUM(M149:M154)-MIN(M149:M154)","v":0}]
[null,null,null,0,null,0,null,0,null,0,null,{"$f":"IF(K150<leány!$D$2,0,VLOOKUP(K150,hfut,3,TRUE))","v":0},0,{"$f":"RANK(M150,Egyéni!$N$3:$N$156,0)","v":41}]
[null,null,null,0,null,0,null,0,null,0,null,{"$f":"IF(K151<leány!$D$2,0,VLOOKUP(K151,hfut,3,TRUE))","v":0},0,{"$f":"RANK(M151,Egyéni!$N$3:$N$156,0)","v":41}]
[null,null,null,0,null,0,null,0,null,0,null,{"$f":"IF(K152<leány!$D$2,0,VLOOKUP(K152,hfut,3,TRUE))","v":0},0,{"$f":"RANK(M152,Egyéni!$N$3:$N$156,0)","v":41}]
[null,null,null,0,null,0,null,0,null,0,null,{"$f":"IF(K153<leány!$D$2,0,VLOOKUP(K153,hfut,3,TRUE))","v":0},0,{"$f":"RANK(M153,Egyéni!$N$3:$N$156,0)","v":41}]
[null,null,null,0,null,0,null,0,null,0,null,{"$f":"IF(K154<leány!$D$2,0,VLOOKUP(K154,hfut,3,TRUE))","v":0},0,{"$f":"RANK(M154,Egyéni!$N$3:$N$156,0)","v":41}]
[]
[]
[null,null,null,null,null,null,null,null,null,null,null,null,null,null,{"$f":"RANK(O159,Csapat!$C$3:P160,0)","v":8}]
["Név","Sz.év","100 m",null,"Távolugrás",null,"Klabdahajítás",null,"Súlylökés",null,"800 m",null,"Összpont","Helyezés"]
[null,null,null,{"$f":"IF(C159<6.19,0,VLOOKUP(C159,rfut,5,TRUE))","v":0},null,{"$f":"IF(E159<1.79,0,VLOOKUP(E159,távol,4,TRUE))","v":0},null,{"$f":"IF(G159<4,0,VLOOKUP(G159,kisl,2,TRUE))","v":0},null,{"$f":"IF(I159<3,0,VLOOKUP(I159,súly,3,TRUE))","v":0},null,{"$f":"IF(K159<leány!$D$2,0,VLOOKUP(K159,hfut,3,TRUE))","v":0},{"$f":"SUM(D159,F159,H159,L159,J159)","v":0},{"$f":"RANK(M159,Egyéni!$N$3:$N$156,0)","v":41},{"$f":"SUM(M159:M164)-MIN(M159:M164)","v":0}]
[null,null,null,0,null,0,null,0,null,0,null,{"$f":"IF(K160<leány!$D$2,0,VLOOKUP(K160,hfut,3,TRUE))","v":0},0,{"$f":"RANK(M160,Egyéni!$N$3:$N$156,0)","v":41}]
[null,null,null,0,null,0,null,0,null,0,null,{"$f":"IF(K161<leány!$D$2,0,VLOOKUP(K161,hfut,3,TRUE))","v":0},0,{"$f":"RANK(M161,Egyéni!$N$3:$N$156,0)","v":41}]
[null,null,null,0,null,0,null,0,null,0,null,{"$f":"IF(K162<leány!$D$2,0,VLOOKUP(K162,hfut,3,TRUE))","v":0},0,{"$f":"RANK(M162,Egyéni!$N$3:$N$156,0)","v":41}]
[null,null,null,0,null,0,null,0,null,0,null,{"$f":"IF(K163<leány!$D$2,0,VLOOKUP(K163,hfut,3,TRUE))","v":0},0,{"$f":"RANK(M163,Egyéni!$N$3:$N$156,0)","v":41}]
[null,null,null,0,null,0,null,0,null,0,null,{"$f":"IF(K164<leány!$D$2,0,VLOOKUP(K164,hfut,3,TRUE))","v":0},0,{"$f":"RANK(M164,Egyéni!$N$3:$N$156,0)","v":41}]
[]
[]
[null,null,null,null,null,null,null,null,null,null,null,null,null,null,{"$f":"RANK(O169,Csapat!$C$3:P170,0)","v":8}]
["Név","Sz.év","100 m",null,"Távolugrás",null,"Klabdahajítás",null,"Súlylökés",null,"800 m",null,"Összpont","Helyezés"]
[null,null,null,{"$f":"IF(C169<6.19,0,VLOOKUP(C169,rfut,5,TRUE))","v":0},null,{"$f":"IF(E169<1.79,0,VLOOKUP(E169,távol,4,TRUE))","v":0},null,{"$f":"IF(G169<4,0,VLOOKUP(G169,kisl,2,TRUE))","v":0},null,{"$f":"IF(I169<3,0,VLOOKUP(I169,súly,3,TRUE))","v":0},null,{"$f":"IF(K169<leány!$D$2,0,VLOOKUP(K169,hfut,3,TRUE))","v":0},{"$f":"SUM(D169,F169,H169,L169,J169)","v":0},{"$f":"RANK(M169,Egyéni!$N$3:$N$156,0)","v":41},{"$f":"SUM(M169:M174)-MIN(M169:M174)","v":0}]
[null,null,null,0,null,0,null,0,null,0,null,{"$f":"IF(K170<leány!$D$2,0,VLOOKUP(K170,hfut,3,TRUE))","v":0},0,{"$f":"RANK(M170,Egyéni!$N$3:$N$156,0)","v":41}]
[null,null,null,0,null,0,null,0,null,0,null,{"$f":"IF(K171<leány!$D$2,0,VLOOKUP(K171,hfut,3,TRUE))","v":0},0,{"$f":"RANK(M171,Egyéni!$N$3:$N$156,0)","v":41}]
[null,null,null,0,null,0,null,0,null,0,null,{"$f":"IF(K172<leány!$D$2,0,VLOOKUP(K172,hfut,3,TRUE))","v":0},0,{"$f":"RANK(M172,Egyéni!$N$3:$N$156,0)","v":41}]
[null,null,null,0,null,0,null,0,null,0,null,{"$f":"IF(K173<leány!$D$2,0,VLOOKUP(K173,hfut,3,TRUE))","v":0},0,{"$f":"RANK(M173,Egyéni!$N$3:$N$156,0)","v":41}]
[null,null,null,0,null,0,null,0,null,0,null,{"$f":"IF(K174<leány!$D$2,0,VLOOKUP(K174,hfut,3,TRUE))","v":0},0,{"$f":"RANK(M174,Egyéni!$N$3:$N$156,0)","v":41}]
[]
[]
[null,null,null,null,null,null,null,null,null,null,null,null,null,null,{"$f":"RANK(O179,Csapat!$C$3:P180,0)","v":8}]
["Név","Sz.év","100 m",null,"Távolugrás",null,"Klabdahajítás",null,"Súlylökés",null,"800 m",null,"Összpont","Helyezés"]
[null,null,null,{"$f":"IF(C179<6.19,0,VLOOKUP(C179,rfut,5,TRUE))","v":0},null,{"$f":"IF(E179<1.79,0,VLOOKUP(E179,távol,4,TRUE))","v":0},null,{"$f":"IF(G179<4,0,VLOOKUP(G179,kisl,2,TRUE))","v":0},null,{"$f":"IF(I179<3,0,VLOOKUP(I179,súly,3,TRUE))","v":0},null,{"$f":"IF(K179<leány!$D$2,0,VLOOKUP(K179,hfut,3,TRUE))","v":0},{"$f":"SUM(D179,F179,H179,L179,J179)","v":0},{"$f":"RANK(M179,Egyéni!$N$3:$N$156,0)","v":41},{"$f":"SUM(M179:M184)-MIN(M179:M184)","v":0}]
[null,null,null,0,null,0,null,0,null,0,null,{"$f":"IF(K180<leány!$D$2,0,VLOOKUP(K180,hfut,3,TRUE))","v":0},0,{"$f":"RANK(M180,Egyéni!$N$3:$N$156,0)","v":41}]
[null,null,null,0,null,0,null,0,null,0,null,{"$f":"IF(K181<leány!$D$2,0,VLOOKUP(K181,hfut,3,TRUE))","v":0},0,{"$f":"RANK(M181,Egyéni!$N$3:$N$156,0)","v":41}]
[null,null,null,0,null,0,null,0,null,0,null,{"$f":"IF(K182<leány!$D$2,0,VLOOKUP(K182,hfut,3,TRUE))","v":0},0,{"$f":"RANK(M182,Egyéni!$N$3:$N$156,0)","v":41}]
[null,null,null,0,null,0,null,0,null,0,null,{"$f":"IF(K183<leány!$D$2,0,VLOOKUP(K183,hfut,3,TRUE))","v":0},0,{"$f":"RANK(M183,Egyéni!$N$3:$N$156,0)","v":41}]
[null,null,null,0,null,0,null,0,null,0,null,{"$f":"IF(K184<leány!$D$2,0,VLOOKUP(K184,hfut,3,TRUE))","v":0},0,{"$f":"RANK(M184,Egyéni!$N$3:$N$156,0)","v":41}]
[]
[]
[null,null,null,null,null,null,null,null,null,null,null,null,null,null,{"$f":"RANK(O189,Csapat!$C$3:P190,0)","v":8}]
["Név","Sz.év","100 m",null,"Távolugrás",null,"Klabdahajítás",null,"Súlylökés",null,"800 m",null,"Összpont","Helyezés"]
[null,null,null,{"$f":"IF(C189<6.19,0,VLOOKUP(C189,rfut,5,TRUE))","v":0},null,{"$f":"IF(E189<1.79,0,VLOOKUP(E189,távol,4,TRUE))","v":0},null,{"$f":"IF(G189<4,0,VLOOKUP(G189,kisl,2,TRUE))","v":0},null,{"$f":"IF(I189<3,0,VLOOKUP(I189,súly,3,TRUE))","v":0},null,{"$f":"IF(K189<leány!$D$2,0,VLOOKUP(K189,hfut,3,TRUE))","v":0},{"$f":"SUM(D189,F189,H189,L189,J189)","v":0},{"$f":"RANK(M189,Egyéni!$N$3:$N$156,0)","v":41},{"$f":"SUM(M189:M194)-MIN(M189:M194)","v":0}]
[null,null,null,0,null,0,null,0,null,0,null,{"$f":"IF(K190<leány!$D$2,0,VLOOKUP(K190,hfut,3,TRUE))","v":0},0,{"$f":"RANK(M190,Egyéni!$N$3:$N$156,0)","v":41}]
[null,null,null,0,null,0,null,0,null,0,null,{"$f":"IF(K191<leány!$D$2,0,VLOOKUP(K191,hfut,3,TRUE))","v":0},0,{"$f":"RANK(M191,Egyéni!$N$3:$N$156,0)","v":41}]
[null,null,null,0,null,0,null,0,null,0,null,{"$f":"IF(K192<leány!$D$2,0,VLOOKUP(K192,hfut,3,TRUE))","v":0},0,{"$f":"RANK(M192,Egyéni!$N$3:$N$156,0)","v":41}]
[null,null,null,0,null,0,null,0,null,0,null,{"$f":"IF(K193<leány!$D$2,0,VLOOKUP(K193,hfut,3,TRUE))","v":0},0,{"$f":"RANK(M193,Egyéni!$N$3:$N$156,0)","v":41}]
[null,null,null,0,null,0,null,0,null,0,null,{"$f":"IF(K194<leány!$D$2,0,VLOOKUP(K194,hfut,3,TRUE))","v":0},0,{"$f":"RANK(M194,Egyéni!$N$3:$N$156,0)","v":41}]
[]
[]
[null,null,null,null,null,null,null,null,null,null,null,null,null,null,{"$f":"RANK(O199,Csapat!$C$3:P200,0)","v":8}]
["Név","Sz.év","100 m",null,"Távolugrás",null,"Klabdahajítás",null,"Súlylökés",null,"800 m",null,"Összpont","Helyezés"]
[null,null,null,{"$f":"IF(C199<6.19,0,VLOOKUP(C199,rfut,5,TRUE))","v":0},null,{"$f":"IF(E199<1.79,0,VLOOKUP(E199,távol,4,TRUE))","v":0},null,{"$f":"IF(G199<4,0,VLOOKUP(G199,kisl,2,TRUE))","v":0},null,{"$f":"IF(I199<3,0,VLOOKUP(I199,súly,3,TRUE))","v":0},null,{"$f":"IF(K199<leány!$D$2,0,VLOOKUP(K199,hfut,3,TRUE))","v":0},{"$f":"SUM(D199,F199,H199,L199,J199)","v":0},{"$f":"RANK(M199,Egyéni!$N$3:$N$156,0)","v":41},{"$f":"SUM(M199:M204)-MIN(M199:M204)","v":0}]
[null,null,null,0,null,0,null,0,null,0,null,{"$f":"IF(K200<leány!$D$2,0,VLOOKUP(K200,hfut,3,TRUE))","v":0},0,{"$f":"RANK(M200,Egyéni!$N$3:$N$156,0)","v":41}]
[null,null,null,0,null,0,null,0,null,0,null,{"$f":"IF(K201<leány!$D$2,0,VLOOKUP(K201,hfut,3,TRUE))","v":0},0,{"$f":"RANK(M201,Egyéni!$N$3:$N$156,0)","v":41}]
[null,null,null,0,null,0,null,0,null,0,null,{"$f":"IF(K202<leány!$D$2,0,VLOOKUP(K202,hfut,3,TRUE))","v":0},0,{"$f":"RANK(M202,Egyéni!$N$3:$N$156,0)","v":41}]
[null,null,null,0,null,0,null,0,null,0,null,{"$f":"IF(K203<leány!$D$2,0,VLOOKUP(K203,hfut,3,TRUE))","v":0},0,{"$f":"RANK(M203,Egyéni!$N$3:$N$156,0)","v":41}]
[null,null,null,0,null,0,null,0,null,0,null,{"$f":"IF(K204<leány!$D$2,0,VLOOKUP(K204,hfut,3,TRUE))","v":0},0,{"$f":"RANK(M204,Egyéni!$N$3:$N$156,0)","v":41}]
[]
[]
[null,null,null,null,null,null,null,null,null,null,null,null,null,null,{"$f":"RANK(O209,Csapat!$C$3:P210,0)","v":8}]
["Név","Sz.év","100 m",null,"Távolugrás",null,"Klabdahajítás",null,"Súlylökés",null,"800 m",null,"Összpont","Helyezés"]
[null,null,null,{"$f":"IF(C209<6.19,0,VLOOKUP(C209,rfut,5,TRUE))","v":0},null,{"$f":"IF(E209<1.79,0,VLOOKUP(E209,távol,4,TRUE))","v":0},null,{"$f":"IF(G209<4,0,VLOOKUP(G209,kisl,2,TRUE))","v":0},null,{"$f":"IF(I209<3,0,VLOOKUP(I209,súly,3,TRUE))","v":0},null,{"$f":"IF(K209<leány!$D$2,0,VLOOKUP(K209,hfut,3,TRUE))","v":0},{"$f":"SUM(D209,F209,H209,L209,J209)","v":0},{"$f":"RANK(M209,Egyéni!$N$3:$N$156,0)","v":41},{"$f":"SUM(M209:M214)-MIN(M209:M214)","v":0}]
[null,null,null,0,null,0,null,0,null,0,null,{"$f":"IF(K210<leány!$D$2,0,VLOOKUP(K210,hfut,3,TRUE))","v":0},0,{"$f":"RANK(M210,Egyéni!$N$3:$N$156,0)","v":41}]
[null,null,null,0,null,0,null,0,null,0,null,{"$f":"IF(K211<leány!$D$2,0,VLOOKUP(K211,hfut,3,TRUE))","v":0},0,{"$f":"RANK(M211,Egyéni!$N$3:$N$156,0)","v":41}]
[null,null,null,0,null,0,null,0,null,0,null,{"$f":"IF(K212<leány!$D$2,0,VLOOKUP(K212,hfut,3,TRUE))","v":0},0,{"$f":"RANK(M212,Egyéni!$N$3:$N$156,0)","v":41}]
[null,null,null,0,null,0,null,0,null,0,null,{"$f":"IF(K213<leány!$D$2,0,VLOOKUP(K213,hfut,3,TRUE))","v":0},0,{"$f":"RANK(M213,Egyéni!$N$3:$N$156,0)","v":41}]
[null,null,null,0,null,0,null,0,null,0,null,{"$f":"IF(K214<leány!$D$2,0,VLOOKUP(K214,hfut,3,TRUE))","v":0},0,{"$f":"RANK(M214,Egyéni!$N$3:$N$156,0)","v":41}]
[]
[]
[null,null,null,null,null,null,null,null,null,null,null,null,null,null,{"$f":"RANK(O219,Csapat!$C$3:P220,0)","v":8}]
["Név","Sz.év","100 m",null,"Távolugrás",null,"Klabdahajítás",null,"Súlylökés",null,"800 m",null,"Összpont","Helyezés"]
[null,null,null,{"$f":"IF(C219<6.19,0,VLOOKUP(C219,rfut,5,TRUE))","v":0},null,{"$f":"IF(E219<1.79,0,VLOOKUP(E219,távol,4,TRUE))","v":0},null,{"$f":"IF(G219<4,0,VLOOKUP(G219,kisl,2,TRUE))","v":0},null,{"$f":"IF(I219<3,0,VLOOKUP(I219,súly,3,TRUE))","v":0},null,{"$f":"IF(K219<leány!$D$2,0,VLOOKUP(K219,hfut,3,TRUE))","v":0},{"$f":"SUM(D219,F219,H219,L219,J219)","v":0},{"$f":"RANK(M219,Egyéni!$N$3:$N$156,0)","v":41},{"$f":"SUM(M219:M224)-MIN(M219:M224)","v":0}]
[null,null,null,0,null,0,null,0,null,0,null,{"$f":"IF(K220<leány!$D$2,0,VLOOKUP(K220,hfut,3,TRUE))","v":0},0,{"$f":"RANK(M220,Egyéni!$N$3:$N$156,0)","v":41}]
[null,null,null,0,null,0,null,0,null,0,null,{"$f":"IF(K221<leány!$D$2,0,VLOOKUP(K221,hfut,3,TRUE))","v":0},0,{"$f":"RANK(M221,Egyéni!$N$3:$N$156,0)","v":41}]
[null,null,null,0,null,0,null,0,null,0,null,{"$f":"IF(K222<leány!$D$2,0,VLOOKUP(K222,hfut,3,TRUE))","v":0},0,{"$f":"RANK(M222,Egyéni!$N$3:$N$156,0)","v":41}]
[null,null,null,0,null,0,null,0,null,0,null,{"$f":"IF(K223<leány!$D$2,0,VLOOKUP(K223,hfut,3,TRUE))","v":0},0,{"$f":"RANK(M223,Egyéni!$N$3:$N$156,0)","v":41}]
[null,null,null,0,null,0,null,0,null,0,null,{"$f":"IF(K224<leány!$D$2,0,VLOOKUP(K224,hfut,3,TRUE))","v":0},0,{"$f":"RANK(M224,Egyéni!$N$3:$N$156,0)","v":41}]
[]
[]
[null,null,null,null,null,null,null,null,null,null,null,null,null,null,{"$f":"RANK(O229,Csapat!$C$3:P230,0)","v":8}]
["Név","Sz.év","100 m",null,"Távolugrás",null,"Klabdahajítás",null,"Súlylökés",null,"800 m",null,"Összpont","Helyezés"]
[null,null,null,{"$f":"IF(C229<6.19,0,VLOOKUP(C229,rfut,5,TRUE))","v":0},null,{"$f":"IF(E229<1.79,0,VLOOKUP(E229,távol,4,TRUE))","v":0},null,{"$f":"IF(G229<4,0,VLOOKUP(G229,kisl,2,TRUE))","v":0},null,{"$f":"IF(I229<3,0,VLOOKUP(I229,súly,3,TRUE))","v":0},null,{"$f":"IF(K229<leány!$D$2,0,VLOOKUP(K229,hfut,3,TRUE))","v":0},{"$f":"SUM(D229,F229,H229,L229,J229)","v":0},{"$f":"RANK(M229,Egyéni!$N$3:$N$156,0)","v":41},{"$f":"SUM(M229:M234)-MIN(M229:M234)","v":0}]
[null,null,null,0,null,0,null,0,null,0,null,{"$f":"IF(K230<leány!$D$2,0,VLOOKUP(K230,hfut,3,TRUE))","v":0},0,{"$f":"RANK(M230,Egyéni!$N$3:$N$156,0)","v":41}]
[null,null,null,0,null,0,null,0,null,0,null,{"$f":"IF(K231<leány!$D$2,0,VLOOKUP(K231,hfut,3,TRUE))","v":0},0,{"$f":"RANK(M231,Egyéni!$N$3:$N$156,0)","v":41}]
[null,null,null,0,null,0,null,0,null,0,null,{"$f":"IF(K232<leány!$D$2,0,VLOOKUP(K232,hfut,3,TRUE))","v":0},0,{"$f":"RANK(M232,Egyéni!$N$3:$N$156,0)","v":41}]
[null,null,null,0,null,0,null,0,null,0,null,{"$f":"IF(K233<leány!$D$2,0,VLOOKUP(K233,hfut,3,TRUE))","v":0},0,{"$f":"RANK(M233,Egyéni!$N$3:$N$156,0)","v":41}]
[null,null,null,0,null,0,null,0,null,0,null,{"$f":"IF(K234<leány!$D$2,0,VLOOKUP(K234,hfut,3,TRUE))","v":0},0,{"$f":"RANK(M234,Egyéni!$N$3:$N$156,0)","v":41}]
[]
[]
[null,null,null,null,null,null,null,null,null,null,null,null,null,null,{"$f":"RANK(O239,Csapat!$C$3:P240,0)","v":8}]
["Név","Sz.év","100 m",null,"Távolugrás",null,"Klabdahajítás",null,"Súlylökés",null,"800 m",null,"Összpont","Helyezés"]
[null,null,null,{"$f":"IF(C239<6.19,0,VLOOKUP(C239,rfut,5,TRUE))","v":0},null,{"$f":"IF(E239<1.79,0,VLOOKUP(E239,távol,4,TRUE))","v":0},null,{"$f":"IF(G239<4,0,VLOOKUP(G239,kisl,2,TRUE))","v":0},null,{"$f":"IF(I239<3,0,VLOOKUP(I239,súly,3,TRUE))","v":0},null,{"$f":"IF(K239<leány!$D$2,0,VLOOKUP(K239,hfut,3,TRUE))","v":0},{"$f":"SUM(D239,F239,H239,L239,J239)","v":0},{"$f":"RANK(M239,Egyéni!$N$3:$N$156,0)","v":41},{"$f":"SUM(M239:M244)-MIN(M239:M244)","v":0}]
[null,null,null,0,null,0,null,0,null,0,null,{"$f":"IF(K240<leány!$D$2,0,VLOOKUP(K240,hfut,3,TRUE))","v":0},0,{"$f":"RANK(M240,Egyéni!$N$3:$N$156,0)","v":41}]
[null,null,null,0,null,0,null,0,null,0,null,{"$f":"IF(K241<leány!$D$2,0,VLOOKUP(K241,hfut,3,TRUE))","v":0},0,{"$f":"RANK(M241,Egyéni!$N$3:$N$156,0)","v":41}]
[null,null,null,0,null,0,null,0,null,0,null,{"$f":"IF(K242<leány!$D$2,0,VLOOKUP(K242,hfut,3,TRUE))","v":0},0,{"$f":"RANK(M242,Egyéni!$N$3:$N$156,0)","v":41}]
[null,null,null,0,null,0,null,0,null,0,null,{"$f":"IF(K243<leány!$D$2,0,VLOOKUP(K243,hfut,3,TRUE))","v":0},0,{"$f":"RANK(M243,Egyéni!$N$3:$N$156,0)","v":41}]
[null,null,null,0,null,0,null,0,null,0,null,{"$f":"IF(K244<leány!$D$2,0,VLOOKUP(K244,hfut,3,TRUE))","v":0},0,{"$f":"RANK(M244,Egyéni!$N$3:$N$156,0)","v":41}]

{"sheet":"Egyéni","index":2,"n_rows":156,"n_cols":16,"rows_kept":156,"cut":false,"hidden":false,"merged":[[0,0,0,15]]}
["IV. korcsoport LEÁNY EGYÉNI végeredmény (Sorbarendezés Ctrl + t )"]
["Ssz","Név","Szév","100 m","p","Távol","p","Kisl","p","Súly","p","800 m","p","Összp",null,"Iskola"]
["1.",{"$f":"Be!A44","v":"Novák Orsolya"},{"$f":"Be!B44","v":2008},{"$f":"Be!C44","v":13.09},{"$f":"Be!D44","v":217},{"$f":"Be!E44","v":4.4000000000000004},{"$f":"Be!F44","v":152},{"$f":"Be!G44","v":44.6},{"$f":"Be!H44","v":161},{"$f":"Be!I44","v":9.4700000000000006},{"$f":"Be!J44","v":146},{"$f":"Be!K44","v":"00:02:56.600"},{"$f":"Be!L44","v":135},{"$f":"Be!M44","v":811},null,{"$f":"Be!A37","v":"Ráckevei Ady Endre Gimnázium"}]
["2.",{"$f":"Be!A62","v":"Králik Borbála"},{"$f":"Be!B62","v":2007},{"$f":"Be!C62","v":12.69},{"$f":"Be!D62","v":236},{"$f":"Be!E62","v":4.51},{"$f":"Be!F62","v":160},{"$f":"Be!G62","v":37.6},{"$f":"Be!H62","v":129},{"$f":"Be!I62","v":7.81},{"$f":"Be!J62","v":105},{"$f":"Be!K62","v":"00:03:13.570"},{"$f":"Be!L62","v":95},{"$f":"Be!M62","v":725},null,{"$f":"Be!A57","v":"Dunaharaszti Körösi Csoma Sándor. Ált. Isk"}]
["3.",{"$f":"Be!A60","v":"Gabona Nikol"},{"$f":"Be!B60","v":2008},{"$f":"Be!C60","v":12.85},{"$f":"Be!D60","v":229},{"$f":"Be!E60","v":4.22},{"$f":"Be!F60","v":140},{"$f":"Be!G60","v":39.9},{"$f":"Be!H60","v":139},{"$f":"Be!I60","v":8.14},{"$f":"Be!J60","v":113},{"$f":"Be!K60","v":"00:03:12.300"},{"$f":"Be!L60","v":98},{"$f":"Be!M60","v":719},null,{"$f":"Be!A57","v":"Dunaharaszti Körösi Csoma Sándor. Ált. Isk"}]
["4.",{"$f":"Be!A54","v":"Strucz Laura"},{"$f":"Be!B54","v":2007},{"$f":"Be!C54","v":12.78},{"$f":"Be!D54","v":232},{"$f":"Be!E54","v":3.71},{"$f":"Be!F54","v":108},{"$f":"Be!G54","v":36.36},{"$f":"Be!H54","v":124},{"$f":"Be!I54","v":7.09},{"$f":"Be!J54","v":88},{"$f":"Be!K54","v":"00:02:58.020"},{"$f":"Be!L54","v":132},{"$f":"Be!M54","v":684},null,{"$f":"Be!A47","v":"Tököli Weöres Sándor Ált.Iskola"}]
["5.",{"$f":"Be!A29","v":"Galambos Eszter"},{"$f":"Be!B29","v":2008},{"$f":"Be!C29","v":13.69},{"$f":"Be!D29","v":190},{"$f":"Be!E29","v":3.81},{"$f":"Be!F29","v":114},{"$f":"Be!G29","v":41.92},{"$f":"Be!H29","v":148},{"$f":"Be!I29","v":8.7799999999999994},{"$f":"Be!J29","v":129},{"$f":"Be!K29","v":"00:03:21.910"},{"$f":"Be!L29","v":77},{"$f":"Be!M29","v":658},null,{"$f":"Be!A27","v":"Ráckeve Szent Imre Katolikus Ált. Isk."}]
["6.",{"$f":"Be!A69","v":"Kovács Daniella"},{"$f":"Be!B69","v":2007},{"$f":"Be!C69","v":13.51},{"$f":"Be!D69","v":198},{"$f":"Be!E69","v":3.61},{"$f":"Be!F69","v":101},{"$f":"Be!G69","v":41.2},{"$f":"Be!H69","v":145},{"$f":"Be!I69","v":9.4},{"$f":"Be!J69","v":145},{"$f":"Be!K69","v":"00:03:40.830"},{"$f":"Be!L69","v":38},{"$f":"Be!M69","v":627},null,{"$f":"Be!A67","v":"Kiskunlacházi Ált.Isk"}]
["7.",{"$f":"Be!A43","v":"Sokácz Nóra"},{"$f":"Be!B43","v":2008},{"$f":"Be!C43","v":13.88},{"$f":"Be!D43","v":182},{"$f":"Be!E43","v":3.71},{"$f":"Be!F43","v":108},{"$f":"Be!G43","v":44.9},{"$f":"Be!H43","v":162},{"$f":"Be!I43","v":7.48},{"$f":"Be!J43","v":97},{"$f":"Be!K43","v":"00:03:23.350"},{"$f":"Be!L43","v":74},{"$f":"Be!M43","v":623},null,{"$f":"Be!A37","v":"Ráckevei Ady Endre Gimnázium"}]
["8.",{"$f":"Be!A50","v":"Csoma Liliána"},{"$f":"Be!B50","v":2007},{"$f":"Be!C50","v":12.97},{"$f":"Be!D50","v":223},{"$f":"Be!E50","v":3.61},{"$f":"Be!F50","v":101},{"$f":"Be!G50","v":36.67},{"$f":"Be!H50","v":125},{"$f":"Be!I50","v":6.58},{"$f":"Be!J50","v":76},{"$f":"Be!K50","v":"00:03:14.030"},{"$f":"Be!L50","v":94},{"$f":"Be!M50","v":619},null,{"$f":"Be!A47","v":"Tököli Weöres Sándor Ált.Iskola"}]
["9.",{"$f":"Be!A63","v":"Ordódy Norina"},{"$f":"Be!B63","v":2007},{"$f":"Be!C63","v":12.76},{"$f":"Be!D63","v":233},{"$f":"Be!E63","v":4.01},{"$f":"Be!F63","v":127},{"$f":"Be!G63","v":33.4},{"$f":"Be!H63","v":111},{"$f":"Be!I63","v":7.63},{"$f":"Be!J63","v":100},{"$f":"Be!K63","v":"00:03:45.280"},{"$f":"Be!L63","v":29},{"$f":"Be!M63","v":600},null,{"$f":"Be!A57","v":"Dunaharaszti Körösi Csoma Sándor. Ált. Isk"}]
["10.",{"$f":"Be!A70","v":"Erős Boglárka"},{"$f":"Be!B70","v":2007},{"$f":"Be!C70","v":13.56},{"$f":"Be!D70","v":195},{"$f":"Be!E70","v":4.03},{"$f":"Be!F70","v":128},{"$f":"Be!G70","v":39.5},{"$f":"Be!H70","v":138},{"$f":"Be!I70","v":8.7899999999999991},{"$f":"Be!J70","v":129},{"$f":"Be!K70","v":"00:03:58.280"},{"$f":"Be!L70","v":3},{"$f":"Be!M70","v":593},null,{"$f":"Be!A67","v":"Kiskunlacházi Ált.Isk"}]
["11.",{"$f":"Be!A59","v":"Fehér Fanni "},{"$f":"Be!B59","v":2008},{"$f":"Be!C59","v":12.99},{"$f":"Be!D59","v":222},{"$f":"Be!E59","v":3.25},{"$f":"Be!F59","v":80},{"$f":"Be!G59","v":32.799999999999997},{"$f":"Be!H59","v":109},{"$f":"Be!I59","v":6.57},{"$f":"Be!J59","v":76},{"$f":"Be!K59","v":"00:03:11.730"},{"$f":"Be!L59","v":99},{"$f":"Be!M59","v":586},null,{"$f":"Be!A57","v":"Dunaharaszti Körösi Csoma Sándor. Ált. Isk"}]
["12.",{"$f":"Be!A49","v":"Bednanics Dóra"},{"$f":"Be!B49","v":2008},{"$f":"Be!C49","v":13.42},{"$f":"Be!D49","v":202},{"$f":"Be!E49","v":3.58},{"$f":"Be!F49","v":99},{"$f":"Be!G49","v":24.69},{"$f":"Be!H49","v":76},{"$f":"Be!I49","v":5.73},{"$f":"Be!J49","v":57},{"$f":"Be!K49","v":"00:02:58.380"},{"$f":"Be!L49","v":131},{"$f":"Be!M49","v":565},null,{"$f":"Be!A47","v":"Tököli Weöres Sándor Ált.Iskola"}]
["13.",{"$f":"Be!A41","v":"Csömöri Boglárka"},{"$f":"Be!B41","v":2007},{"$f":"Be!C41","v":13.28},{"$f":"Be!D41","v":208},{"$f":"Be!E41","v":3.86},{"$f":"Be!F41","v":117},{"$f":"Be!G41","v":32.4},{"$f":"Be!H41","v":107},{"$f":"Be!I41","v":7.26},{"$f":"Be!J41","v":92},{"$f":"Be!K41","v":"00:03:41.180"},{"$f":"Be!L41","v":37},{"$f":"Be!M41","v":561},null,{"$f":"Be!A37","v":"Ráckevei Ady Endre Gimnázium"}]
["14.",{"$f":"Be!A31","v":"Samu Szellő"},{"$f":"Be!B31","v":2008},{"$f":"Be!C31","v":13.96},{"$f":"Be!D31","v":179},{"$f":"Be!E31","v":3.78},{"$f":"Be!F31","v":112},{"$f":"Be!G31","v":27.41},{"$f":"Be!H31","v":87},{"$f":"Be!I31","v":7.84},{"$f":"Be!J31","v":106},{"$f":"Be!K31","v":"00:03:25.140"},{"$f":"Be!L31","v":70},{"$f":"Be!M31","v":554},null,{"$f":"Be!A27","v":"Ráckeve Szent Imre Katolikus Ált. Isk."}]
["15.",{"$f":"Be!A81","v":"Molnár Kincső"},{"$f":"Be!B81","v":2008},{"$f":"Be!C81","v":13.19},{"$f":"Be!D81","v":212},{"$f":"Be!E81","v":3.97},{"$f":"Be!F81","v":124},{"$f":"Be!G81","v":30.3},{"$f":"Be!H81","v":98},{"$f":"Be!I81","v":6.57},{"$f":"Be!J81","v":76},{"$f":"Be!K81","v":"00:03:42.490"},{"$f":"Be!L81","v":34},{"$f":"Be!M81","v":544},null,{"$f":"Be!A77","v":"Szigetszentmárton"}]
["16.",{"$f":"Be!A83","v":"Tátrai Zita"},{"$f":"Be!B83","v":2008},{"$f":"Be!C83","v":13.81},{"$f":"Be!D83","v":185},{"$f":"Be!E83","v":3.98},{"$f":"Be!F83","v":125},{"$f":"Be!G83","v":33.700000000000003},{"$f":"Be!H83","v":113},{"$f":"Be!I83","v":6.64},{"$f":"Be!J83","v":78},{"$f":"Be!K83","v":"00:03:38.940"},{"$f":"Be!L83","v":41},{"$f":"Be!M83","v":542},null,{"$f":"Be!A77","v":"Szigetszentmárton"}]
["17.",{"$f":"Be!A52","v":"Hirth Szonja"},{"$f":"Be!B52","v":2007},{"$f":"Be!C52","v":13.09},{"$f":"Be!D52","v":217},{"$f":"Be!E52","v":3.81},{"$f":"Be!F52","v":114},{"$f":"Be!G52","v":25.7},{"$f":"Be!H52","v":80},{"$f":"Be!I52","v":5.59},{"$f":"Be!J52","v":54},{"$f":"Be!K52","v":"00:03:25.100"},{"$f":"Be!L52","v":71},{"$f":"Be!M52","v":536},null,{"$f":"Be!A47","v":"Tököli Weöres Sándor Ált.Iskola"}]
["18.",{"$f":"Be!A84","v":"Váradi Szabina"},{"$f":"Be!B84","v":2007},{"$f":"Be!C84","v":13.76},{"$f":"Be!D84","v":187},{"$f":"Be!E84","v":3.95},{"$f":"Be!F84","v":123},{"$f":"Be!G84","v":29.8},{"$f":"Be!H84","v":96},{"$f":"Be!I84","v":6.91},{"$f":"Be!J84","v":84},{"$f":"Be!K84","v":"00:03:42.810"},{"$f":"Be!L84","v":34},{"$f":"Be!M84","v":524},null,{"$f":"Be!A77","v":"Szigetszentmárton"}]
["19.",{"$f":"Be!A42","v":"Gólya Boglárka"},{"$f":"Be!B42","v":2007},{"$f":"Be!C42","v":13.75},{"$f":"Be!D42","v":187},{"$f":"Be!E42","v":3.74},{"$f":"Be!F42","v":109},{"$f":"Be!G42","v":27.8},{"$f":"Be!H42","v":88},{"$f":"Be!I42","v":7.42},{"$f":"Be!J42","v":96},{"$f":"Be!K42","v":"00:03:37.530"},{"$f":"Be!L42","v":44},{"$f":"Be!M42","v":524},null,{"$f":"Be!A37","v":"Ráckevei Ady Endre Gimnázium"}]
["20.",{"$f":"Be!A72","v":"Varga Szonja"},{"$f":"Be!B72","v":2008},{"$f":"Be!C72","v":14.23},{"$f":"Be!D72","v":167},{"$f":"Be!E72","v":3.59},{"$f":"Be!F72","v":100},{"$f":"Be!G72","v":35},{"$f":"Be!H72","v":118},{"$f":"Be!I72","v":8.56},{"$f":"Be!J72","v":124},{"$f":"Be!K72","v":"00:03:54.990"},{"$f":"Be!L72","v":9},{"$f":"Be!M72","v":518},null,{"$f":"Be!A67","v":"Kiskunlacházi Ált.Isk"}]
["21.",{"$f":"Be!A32","v":"Novák Alexandra "},{"$f":"Be!B32","v":2007},{"$f":"Be!C32","v":13.62},{"$f":"Be!D32","v":193},{"$f":"Be!E32","v":3.96},{"$f":"Be!F32","v":124},{"$f":"Be!G32","v":32.39},{"$f":"Be!H32","v":107},{"$f":"Be!I32","v":5.0199999999999996},{"$f":"Be!J32","v":42},{"$f":"Be!K32","v":"00:03:34.050"},{"$f":"Be!L32","v":51},{"$f":"Be!M32","v":517},null,{"$f":"Be!A27","v":"Ráckeve Szent Imre Katolikus Ált. Isk."}]
["22.",{"$f":"Be!A33","v":"Szebellédi Veronika"},{"$f":"Be!B33","v":2007},{"$f":"Be!C33","v":13.86},{"$f":"Be!D33","v":183},{"$f":"Be!E33","v":3.72},{"$f":"Be!F33","v":108},{"$f":"Be!G33","v":29.1},{"$f":"Be!H33","v":93},{"$f":"Be!I33","v":8.2899999999999991},{"$f":"Be!J33","v":117},{"$f":"Be!K33","v":"00:03:52.350"},{"$f":"Be!L33","v":15},{"$f":"Be!M33","v":516},null,{"$f":"Be!A27","v":"Ráckeve Szent Imre Katolikus Ált. Isk."}]
["23.",{"$f":"Be!A71","v":"Lacza Lilla"},{"$f":"Be!B71","v":2008},{"$f":"Be!C71","v":13.76},{"$f":"Be!D71","v":187},{"$f":"Be!E71","v":3.69},{"$f":"Be!F71","v":106},{"$f":"Be!G71","v":34.299999999999997},{"$f":"Be!H71","v":115},{"$f":"Be!I71","v":6.2},{"$f":"Be!J71","v":68},{"$f":"Be!K71","v":"00:03:41.540"},{"$f":"Be!L71","v":36},{"$f":"Be!M71","v":512},null,{"$f":"Be!A67","v":"Kiskunlacházi Ált.Isk"}]
["24.",{"$f":"Be!A30","v":"Badits Vanda"},{"$f":"Be!B30","v":2008},{"$f":"Be!C30","v":13.79},{"$f":"Be!D30","v":186},{"$f":"Be!E30","v":3.61},{"$f":"Be!F30","v":101},{"$f":"Be!G30","v":38.729999999999997},{"$f":"Be!H30","v":134},{"$f":"Be!I30","v":7.06},{"$f":"Be!J30","v":87},{"$f":"Be!K30","v":"00:04:10.820"},{"$f":"Be!L30","v":0},{"$f":"Be!M30","v":508},null,{"$f":"Be!A27","v":"Ráckeve Szent Imre Katolikus Ált. Isk."}]
["25.",{"$f":"Be!A74","v":"Marossy Rebeka"},{"$f":"Be!B74","v":2008},{"$f":"Be!C74","v":13.12},{"$f":"Be!D74","v":216},{"$f":"Be!E74","v":3.62},{"$f":"Be!F74","v":102},{"$f":"Be!G74","v":27.6},{"$f":"Be!H74","v":87},{"$f":"Be!I74","v":5.24},{"$f":"Be!J74","v":46},{"$f":"Be!K74","v":"00:03:31.120"},{"$f":"Be!L74","v":57},{"$f":"Be!M74","v":508},null,{"$f":"Be!A67","v":"Kiskunlacházi Ált.Isk"}]
["26.",{"$f":"Be!A61","v":"Horváth Amira"},{"$f":"Be!B61","v":2008},{"$f":"Be!C61","v":13.98},{"$f":"Be!D61","v":178},{"$f":"Be!E61","v":3.37},{"$f":"Be!F61","v":87},{"$f":"Be!G61","v":33.799999999999997},{"$f":"Be!H61","v":113},{"$f":"Be!I61","v":8.42},{"$f":"Be!J61","v":120},{"$f":"Be!K61","v":"00:00:00"},{"$f":"Be!L61","v":0},{"$f":"Be!M61","v":498},null,{"$f":"Be!A57","v":"Dunaharaszti Körösi Csoma Sándor. Ált. Isk"}]
["27.",{"$f":"Be!A53","v":"Kassai Adrienn Zora"},{"$f":"Be!B53","v":2008},{"$f":"Be!C53","v":13.88},{"$f":"Be!D53","v":182},{"$f":"Be!E53","v":3.81},{"$f":"Be!F53","v":114},{"$f":"Be!G53","v":27.49},{"$f":"Be!H53","v":87},{"$f":"Be!I53","v":5.61},{"$f":"Be!J53","v":54},{"$f":"Be!K53","v":"00:03:37.660"},{"$f":"Be!L53","v":44},{"$f":"Be!M53","v":481},null,{"$f":"Be!A47","v":"Tököli Weöres Sándor Ált.Iskola"}]
["28.",{"$f":"Be!A64","v":"Sárosi Bianka"},{"$f":"Be!B64","v":2008},{"$f":"Be!C64","v":13.77},{"$f":"Be!D64","v":187},{"$f":"Be!E64","v":3.65},{"$f":"Be!F64","v":104},{"$f":"Be!G64","v":28.9},{"$f":"Be!H64","v":93},{"$f":"Be!I64","v":5.83},{"$f":"Be!J64","v":59},{"$f":"Be!K64","v":"00:03:47.660"},{"$f":"Be!L64","v":24},{"$f":"Be!M64","v":467},null,{"$f":"Be!A57","v":"Dunaharaszti Körösi Csoma Sándor. Ált. Isk"}]
["29.",{"$f":"Be!A82","v":"Réti Blanka"},{"$f":"Be!B82","v":2007},{"$f":"Be!C82","v":14.12},{"$f":"Be!D82","v":172},{"$f":"Be!E82","v":3.52},{"$f":"Be!F82","v":96},{"$f":"Be!G82","v":29.2},{"$f":"Be!H82","v":94},{"$f":"Be!I82","v":6.59},{"$f":"Be!J82","v":77},{"$f":"Be!K82","v":"00:03:45.750"},{"$f":"Be!L82","v":28},{"$f":"Be!M82","v":467},null,{"$f":"Be!A77","v":"Szigetszentmárton"}]
["30.",{"$f":"Be!A40","v":"Rácz Emese"},{"$f":"Be!B40","v":2007},{"$f":"Be!C40","v":13.22},{"$f":"Be!D40","v":211},{"$f":"Be!E40","v":3.4},{"$f":"Be!F40","v":89},{"$f":"Be!G40","v":22.8},{"$f":"Be!H40","v":69},{"$f":"Be!I40","v":6.01},{"$f":"Be!J40","v":63},{"$f":"Be!K40","v":"00:03:46.090"},{"$f":"Be!L40","v":27},{"$f":"Be!M40","v":459},null,{"$f":"Be!A37","v":"Ráckevei Ady Endre Gimnázium"}]
["31.",{"$f":"Be!A6","v":"Zöllei Panka"},{"$f":"Be!B6","v":2008},{"$f":"Be!C6","v":14.07},{"$f":"Be!D6","v":174},{"$f":"Be!E6","v":3.41},{"$f":"Be!F6","v":89},{"$f":"Be!G6","v":32.1},{"$f":"Be!H6","v":106},{"$f":"Be!I6","v":5.52},{"$f":"Be!J6","v":52},{"$f":"Be!K6","v":"00:03:41.990"},{"$f":"Be!L6","v":35},{"$f":"Be!M6","v":456},null,{"$f":"Be!O6","v":"Kiskunalacházi Ált.Isk"}]
["32.",{"$f":"Be!A91","v":"Hihály Bianka"},{"$f":"Be!B91","v":2008},{"$f":"Be!C91","v":13.54},{"$f":"Be!D91","v":196},{"$f":"Be!E91","v":3.15},{"$f":"Be!F91","v":74},{"$f":"Be!G91","v":21.55},{"$f":"Be!H91","v":64},{"$f":"Be!I91","v":5.68},{"$f":"Be!J91","v":56},{"$f":"Be!K91","v":"00:03:27.400"},{"$f":"Be!L91","v":66},{"$f":"Be!M91","v":456},null,{"$f":"Be!A87","v":"Áporka Ált. Isk"}]
["33.",{"$f":"Be!A73","v":"Marossy Kiara"},{"$f":"Be!B73","v":2008},{"$f":"Be!C73","v":13.15},{"$f":"Be!D73","v":214},{"$f":"Be!E73","v":3.04},{"$f":"Be!F73","v":68},{"$f":"Be!G73","v":23.1},{"$f":"Be!H73","v":70},{"$f":"Be!I73","v":5.89},{"$f":"Be!J73","v":61},{"$f":"Be!K73","v":"00:03:39.780"},{"$f":"Be!L73","v":40},{"$f":"Be!M73","v":453},null,{"$f":"Be!A67","v":"Kiskunlacházi Ált.Isk"}]
["34.",{"$f":"Be!A51","v":"Deidda Elisa"},{"$f":"Be!B51","v":2007},{"$f":"Be!C51","v":13.58},{"$f":"Be!D51","v":195},{"$f":"Be!E51","v":3.11},{"$f":"Be!F51","v":72},{"$f":"Be!G51","v":25.75},{"$f":"Be!H51","v":80},{"$f":"Be!I51","v":5.98},{"$f":"Be!J51","v":63},{"$f":"Be!K51","v":"00:03:46.380"},{"$f":"Be!L51","v":27},{"$f":"Be!M51","v":437},null,{"$f":"Be!A47","v":"Tököli Weöres Sándor Ált.Iskola"}]
["35.",{"$f":"Be!A39","v":"Rupa Sára"},{"$f":"Be!B39","v":2008},{"$f":"Be!C39","v":14.91},{"$f":"Be!D39","v":139},{"$f":"Be!E39","v":3.08},{"$f":"Be!F39","v":70},{"$f":"Be!G39","v":31.3},{"$f":"Be!H39","v":102},{"$f":"Be!I39","v":8.39},{"$f":"Be!J39","v":119},{"$f":"Be!K39","v":"00:04:07.740"},{"$f":"Be!L39","v":0},{"$f":"Be!M39","v":430},null,{"$f":"Be!A37","v":"Ráckevei Ady Endre Gimnázium"}]
["36.",{"$f":"Be!A90","v":"Kiss Mollii"},{"$f":"Be!B90","v":2008},{"$f":"Be!C90","v":14.21},{"$f":"Be!D90","v":168},{"$f":"Be!E90","v":3.14},{"$f":"Be!F90","v":74},{"$f":"Be!G90","v":18.420000000000002},{"$f":"Be!H90","v":51},{"$f":"Be!I90","v":5.88},{"$f":"Be!J90","v":61},{"$f":"Be!K90","v":"00:03:38.620"},{"$f":"Be!L90","v":42},{"$f":"Be!M90","v":396},null,{"$f":"Be!A87","v":"Áporka Ált. Isk"}]
["37.",{"$f":"Be!A89","v":"Kelemen Kata Boglárka"},{"$f":"Be!B89","v":2008},{"$f":"Be!C89","v":14.37},{"$f":"Be!D89","v":161},{"$f":"Be!E89","v":3.22},{"$f":"Be!F89","v":78},{"$f":"Be!G89","v":25.21},{"$f":"Be!H89","v":78},{"$f":"Be!I89","v":5.61},{"$f":"Be!J89","v":54},{"$f":"Be!K89","v":"00:00:00"},{"$f":"Be!L89","v":0},{"$f":"Be!M89","v":371},null,{"$f":"Be!A87","v":"Áporka Ált. Isk"}]
["38.",{"$f":"Be!A5","v":"Jakab Amanda"},{"$f":"Be!B5","v":2008},{"$f":"Be!C5","v":14.55},{"$f":"Be!D5","v":154},{"$f":"Be!E5","v":3.32},{"$f":"Be!F5","v":84},{"$f":"Be!G5","v":23.5},{"$f":"Be!H5","v":71},{"$f":"Be!I5","v":5.79},{"$f":"Be!J5","v":58},{"$f":"Be!K5","v":"00:00:00"},{"$f":"Be!L5","v":0},{"$f":"Be!M5","v":367},null,{"$f":"Be!O5","v":"Kiskunalacházi Ált.Isk"}]
["39.",{"$f":"Be!A80","v":"Kaszab Lili"},{"$f":"Be!B80","v":2008},{"$f":"Be!C80","v":15.04},{"$f":"Be!D80","v":135},{"$f":"Be!E80","v":3.64},{"$f":"Be!F80","v":103},{"$f":"Be!G80","v":22.9},{"$f":"Be!H80","v":69},{"$f":"Be!I80","v":4.4800000000000004},{"$f":"Be!J80","v":30},{"$f":"Be!K80","v":"00:05:13.820"},{"$f":"Be!L80","v":0},{"$f":"Be!M80","v":337},null,{"$f":"Be!A77","v":"Szigetszentmárton"}]
["40.",{"$f":"Be!A79","v":"Forró Eszter"},{"$f":"Be!B79","v":2008},{"$f":"Be!C79","v":15.53},{"$f":"Be!D79","v":116},{"$f":"Be!E79","v":0},{"$f":"Be!F79","v":0},{"$f":"Be!G79","v":29.4},{"$f":"Be!H79","v":95},{"$f":"Be!I79","v":6.16},{"$f":"Be!J79","v":67},{"$f":"Be!K79","v":"00:05:14.120"},{"$f":"Be!L79","v":0},{"$f":"Be!M79","v":278},null,{"$f":"Be!A77","v":"Szigetszentmárton"}]
["41.",{"$f":"Be!A4","v":"Kővári Zsófia"},{"$f":"Be!B4","v":2008},{"$f":"Be!C4","v":0},{"$f":"Be!D4","v":0},{"$f":"Be!E4","v":0},{"$f":"Be!F4","v":0},{"$f":"Be!G4","v":0},{"$f":"Be!H4","v":0},{"$f":"Be!I4","v":0},{"$f":"Be!J4","v":0},{"$f":"Be!K4","v":"00:00:00"},{"$f":"Be!L4","v":0},{"$f":"Be!M4","v":0},null,{"$f":"Be!O4","v":"Kiskunalacházi Ált.Isk"}]
["42.",{"$f":"Be!A7","v":0},{"$f":"Be!B7","v":0},{"$f":"Be!C7","v":0},{"$f":"Be!D7","v":0},{"$f":"Be!E7","v":0},{"$f":"Be!F7","v":0},{"$f":"Be!G7","v":0},{"$f":"Be!H7","v":0},{"$f":"Be!I7","v":0},{"$f":"Be!J7","v":0},{"$f":"Be!K7","v":"00:00:00"},{"$f":"Be!L7","v":0},{"$f":"Be!M7","v":0},null,{"$f":"Be!O7","v":0}]
["43.",{"$f":"Be!A8","v":0},{"$f":"Be!B8","v":0},{"$f":"Be!C8","v":0},{"$f":"Be!D8","v":0},{"$f":"Be!E8","v":0},{"$f":"Be!F8","v":0},{"$f":"Be!G8","v":0},{"$f":"Be!H8","v":0},{"$f":"Be!I8","v":0},{"$f":"Be!J8","v":0},{"$f":"Be!K8","v":"00:00:00"},{"$f":"Be!L8","v":0},{"$f":"Be!M8","v":0},null,{"$f":"Be!O8","v":0}]
["44.",{"$f":"Be!A9","v":0},{"$f":"Be!B9","v":0},{"$f":"Be!C9","v":0},{"$f":"Be!D9","v":0},{"$f":"Be!E9","v":0},{"$f":"Be!F9","v":0},{"$f":"Be!G9","v":0},{"$f":"Be!H9","v":0},{"$f":"Be!I9","v":0},{"$f":"Be!J9","v":0},{"$f":"Be!K9","v":"00:00:00"},{"$f":"Be!L9","v":0},{"$f":"Be!M9","v":0},null,{"$f":"Be!O9","v":0}]
["45.",{"$f":"Be!A10","v":0},{"$f":"Be!B10","v":0},{"$f":"Be!C10","v":0},{"$f":"Be!D10","v":0},{"$f":"Be!E10","v":0},{"$f":"Be!F10","v":0},{"$f":"Be!G10","v":0},{"$f":"Be!H10","v":0},{"$f":"Be!I10","v":0},{"$f":"Be!J10","v":0},{"$f":"Be!K10","v":"00:00:00"},{"$f":"Be!L10","v":0},{"$f":"Be!M10","v":0},null,{"$f":"Be!O10","v":0}]
["46.",{"$f":"Be!A11","v":0},{"$f":"Be!B11","v":0},{"$f":"Be!C11","v":0},{"$f":"Be!D11","v":0},{"$f":"Be!E11","v":0},{"$f":"Be!F11","v":0},{"$f":"Be!G11","v":0},{"$f":"Be!H11","v":0},{"$f":"Be!I11","v":0},{"$f":"Be!J11","v":0},{"$f":"Be!K11","v":"00:00:00"},{"$f":"Be!L11","v":0},{"$f":"Be!M11","v":0},null,{"$f":"Be!O11","v":0}]
["47.",{"$f":"Be!A12","v":0},{"$f":"Be!B12","v":0},{"$f":"Be!C12","v":0},{"$f":"Be!D12","v":0},{"$f":"Be!E12","v":0},{"$f":"Be!F12","v":0},{"$f":"Be!G12","v":0},{"$f":"Be!H12","v":0},{"$f":"Be!I12","v":0},{"$f":"Be!J12","v":0},{"$f":"Be!K12","v":"00:00:00"},{"$f":"Be!L12","v":0},{"$f":"Be!M12","v":0},null,{"$f":"Be!O12","v":0}]
["48.",{"$f":"Be!A13","v":0},{"$f":"Be!B13","v":0},{"$f":"Be!C13","v":0},{"$f":"Be!D13","v":0},{"$f":"Be!E13","v":0},{"$f":"Be!F13","v":0},{"$f":"Be!G13","v":0},{"$f":"Be!H13","v":0},{"$f":"Be!I13","v":0},{"$f":"Be!J13","v":0},{"$f":"Be!K13","v":"00:00:00"},{"$f":"Be!L13","v":0},{"$f":"Be!M13","v":0},null,{"$f":"Be!O13","v":0}]
["49.",{"$f":"Be!A14","v":0},{"$f":"Be!B14","v":0},{"$f":"Be!C14","v":0},{"$f":"Be!D14","v":0},{"$f":"Be!E14","v":0},{"$f":"Be!F14","v":0},{"$f":"Be!G14","v":0},{"$f":"Be!H14","v":0},{"$f":"Be!I14","v":0},{"$f":"Be!J14","v":0},{"$f":"Be!K14","v":"00:00:00"},{"$f":"Be!L14","v":0},{"$f":"Be!M14","v":0},null,{"$f":"Be!O14","v":0}]
["50.",{"$f":"Be!A15","v":0},{"$f":"Be!B15","v":0},{"$f":"Be!C15","v":0},{"$f":"Be!D15","v":0},{"$f":"Be!E15","v":0},{"$f":"Be!F15","v":0},{"$f":"Be!G15","v":0},{"$f":"Be!H15","v":0},{"$f":"Be!I15","v":0},{"$f":"Be!J15","v":0},{"$f":"Be!K15","v":"00:00:00"},{"$f":"Be!L15","v":0},{"$f":"Be!M15","v":0},null,{"$f":"Be!O15","v":0}]
["51.",{"$f":"Be!A16","v":0},{"$f":"Be!B16","v":0},{"$f":"Be!C16","v":0},{"$f":"Be!D16","v":0},{"$f":"Be!E16","v":0},{"$f":"Be!F16","v":0},{"$f":"Be!G16","v":0},{"$f":"Be!H16","v":0},{"$f":"Be!I16","v":0},{"$f":"Be!J16","v":0},{"$f":"Be!K16","v":"00:00:00"},{"$f":"Be!L16","v":0},{"$f":"Be!M16","v":0},null,{"$f":"Be!O16","v":0}]
["52.",{"$f":"Be!A17","v":0},{"$f":"Be!B17","v":0},{"$f":"Be!C17","v":0},{"$f":"Be!D17","v":0},{"$f":"Be!E17","v":0},{"$f":"Be!F17","v":0},{"$f":"Be!G17","v":0},{"$f":"Be!H17","v":0},{"$f":"Be!I17","v":0},{"$f":"Be!J17","v":0},{"$f":"Be!K17","v":"00:00:00"},{"$f":"Be!L17","v":0},{"$f":"Be!M17","v":0},null,{"$f":"Be!O17","v":0}]
["53.",{"$f":"Be!A18","v":0},{"$f":"Be!B18","v":0},{"$f":"Be!C18","v":0},{"$f":"Be!D18","v":0},{"$f":"Be!E18","v":0},{"$f":"Be!F18","v":0},{"$f":"Be!G18","v":0},{"$f":"Be!H18","v":0},{"$f":"Be!I18","v":0},{"$f":"Be!J18","v":0},{"$f":"Be!K18","v":"00:00:00"},{"$f":"Be!L18","v":0},{"$f":"Be!M18","v":0},null,{"$f":"Be!O18","v":0}]
["54.",{"$f":"Be!A19","v":0},{"$f":"Be!B19","v":0},{"$f":"Be!C19","v":0},{"$f":"Be!D19","v":0},{"$f":"Be!E19","v":0},{"$f":"Be!F19","v":0},{"$f":"Be!G19","v":0},{"$f":"Be!H19","v":0},{"$f":"Be!I19","v":0},{"$f":"Be!J19","v":0},{"$f":"Be!K19","v":"00:00:00"},{"$f":"Be!L19","v":0},{"$f":"Be!M19","v":0},null,{"$f":"Be!O19","v":0}]
["55.",{"$f":"Be!A20","v":0},{"$f":"Be!B20","v":0},{"$f":"Be!C20","v":0},{"$f":"Be!D20","v":0},{"$f":"Be!E20","v":0},{"$f":"Be!F20","v":0},{"$f":"Be!G20","v":0},{"$f":"Be!H20","v":0},{"$f":"Be!I20","v":0},{"$f":"Be!J20","v":0},{"$f":"Be!K20","v":"00:00:00"},{"$f":"Be!L20","v":0},{"$f":"Be!M20","v":0},null,{"$f":"Be!O20","v":0}]
["56.",{"$f":"Be!A21","v":0},{"$f":"Be!B21","v":0},{"$f":"Be!C21","v":0},{"$f":"Be!D21","v":0},{"$f":"Be!E21","v":0},{"$f":"Be!F21","v":0},{"$f":"Be!G21","v":0},{"$f":"Be!H21","v":0},{"$f":"Be!I21","v":0},{"$f":"Be!J21","v":0},{"$f":"Be!K21","v":"00:00:00"},{"$f":"Be!L21","v":0},{"$f":"Be!M21","v":0},null,{"$f":"Be!O21","v":0}]
["57.",{"$f":"Be!A22","v":0},{"$f":"Be!B22","v":0},{"$f":"Be!C22","v":0},{"$f":"Be!D22","v":0},{"$f":"Be!E22","v":0},{"$f":"Be!F22","v":0},{"$f":"Be!G22","v":0},{"$f":"Be!H22","v":0},{"$f":"Be!I22","v":0},{"$f":"Be!J22","v":0},{"$f":"Be!K22","v":"00:00:00"},{"$f":"Be!L22","v":0},{"$f":"Be!M22","v":0},null,{"$f":"Be!O22","v":0}]
["58.",{"$f":"Be!A23","v":0},{"$f":"Be!B23","v":0},{"$f":"Be!C23","v":0},{"$f":"Be!D23","v":0},{"$f":"Be!E23","v":0},{"$f":"Be!F23","v":0},{"$f":"Be!G23","v":0},{"$f":"Be!H23","v":0},{"$f":"Be!I23","v":0},{"$f":"Be!J23","v":0},{"$f":"Be!K23","v":"00:00:00"},{"$f":"Be!L23","v":0},{"$f":"Be!M23","v":0},null,{"$f":"Be!O23","v":0}]
["59.",{"$f":"Be!A24","v":0},{"$f":"Be!B24","v":0},{"$f":"Be!C24","v":0},{"$f":"Be!D24","v":0},{"$f":"Be!E24","v":0},{"$f":"Be!F24","v":0},{"$f":"Be!G24","v":0},{"$f":"Be!H24","v":0},{"$f":"Be!I24","v":0},{"$f":"Be!J24","v":0},{"$f":"Be!K24","v":"00:00:00"},{"$f":"Be!L24","v":0},{"$f":"Be!M24","v":0},null,{"$f":"Be!O24","v":0}]
["60.",{"$f":"Be!A25","v":0},{"$f":"Be!B25","v":0},{"$f":"Be!C25","v":0},{"$f":"Be!D25","v":0},{"$f":"Be!E25","v":0},{"$f":"Be!F25","v":0},{"$f":"Be!G25","v":0},{"$f":"Be!H25","v":0},{"$f":"Be!I25","v":0},{"$f":"Be!J25","v":0},{"$f":"Be!K25","v":"00:00:00"},{"$f":"Be!L25","v":0},{"$f":"Be!M25","v":0},null,{"$f":"Be!O25","v":0}]
["61.",{"$f":"Be!A34","v":0},{"$f":"Be!B34","v":0},{"$f":"Be!C34","v":0},{"$f":"Be!D34","v":0},{"$f":"Be!E34","v":0},{"$f":"Be!F34","v":0},{"$f":"Be!G34","v":0},{"$f":"Be!H34","v":0},{"$f":"Be!I34","v":0},{"$f":"Be!J34","v":0},{"$f":"Be!K34","v":"00:00:00"},{"$f":"Be!L34","v":0},{"$f":"Be!M34","v":0},null,{"$f":"Be!A27","v":"Ráckeve Szent Imre Katolikus Ált. Isk."}]
["62.",{"$f":"Be!A92","v":0},{"$f":"Be!B92","v":0},{"$f":"Be!C92","v":0},{"$f":"Be!D92","v":0},{"$f":"Be!E92","v":0},{"$f":"Be!F92","v":0},{"$f":"Be!G92","v":0},{"$f":"Be!H92","v":0},{"$f":"Be!I92","v":0},{"$f":"Be!J92","v":0},{"$f":"Be!K92","v":"00:00:00"},{"$f":"Be!L92","v":0},{"$f":"Be!M92","v":0},null,{"$f":"Be!A87","v":"Áporka Ált. Isk"}]
["63.",{"$f":"Be!A93","v":0},{"$f":"Be!B93","v":0},{"$f":"Be!C93","v":0},{"$f":"Be!D93","v":0},{"$f":"Be!E93","v":0},{"$f":"Be!F93","v":0},{"$f":"Be!G93","v":0},{"$f":"Be!H93","v":0},{"$f":"Be!I93","v":0},{"$f":"Be!J93","v":0},{"$f":"Be!K93","v":"00:00:00"},{"$f":"Be!L93","v":0},{"$f":"Be!M93","v":0},null,{"$f":"Be!A87","v":"Áporka Ált. Isk"}]
["64.",{"$f":"Be!A94","v":0},{"$f":"Be!B94","v":0},{"$f":"Be!C94","v":0},{"$f":"Be!D94","v":0},{"$f":"Be!E94","v":0},{"$f":"Be!F94","v":0},{"$f":"Be!G94","v":0},{"$f":"Be!H94","v":0},{"$f":"Be!I94","v":0},{"$f":"Be!J94","v":0},{"$f":"Be!K94","v":"00:00:00"},{"$f":"Be!L94","v":0},{"$f":"Be!M94","v":0},null,{"$f":"Be!A87","v":"Áporka Ált. Isk"}]
["65.",{"$f":"Be!A99","v":0},{"$f":"Be!B99","v":0},{"$f":"Be!C99","v":0},{"$f":"Be!D99","v":0},{"$f":"Be!E99","v":0},{"$f":"Be!F99","v":0},{"$f":"Be!G99","v":0},{"$f":"Be!H99","v":0},{"$f":"Be!I99","v":0},{"$f":"Be!J99","v":0},{"$f":"Be!K99","v":"00:00:00"},{"$f":"Be!L99","v":0},{"$f":"Be!M99","v":0},null,{"$f":"Be!A97","v":0}]
["66.",{"$f":"Be!A100","v":0},{"$f":"Be!B100","v":0},{"$f":"Be!C100","v":0},{"$f":"Be!D100","v":0},{"$f":"Be!E100","v":0},{"$f":"Be!F100","v":0},{"$f":"Be!G100","v":0},{"$f":"Be!H100","v":0},{"$f":"Be!I100","v":0},{"$f":"Be!J100","v":0},{"$f":"Be!K100","v":"00:00:00"},{"$f":"Be!L100","v":0},{"$f":"Be!M100","v":0},null,{"$f":"Be!A97","v":0}]
["67.",{"$f":"Be!A101","v":0},{"$f":"Be!B101","v":0},{"$f":"Be!C101","v":0},{"$f":"Be!D101","v":0},{"$f":"Be!E101","v":0},{"$f":"Be!F101","v":0},{"$f":"Be!G101","v":0},{"$f":"Be!H101","v":0},{"$f":"Be!I101","v":0},{"$f":"Be!J101","v":0},{"$f":"Be!K101","v":"00:00:00"},{"$f":"Be!L101","v":0},{"$f":"Be!M101","v":0},null,{"$f":"Be!A97","v":0}]
["68.",{"$f":"Be!A102","v":0},{"$f":"Be!B102","v":0},{"$f":"Be!C102","v":0},{"$f":"Be!D102","v":0},{"$f":"Be!E102","v":0},{"$f":"Be!F102","v":0},{"$f":"Be!G102","v":0},{"$f":"Be!H102","v":0},{"$f":"Be!I102","v":0},{"$f":"Be!J102","v":0},{"$f":"Be!K102","v":"00:00:00"},{"$f":"Be!L102","v":0},{"$f":"Be!M102","v":0},null,{"$f":"Be!A97","v":0}]
["69.",{"$f":"Be!A103","v":0},{"$f":"Be!B103","v":0},{"$f":"Be!C103","v":0},{"$f":"Be!D103","v":0},{"$f":"Be!E103","v":0},{"$f":"Be!F103","v":0},{"$f":"Be!G103","v":0},{"$f":"Be!H103","v":0},{"$f":"Be!I103","v":0},{"$f":"Be!J103","v":0},{"$f":"Be!K103","v":"00:00:00"},{"$f":"Be!L103","v":0},{"$f":"Be!M103","v":0},null,{"$f":"Be!A97","v":0}]
["70.",{"$f":"Be!A104","v":0},{"$f":"Be!B104","v":0},{"$f":"Be!C104","v":0},{"$f":"Be!D104","v":0},{"$f":"Be!E104","v":0},{"$f":"Be!F104","v":0},{"$f":"Be!G104","v":0},{"$f":"Be!H104","v":0},{"$f":"Be!I104","v":0},{"$f":"Be!J104","v":0},{"$f":"Be!K104","v":"00:00:00"},{"$f":"Be!L104","v":0},{"$f":"Be!M104","v":0},null,{"$f":"Be!A97","v":0}]
["71.",{"$f":"Be!A109","v":0},{"$f":"Be!B109","v":0},{"$f":"Be!C109","v":0},{"$f":"Be!D109","v":0},{"$f":"Be!E109","v":0},{"$f":"Be!F109","v":0},{"$f":"Be!G109","v":0},{"$f":"Be!H109","v":0},{"$f":"Be!I109","v":0},{"$f":"Be!J109","v":0},{"$f":"Be!K109","v":"00:00:00"},{"$f":"Be!L109","v":0},{"$f":"Be!M109","v":0},null,{"$f":"Be!A107","v":0}]
["72.",{"$f":"Be!A110","v":0},{"$f":"Be!B110","v":0},{"$f":"Be!C110","v":0},{"$f":"Be!D110","v":0},{"$f":"Be!E110","v":0},{"$f":"Be!F110","v":0},{"$f":"Be!G110","v":0},{"$f":"Be!H110","v":0},{"$f":"Be!I110","v":0},{"$f":"Be!J110","v":0},{"$f":"Be!K110","v":"00:00:00"},{"$f":"Be!L110","v":0},{"$f":"Be!M110","v":0},null,{"$f":"Be!A107","v":0}]
["73.",{"$f":"Be!A111","v":0},{"$f":"Be!B111","v":0},{"$f":"Be!C111","v":0},{"$f":"Be!D111","v":0},{"$f":"Be!E111","v":0},{"$f":"Be!F111","v":0},{"$f":"Be!G111","v":0},{"$f":"Be!H111","v":0},{"$f":"Be!I111","v":0},{"$f":"Be!J111","v":0},{"$f":"Be!K111","v":"00:00:00"},{"$f":"Be!L111","v":0},{"$f":"Be!M111","v":0},null,{"$f":"Be!A107","v":0}]
["74.",{"$f":"Be!A112","v":0},{"$f":"Be!B112","v":0},{"$f":"Be!C112","v":0},{"$f":"Be!D112","v":0},{"$f":"Be!E112","v":0},{"$f":"Be!F112","v":0},{"$f":"Be!G112","v":0},{"$f":"Be!H112","v":0},{"$f":"Be!I112","v":0},{"$f":"Be!J112","v":0},{"$f":"Be!K112","v":"00:00:00"},{"$f":"Be!L112","v":0},{"$f":"Be!M112","v":0},null,{"$f":"Be!A107","v":0}]
["75.",{"$f":"Be!A113","v":0},{"$f":"Be!B113","v":0},{"$f":"Be!C113","v":0},{"$f":"Be!D113","v":0},{"$f":"Be!E113","v":0},{"$f":"Be!F113","v":0},{"$f":"Be!G113","v":0},{"$f":"Be!H113","v":0},{"$f":"Be!I113","v":0},{"$f":"Be!J113","v":0},{"$f":"Be!K113","v":"00:00:00"},{"$f":"Be!L113","v":0},{"$f":"Be!M113","v":0},null,{"$f":"Be!A107","v":0}]
["76.",{"$f":"Be!A114","v":0},{"$f":"Be!B114","v":0},{"$f":"Be!C114","v":0},{"$f":"Be!D114","v":0},{"$f":"Be!E114","v":0},{"$f":"Be!F114","v":0},{"$f":"Be!G114","v":0},{"$f":"Be!H114","v":0},{"$f":"Be!I114","v":0},{"$f":"Be!J114","v":0},{"$f":"Be!K114","v":"00:00:00"},{"$f":"Be!L114","v":0},{"$f":"Be!M114","v":0},null,{"$f":"Be!A107","v":0}]
["77.",{"$f":"Be!A119","v":0},{"$f":"Be!B119","v":0},{"$f":"Be!C119","v":0},{"$f":"Be!D119","v":0},{"$f":"Be!E119","v":0},{"$f":"Be!F119","v":0},{"$f":"Be!G119","v":0},{"$f":"Be!H119","v":0},{"$f":"Be!I119","v":0},{"$f":"Be!J119","v":0},{"$f":"Be!K119","v":"00:00:00"},{"$f":"Be!L119","v":0},{"$f":"Be!M119","v":0},null,{"$f":"Be!A117","v":0}]
["78.",{"$f":"Be!A120","v":0},{"$f":"Be!B120","v":0},{"$f":"Be!C120","v":0},{"$f":"Be!D120","v":0},{"$f":"Be!E120","v":0},{"$f":"Be!F120","v":0},{"$f":"Be!G120","v":0},{"$f":"Be!H120","v":0},{"$f":"Be!I120","v":0},{"$f":"Be!J120","v":0},{"$f":"Be!K120","v":"00:00:00"},{"$f":"Be!L120","v":0},{"$f":"Be!M120","v":0},null,{"$f":"Be!A117","v":0}]
["79.",{"$f":"Be!A121","v":0},{"$f":"Be!B121","v":0},{"$f":"Be!C121","v":0},{"$f":"Be!D121","v":0},{"$f":"Be!E121","v":0},{"$f":"Be!F121","v":0},{"$f":"Be!G121","v":0},{"$f":"Be!H121","v":0},{"$f":"Be!I121","v":0},{"$f":"Be!J121","v":0},{"$f":"Be!K121","v":"00:00:00"},{"$f":"Be!L121","v":0},{"$f":"Be!M121","v":0},null,{"$f":"Be!A117","v":0}]
["80.",{"$f":"Be!A122","v":0},{"$f":"Be!B122","v":0},{"$f":"Be!C122","v":0},{"$f":"Be!D122","v":0},{"$f":"Be!E122","v":0},{"$f":"Be!F122","v":0},{"$f":"Be!G122","v":0},{"$f":"Be!H122","v":0},{"$f":"Be!I122","v":0},{"$f":"Be!J122","v":0},{"$f":"Be!K122","v":"00:00:00"},{"$f":"Be!L122","v":0},{"$f":"Be!M122","v":0},null,{"$f":"Be!A117","v":0}]
["81.",{"$f":"Be!A123","v":0},{"$f":"Be!B123","v":0},{"$f":"Be!C123","v":0},{"$f":"Be!D123","v":0},{"$f":"Be!E123","v":0},{"$f":"Be!F123","v":0},{"$f":"Be!G123","v":0},{"$f":"Be!H123","v":0},{"$f":"Be!I123","v":0},{"$f":"Be!J123","v":0},{"$f":"Be!K123","v":"00:00:00"},{"$f":"Be!L123","v":0},{"$f":"Be!M123","v":0},null,{"$f":"Be!A117","v":0}]
["82.",{"$f":"Be!A124","v":0},{"$f":"Be!B124","v":0},{"$f":"Be!C124","v":0},{"$f":"Be!D124","v":0},{"$f":"Be!E124","v":0},{"$f":"Be!F124","v":0},{"$f":"Be!G124","v":0},{"$f":"Be!H124","v":0},{"$f":"Be!I124","v":0},{"$f":"Be!J124","v":0},{"$f":"Be!K124","v":"00:00:00"},{"$f":"Be!L124","v":0},{"$f":"Be!M124","v":0},null,{"$f":"Be!A117","v":0}]
["83.",{"$f":"Be!A129","v":0},{"$f":"Be!B129","v":0},{"$f":"Be!C129","v":0},{"$f":"Be!D129","v":0},{"$f":"Be!E129","v":0},{"$f":"Be!F129","v":0},{"$f":"Be!G129","v":0},{"$f":"Be!H129","v":0},{"$f":"Be!I129","v":0},{"$f":"Be!J129","v":0},{"$f":"Be!K129","v":"00:00:00"},{"$f":"Be!L129","v":0},{"$f":"Be!M129","v":0},null,{"$f":"Be!A127","v":0}]
["84.",{"$f":"Be!A130","v":0},{"$f":"Be!B130","v":0},{"$f":"Be!C130","v":0},{"$f":"Be!D130","v":0},{"$f":"Be!E130","v":0},{"$f":"Be!F130","v":0},{"$f":"Be!G130","v":0},{"$f":"Be!H130","v":0},{"$f":"Be!I130","v":0},{"$f":"Be!J130","v":0},{"$f":"Be!K130","v":"00:00:00"},{"$f":"Be!L130","v":0},{"$f":"Be!M130","v":0},null,{"$f":"Be!A127","v":0}]
["85.",{"$f":"Be!A131","v":0},{"$f":"Be!B131","v":0},{"$f":"Be!C131","v":0},{"$f":"Be!D131","v":0},{"$f":"Be!E131","v":0},{"$f":"Be!F131","v":0},{"$f":"Be!G131","v":0},{"$f":"Be!H131","v":0},{"$f":"Be!I131","v":0},{"$f":"Be!J131","v":0},{"$f":"Be!K131","v":"00:00:00"},{"$f":"Be!L131","v":0},{"$f":"Be!M131","v":0},null,{"$f":"Be!A127","v":0}]
["86.",{"$f":"Be!A132","v":0},{"$f":"Be!B132","v":0},{"$f":"Be!C132","v":0},{"$f":"Be!D132","v":0},{"$f":"Be!E132","v":0},{"$f":"Be!F132","v":0},{"$f":"Be!G132","v":0},{"$f":"Be!H132","v":0},{"$f":"Be!I132","v":0},{"$f":"Be!J132","v":0},{"$f":"Be!K132","v":"00:00:00"},{"$f":"Be!L132","v":0},{"$f":"Be!M132","v":0},null,{"$f":"Be!A127","v":0}]
["87.",{"$f":"Be!A133","v":0},{"$f":"Be!B133","v":0},{"$f":"Be!C133","v":0},{"$f":"Be!D133","v":0},{"$f":"Be!E133","v":0},{"$f":"Be!F133","v":0},{"$f":"Be!G133","v":0},{"$f":"Be!H133","v":0},{"$f":"Be!I133","v":0},{"$f":"Be!J133","v":0},{"$f":"Be!K133","v":"00:00:00"},{"$f":"Be!L133","v":0},{"$f":"Be!M133","v":0},null,{"$f":"Be!A127","v":0}]
["88.",{"$f":"Be!A134","v":0},{"$f":"Be!B134","v":0},{"$f":"Be!C134","v":0},{"$f":"Be!D134","v":0},{"$f":"Be!E134","v":0},{"$f":"Be!F134","v":0},{"$f":"Be!G134","v":0},{"$f":"Be!H134","v":0},{"$f":"Be!I134","v":0},{"$f":"Be!J134","v":0},{"$f":"Be!K134","v":"00:00:00"},{"$f":"Be!L134","v":0},{"$f":"Be!M134","v":0},null,{"$f":"Be!A127","v":0}]
["89.",{"$f":"Be!A139","v":0},{"$f":"Be!B139","v":0},{"$f":"Be!C139","v":0},{"$f":"Be!D139","v":0},{"$f":"Be!E139","v":0},{"$f":"Be!F139","v":0},{"$f":"Be!G139","v":0},{"$f":"Be!H139","v":0},{"$f":"Be!I139","v":0},{"$f":"Be!J139","v":0},{"$f":"Be!K139","v":"00:00:00"},{"$f":"Be!L139","v":0},{"$f":"Be!M139","v":0},null,{"$f":"Be!A137","v":0}]
["90.",{"$f":"Be!A140","v":0},{"$f":"Be!B140","v":0},{"$f":"Be!C140","v":0},{"$f":"Be!D140","v":0},{"$f":"Be!E140","v":0},{"$f":"Be!F140","v":0},{"$f":"Be!G140","v":0},{"$f":"Be!H140","v":0},{"$f":"Be!I140","v":0},{"$f":"Be!J140","v":0},{"$f":"Be!K140","v":"00:00:00"},{"$f":"Be!L140","v":0},{"$f":"Be!M140","v":0},null,{"$f":"Be!A137","v":0}]
["91.",{"$f":"Be!A141","v":0},{"$f":"Be!B141","v":0},{"$f":"Be!C141","v":0},{"$f":"Be!D141","v":0},{"$f":"Be!E141","v":0},{"$f":"Be!F141","v":0},{"$f":"Be!G141","v":0},{"$f":"Be!H141","v":0},{"$f":"Be!I141","v":0},{"$f":"Be!J141","v":0},{"$f":"Be!K141","v":"00:00:00"},{"$f":"Be!L141","v":0},{"$f":"Be!M141","v":0},null,{"$f":"Be!A137","v":0}]
["92.",{"$f":"Be!A142","v":0},{"$f":"Be!B142","v":0},{"$f":"Be!C142","v":0},{"$f":"Be!D142","v":0},{"$f":"Be!E142","v":0},{"$f":"Be!F142","v":0},{"$f":"Be!G142","v":0},{"$f":"Be!H142","v":0},{"$f":"Be!I142","v":0},{"$f":"Be!J142","v":0},{"$f":"Be!K142","v":"00:00:00"},{"$f":"Be!L142","v":0},{"$f":"Be!M142","v":0},null,{"$f":"Be!A137","v":0}]
["93.",{"$f":"Be!A143","v":0},{"$f":"Be!B143","v":0},{"$f":"Be!C143","v":0},{"$f":"Be!D143","v":0},{"$f":"Be!E143","v":0},{"$f":"Be!F143","v":0},{"$f":"Be!G143","v":0},{"$f":"Be!H143","v":0},{"$f":"Be!I143","v":0},{"$f":"Be!J143","v":0},{"$f":"Be!K143","v":"00:00:00"},{"$f":"Be!L143","v":0},{"$f":"Be!M143","v":0},null,{"$f":"Be!A137","v":0}]
["94.",{"$f":"Be!A144","v":0},{"$f":"Be!B144","v":0},{"$f":"Be!C144","v":0},{"$f":"Be!D144","v":0},{"$f":"Be!E144","v":0},{"$f":"Be!F144","v":0},{"$f":"Be!G144","v":0},{"$f":"Be!H144","v":0},{"$f":"Be!I144","v":0},{"$f":"Be!J144","v":0},{"$f":"Be!K144","v":"00:00:00"},{"$f":"Be!L144","v":0},{"$f":"Be!M144","v":0},null,{"$f":"Be!A137","v":0}]
["95.",{"$f":"Be!A149","v":0},{"$f":"Be!B149","v":0},{"$f":"Be!C149","v":0},{"$f":"Be!D149","v":0},{"$f":"Be!E149","v":0},{"$f":"Be!F149","v":0},{"$f":"Be!G149","v":0},{"$f":"Be!H149","v":0},{"$f":"Be!I149","v":0},{"$f":"Be!J149","v":0},{"$f":"Be!K149","v":"00:00:00"},{"$f":"Be!L149","v":0},{"$f":"Be!M149","v":0},null,{"$f":"Be!A147","v":0}]
["96.",{"$f":"Be!A150","v":0},{"$f":"Be!B150","v":0},{"$f":"Be!C150","v":0},{"$f":"Be!D150","v":0},{"$f":"Be!E150","v":0},{"$f":"Be!F150","v":0},{"$f":"Be!G150","v":0},{"$f":"Be!H150","v":0},{"$f":"Be!I150","v":0},{"$f":"Be!J150","v":0},{"$f":"Be!K150","v":"00:00:00"},{"$f":"Be!L150","v":0},{"$f":"Be!M150","v":0},null,{"$f":"Be!A147","v":0}]
["97.",{"$f":"Be!A151","v":0},{"$f":"Be!B151","v":0},{"$f":"Be!C151","v":0},{"$f":"Be!D151","v":0},{"$f":"Be!E151","v":0},{"$f":"Be!F151","v":0},{"$f":"Be!G151","v":0},{"$f":"Be!H151","v":0},{"$f":"Be!I151","v":0},{"$f":"Be!J151","v":0},{"$f":"Be!K151","v":"00:00:00"},{"$f":"Be!L151","v":0},{"$f":"Be!M151","v":0},null,{"$f":"Be!A147","v":0}]
["98.",{"$f":"Be!A152","v":0},{"$f":"Be!B152","v":0},{"$f":"Be!C152","v":0},{"$f":"Be!D152","v":0},{"$f":"Be!E152","v":0},{"$f":"Be!F152","v":0},{"$f":"Be!G152","v":0},{"$f":"Be!H152","v":0},{"$f":"Be!I152","v":0},{"$f":"Be!J152","v":0},{"$f":"Be!K152","v":"00:00:00"},{"$f":"Be!L152","v":0},{"$f":"Be!M152","v":0},null,{"$f":"Be!A147","v":0}]
["99.",{"$f":"Be!A153","v":0},{"$f":"Be!B153","v":0},{"$f":"Be!C153","v":0},{"$f":"Be!D153","v":0},{"$f":"Be!E153","v":0},{"$f":"Be!F153","v":0},{"$f":"Be!G153","v":0},{"$f":"Be!H153","v":0},{"$f":"Be!I153","v":0},{"$f":"Be!J153","v":0},{"$f":"Be!K153","v":"00:00:00"},{"$f":"Be!L153","v":0},{"$f":"Be!M153","v":0},null,{"$f":"Be!A147","v":0}]
["100.",{"$f":"Be!A154","v":0},{"$f":"Be!B154","v":0},{"$f":"Be!C154","v":0},{"$f":"Be!D154","v":0},{"$f":"Be!E154","v":0},{"$f":"Be!F154","v":0},{"$f":"Be!G154","v":0},{"$f":"Be!H154","v":0},{"$f":"Be!I154","v":0},{"$f":"Be!J154","v":0},{"$f":"Be!K154","v":"00:00:00"},{"$f":"Be!L154","v":0},{"$f":"Be!M154","v":0},null,{"$f":"Be!A147","v":0}]
["101.",{"$f":"Be!A159","v":0},{"$f":"Be!B159","v":0},{"$f":"Be!C159","v":0},{"$f":"Be!D159","v":0},{"$f":"Be!E159","v":0},{"$f":"Be!F159","v":0},{"$f":"Be!G159","v":0},{"$f":"Be!H159","v":0},{"$f":"Be!I159","v":0},{"$f":"Be!J159","v":0},{"$f":"Be!K159","v":"00:00:00"},{"$f":"Be!L159","v":0},{"$f":"Be!M159","v":0},null,{"$f":"Be!A157","v":0}]
["102.",{"$f":"Be!A160","v":0},{"$f":"Be!B160","v":0},{"$f":"Be!C160","v":0},{"$f":"Be!D160","v":0},{"$f":"Be!E160","v":0},{"$f":"Be!F160","v":0},{"$f":"Be!G160","v":0},{"$f":"Be!H160","v":0},{"$f":"Be!I160","v":0},{"$f":"Be!J160","v":0},{"$f":"Be!K160","v":"00:00:00"},{"$f":"Be!L160","v":0},{"$f":"Be!M160","v":0},null,{"$f":"Be!A157","v":0}]
["103.",{"$f":"Be!A161","v":0},{"$f":"Be!B161","v":0},{"$f":"Be!C161","v":0},{"$f":"Be!D161","v":0},{"$f":"Be!E161","v":0},{"$f":"Be!F161","v":0},{"$f":"Be!G161","v":0},{"$f":"Be!H161","v":0},{"$f":"Be!I161","v":0},{"$f":"Be!J161","v":0},{"$f":"Be!K161","v":"00:00:00"},{"$f":"Be!L161","v":0},{"$f":"Be!M161","v":0},null,{"$f":"Be!A157","v":0}]
["104.",{"$f":"Be!A162","v":0},{"$f":"Be!B162","v":0},{"$f":"Be!C162","v":0},{"$f":"Be!D162","v":0},{"$f":"Be!E162","v":0},{"$f":"Be!F162","v":0},{"$f":"Be!G162","v":0},{"$f":"Be!H162","v":0},{"$f":"Be!I162","v":0},{"$f":"Be!J162","v":0},{"$f":"Be!K162","v":"00:00:00"},{"$f":"Be!L162","v":0},{"$f":"Be!M162","v":0},null,{"$f":"Be!A157","v":0}]
["105.",{"$f":"Be!A163","v":0},{"$f":"Be!B163","v":0},{"$f":"Be!C163","v":0},{"$f":"Be!D163","v":0},{"$f":"Be!E163","v":0},{"$f":"Be!F163","v":0},{"$f":"Be!G163","v":0},{"$f":"Be!H163","v":0},{"$f":"Be!I163","v":0},{"$f":"Be!J163","v":0},{"$f":"Be!K163","v":"00:00:00"},{"$f":"Be!L163","v":0},{"$f":"Be!M163","v":0},null,{"$f":"Be!A157","v":0}]
["106.",{"$f":"Be!A164","v":0},{"$f":"Be!B164","v":0},{"$f":"Be!C164","v":0},{"$f":"Be!D164","v":0},{"$f":"Be!E164","v":0},{"$f":"Be!F164","v":0},{"$f":"Be!G164","v":0},{"$f":"Be!H164","v":0},{"$f":"Be!I164","v":0},{"$f":"Be!J164","v":0},{"$f":"Be!K164","v":"00:00:00"},{"$f":"Be!L164","v":0},{"$f":"Be!M164","v":0},null,{"$f":"Be!A157","v":0}]
["107.",{"$f":"Be!A169","v":0},{"$f":"Be!B169","v":0},{"$f":"Be!C169","v":0},{"$f":"Be!D169","v":0},{"$f":"Be!E169","v":0},{"$f":"Be!F169","v":0},{"$f":"Be!G169","v":0},{"$f":"Be!H169","v":0},{"$f":"Be!I169","v":0},{"$f":"Be!J169","v":0},{"$f":"Be!K169","v":"00:00:00"},{"$f":"Be!L169","v":0},{"$f":"Be!M169","v":0},null,{"$f":"Be!A167","v":0}]
["108.",{"$f":"Be!A170","v":0},{"$f":"Be!B170","v":0},{"$f":"Be!C170","v":0},{"$f":"Be!D170","v":0},{"$f":"Be!E170","v":0},{"$f":"Be!F170","v":0},{"$f":"Be!G170","v":0},{"$f":"Be!H170","v":0},{"$f":"Be!I170","v":0},{"$f":"Be!J170","v":0},{"$f":"Be!K170","v":"00:00:00"},{"$f":"Be!L170","v":0},{"$f":"Be!M170","v":0},null,{"$f":"Be!A167","v":0}]
["109.",{"$f":"Be!A171","v":0},{"$f":"Be!B171","v":0},{"$f":"Be!C171","v":0},{"$f":"Be!D171","v":0},{"$f":"Be!E171","v":0},{"$f":"Be!F171","v":0},{"$f":"Be!G171","v":0},{"$f":"Be!H171","v":0},{"$f":"Be!I171","v":0},{"$f":"Be!J171","v":0},{"$f":"Be!K171","v":"00:00:00"},{"$f":"Be!L171","v":0},{"$f":"Be!M171","v":0},null,{"$f":"Be!A167","v":0}]
["110.",{"$f":"Be!A172","v":0},{"$f":"Be!B172","v":0},{"$f":"Be!C172","v":0},{"$f":"Be!D172","v":0},{"$f":"Be!E172","v":0},{"$f":"Be!F172","v":0},{"$f":"Be!G172","v":0},{"$f":"Be!H172","v":0},{"$f":"Be!I172","v":0},{"$f":"Be!J172","v":0},{"$f":"Be!K172","v":"00:00:00"},{"$f":"Be!L172","v":0},{"$f":"Be!M172","v":0},null,{"$f":"Be!A167","v":0}]
["111.",{"$f":"Be!A173","v":0},{"$f":"Be!B173","v":0},{"$f":"Be!C173","v":0},{"$f":"Be!D173","v":0},{"$f":"Be!E173","v":0},{"$f":"Be!F173","v":0},{"$f":"Be!G173","v":0},{"$f":"Be!H173","v":0},{"$f":"Be!I173","v":0},{"$f":"Be!J173","v":0},{"$f":"Be!K173","v":"00:00:00"},{"$f":"Be!L173","v":0},{"$f":"Be!M173","v":0},null,{"$f":"Be!A167","v":0}]
["112.",{"$f":"Be!A174","v":0},{"$f":"Be!B174","v":0},{"$f":"Be!C174","v":0},{"$f":"Be!D174","v":0},{"$f":"Be!E174","v":0},{"$f":"Be!F174","v":0},{"$f":"Be!G174","v":0},{"$f":"Be!H174","v":0},{"$f":"Be!I174","v":0},{"$f":"Be!J174","v":0},{"$f":"Be!K174","v":"00:00:00"},{"$f":"Be!L174","v":0},{"$f":"Be!M174","v":0},null,{"$f":"Be!A167","v":0}]
["113.",{"$f":"Be!A179","v":0},{"$f":"Be!B179","v":0},{"$f":"Be!C179","v":0},{"$f":"Be!D179","v":0},{"$f":"Be!E179","v":0},{"$f":"Be!F179","v":0},{"$f":"Be!G179","v":0},{"$f":"Be!H179","v":0},{"$f":"Be!I179","v":0},{"$f":"Be!J179","v":0},{"$f":"Be!K179","v":"00:00:00"},{"$f":"Be!L179","v":0},{"$f":"Be!M179","v":0},null,{"$f":"Be!A177","v":0}]
["114.",{"$f":"Be!A180","v":0},{"$f":"Be!B180","v":0},{"$f":"Be!C180","v":0},{"$f":"Be!D180","v":0},{"$f":"Be!E180","v":0},{"$f":"Be!F180","v":0},{"$f":"Be!G180","v":0},{"$f":"Be!H180","v":0},{"$f":"Be!I180","v":0},{"$f":"Be!J180","v":0},{"$f":"Be!K180","v":"00:00:00"},{"$f":"Be!L180","v":0},{"$f":"Be!M180","v":0},null,{"$f":"Be!A177","v":0}]
["115.",{"$f":"Be!A181","v":0},{"$f":"Be!B181","v":0},{"$f":"Be!C181","v":0},{"$f":"Be!D181","v":0},{"$f":"Be!E181","v":0},{"$f":"Be!F181","v":0},{"$f":"Be!G181","v":0},{"$f":"Be!H181","v":0},{"$f":"Be!I181","v":0},{"$f":"Be!J181","v":0},{"$f":"Be!K181","v":"00:00:00"},{"$f":"Be!L181","v":0},{"$f":"Be!M181","v":0},null,{"$f":"Be!A177","v":0}]
["116.",{"$f":"Be!A182","v":0},{"$f":"Be!B182","v":0},{"$f":"Be!C182","v":0},{"$f":"Be!D182","v":0},{"$f":"Be!E182","v":0},{"$f":"Be!F182","v":0},{"$f":"Be!G182","v":0},{"$f":"Be!H182","v":0},{"$f":"Be!I182","v":0},{"$f":"Be!J182","v":0},{"$f":"Be!K182","v":"00:00:00"},{"$f":"Be!L182","v":0},{"$f":"Be!M182","v":0},null,{"$f":"Be!A177","v":0}]
["117.",{"$f":"Be!A183","v":0},{"$f":"Be!B183","v":0},{"$f":"Be!C183","v":0},{"$f":"Be!D183","v":0},{"$f":"Be!E183","v":0},{"$f":"Be!F183","v":0},{"$f":"Be!G183","v":0},{"$f":"Be!H183","v":0},{"$f":"Be!I183","v":0},{"$f":"Be!J183","v":0},{"$f":"Be!K183","v":"00:00:00"},{"$f":"Be!L183","v":0},{"$f":"Be!M183","v":0},null,{"$f":"Be!A177","v":0}]
["118.",{"$f":"Be!A184","v":0},{"$f":"Be!B184","v":0},{"$f":"Be!C184","v":0},{"$f":"Be!D184","v":0},{"$f":"Be!E184","v":0},{"$f":"Be!F184","v":0},{"$f":"Be!G184","v":0},{"$f":"Be!H184","v":0},{"$f":"Be!I184","v":0},{"$f":"Be!J184","v":0},{"$f":"Be!K184","v":"00:00:00"},{"$f":"Be!L184","v":0},{"$f":"Be!M184","v":0},null,{"$f":"Be!A177","v":0}]
["119.",{"$f":"Be!A189","v":0},{"$f":"Be!B189","v":0},{"$f":"Be!C189","v":0},{"$f":"Be!D189","v":0},{"$f":"Be!E189","v":0},{"$f":"Be!F189","v":0},{"$f":"Be!G189","v":0},{"$f":"Be!H189","v":0},{"$f":"Be!I189","v":0},{"$f":"Be!J189","v":0},{"$f":"Be!K189","v":"00:00:00"},{"$f":"Be!L189","v":0},{"$f":"Be!M189","v":0},null,{"$f":"Be!A187","v":0}]
["120.",{"$f":"Be!A190","v":0},{"$f":"Be!B190","v":0},{"$f":"Be!C190","v":0},{"$f":"Be!D190","v":0},{"$f":"Be!E190","v":0},{"$f":"Be!F190","v":0},{"$f":"Be!G190","v":0},{"$f":"Be!H190","v":0},{"$f":"Be!I190","v":0},{"$f":"Be!J190","v":0},{"$f":"Be!K190","v":"00:00:00"},{"$f":"Be!L190","v":0},{"$f":"Be!M190","v":0},null,{"$f":"Be!A187","v":0}]
["121.",{"$f":"Be!A191","v":0},{"$f":"Be!B191","v":0},{"$f":"Be!C191","v":0},{"$f":"Be!D191","v":0},{"$f":"Be!E191","v":0},{"$f":"Be!F191","v":0},{"$f":"Be!G191","v":0},{"$f":"Be!H191","v":0},{"$f":"Be!I191","v":0},{"$f":"Be!J191","v":0},{"$f":"Be!K191","v":"00:00:00"},{"$f":"Be!L191","v":0},{"$f":"Be!M191","v":0},null,{"$f":"Be!A187","v":0}]
["122.",{"$f":"Be!A192","v":0},{"$f":"Be!B192","v":0},{"$f":"Be!C192","v":0},{"$f":"Be!D192","v":0},{"$f":"Be!E192","v":0},{"$f":"Be!F192","v":0},{"$f":"Be!G192","v":0},{"$f":"Be!H192","v":0},{"$f":"Be!I192","v":0},{"$f":"Be!J192","v":0},{"$f":"Be!K192","v":"00:00:00"},{"$f":"Be!L192","v":0},{"$f":"Be!M192","v":0},null,{"$f":"Be!A187","v":0}]
["123.",{"$f":"Be!A193","v":0},{"$f":"Be!B193","v":0},{"$f":"Be!C193","v":0},{"$f":"Be!D193","v":0},{"$f":"Be!E193","v":0},{"$f":"Be!F193","v":0},{"$f":"Be!G193","v":0},{"$f":"Be!H193","v":0},{"$f":"Be!I193","v":0},{"$f":"Be!J193","v":0},{"$f":"Be!K193","v":"00:00:00"},{"$f":"Be!L193","v":0},{"$f":"Be!M193","v":0},null,{"$f":"Be!A187","v":0}]
["124.",{"$f":"Be!A194","v":0},{"$f":"Be!B194","v":0},{"$f":"Be!C194","v":0},{"$f":"Be!D194","v":0},{"$f":"Be!E194","v":0},{"$f":"Be!F194","v":0},{"$f":"Be!G194","v":0},{"$f":"Be!H194","v":0},{"$f":"Be!I194","v":0},{"$f":"Be!J194","v":0},{"$f":"Be!K194","v":"00:00:00"},{"$f":"Be!L194","v":0},{"$f":"Be!M194","v":0},null,{"$f":"Be!A187","v":0}]
["125.",{"$f":"Be!A199","v":0},{"$f":"Be!B199","v":0},{"$f":"Be!C199","v":0},{"$f":"Be!D199","v":0},{"$f":"Be!E199","v":0},{"$f":"Be!F199","v":0},{"$f":"Be!G199","v":0},{"$f":"Be!H199","v":0},{"$f":"Be!I199","v":0},{"$f":"Be!J199","v":0},{"$f":"Be!K199","v":"00:00:00"},{"$f":"Be!L199","v":0},{"$f":"Be!M199","v":0},null,{"$f":"Be!A197","v":0}]
["126.",{"$f":"Be!A200","v":0},{"$f":"Be!B200","v":0},{"$f":"Be!C200","v":0},{"$f":"Be!D200","v":0},{"$f":"Be!E200","v":0},{"$f":"Be!F200","v":0},{"$f":"Be!G200","v":0},{"$f":"Be!H200","v":0},{"$f":"Be!I200","v":0},{"$f":"Be!J200","v":0},{"$f":"Be!K200","v":"00:00:00"},{"$f":"Be!L200","v":0},{"$f":"Be!M200","v":0},null,{"$f":"Be!A197","v":0}]
["127.",{"$f":"Be!A201","v":0},{"$f":"Be!B201","v":0},{"$f":"Be!C201","v":0},{"$f":"Be!D201","v":0},{"$f":"Be!E201","v":0},{"$f":"Be!F201","v":0},{"$f":"Be!G201","v":0},{"$f":"Be!H201","v":0},{"$f":"Be!I201","v":0},{"$f":"Be!J201","v":0},{"$f":"Be!K201","v":"00:00:00"},{"$f":"Be!L201","v":0},{"$f":"Be!M201","v":0},null,{"$f":"Be!A197","v":0}]
["128.",{"$f":"Be!A202","v":0},{"$f":"Be!B202","v":0},{"$f":"Be!C202","v":0},{"$f":"Be!D202","v":0},{"$f":"Be!E202","v":0},{"$f":"Be!F202","v":0},{"$f":"Be!G202","v":0},{"$f":"Be!H202","v":0},{"$f":"Be!I202","v":0},{"$f":"Be!J202","v":0},{"$f":"Be!K202","v":"00:00:00"},{"$f":"Be!L202","v":0},{"$f":"Be!M202","v":0},null,{"$f":"Be!A197","v":0}]
["129.",{"$f":"Be!A203","v":0},{"$f":"Be!B203","v":0},{"$f":"Be!C203","v":0},{"$f":"Be!D203","v":0},{"$f":"Be!E203","v":0},{"$f":"Be!F203","v":0},{"$f":"Be!G203","v":0},{"$f":"Be!H203","v":0},{"$f":"Be!I203","v":0},{"$f":"Be!J203","v":0},{"$f":"Be!K203","v":"00:00:00"},{"$f":"Be!L203","v":0},{"$f":"Be!M203","v":0},null,{"$f":"Be!A197","v":0}]
["130.",{"$f":"Be!A204","v":0},{"$f":"Be!B204","v":0},{"$f":"Be!C204","v":0},{"$f":"Be!D204","v":0},{"$f":"Be!E204","v":0},{"$f":"Be!F204","v":0},{"$f":"Be!G204","v":0},{"$f":"Be!H204","v":0},{"$f":"Be!I204","v":0},{"$f":"Be!J204","v":0},{"$f":"Be!K204","v":"00:00:00"},{"$f":"Be!L204","v":0},{"$f":"Be!M204","v":0},null,{"$f":"Be!A197","v":0}]
["131.",{"$f":"Be!A209","v":0},{"$f":"Be!B209","v":0},{"$f":"Be!C209","v":0},{"$f":"Be!D209","v":0},{"$f":"Be!E209","v":0},{"$f":"Be!F209","v":0},{"$f":"Be!G209","v":0},{"$f":"Be!H209","v":0},{"$f":"Be!I209","v":0},{"$f":"Be!J209","v":0},{"$f":"Be!K209","v":"00:00:00"},{"$f":"Be!L209","v":0},{"$f":"Be!M209","v":0},null,{"$f":"Be!A207","v":0}]
["132.",{"$f":"Be!A210","v":0},{"$f":"Be!B210","v":0},{"$f":"Be!C210","v":0},{"$f":"Be!D210","v":0},{"$f":"Be!E210","v":0},{"$f":"Be!F210","v":0},{"$f":"Be!G210","v":0},{"$f":"Be!H210","v":0},{"$f":"Be!I210","v":0},{"$f":"Be!J210","v":0},{"$f":"Be!K210","v":"00:00:00"},{"$f":"Be!L210","v":0},{"$f":"Be!M210","v":0},null,{"$f":"Be!A207","v":0}]
["133.",{"$f":"Be!A211","v":0},{"$f":"Be!B211","v":0},{"$f":"Be!C211","v":0},{"$f":"Be!D211","v":0},{"$f":"Be!E211","v":0},{"$f":"Be!F211","v":0},{"$f":"Be!G211","v":0},{"$f":"Be!H211","v":0},{"$f":"Be!I211","v":0},{"$f":"Be!J211","v":0},{"$f":"Be!K211","v":"00:00:00"},{"$f":"Be!L211","v":0},{"$f":"Be!M211","v":0},null,{"$f":"Be!A207","v":0}]
["134.",{"$f":"Be!A212","v":0},{"$f":"Be!B212","v":0},{"$f":"Be!C212","v":0},{"$f":"Be!D212","v":0},{"$f":"Be!E212","v":0},{"$f":"Be!F212","v":0},{"$f":"Be!G212","v":0},{"$f":"Be!H212","v":0},{"$f":"Be!I212","v":0},{"$f":"Be!J212","v":0},{"$f":"Be!K212","v":"00:00:00"},{"$f":"Be!L212","v":0},{"$f":"Be!M212","v":0},null,{"$f":"Be!A207","v":0}]
["135.",{"$f":"Be!A213","v":0},{"$f":"Be!B213","v":0},{"$f":"Be!C213","v":0},{"$f":"Be!D213","v":0},{"$f":"Be!E213","v":0},{"$f":"Be!F213","v":0},{"$f":"Be!G213","v":0},{"$f":"Be!H213","v":0},{"$f":"Be!I213","v":0},{"$f":"Be!J213","v":0},{"$f":"Be!K213","v":"00:00:00"},{"$f":"Be!L213","v":0},{"$f":"Be!M213","v":0},null,{"$f":"Be!A207","v":0}]
["136.",{"$f":"Be!A214","v":0},{"$f":"Be!B214","v":0},{"$f":"Be!C214","v":0},{"$f":"Be!D214","v":0},{"$f":"Be!E214","v":0},{"$f":"Be!F214","v":0},{"$f":"Be!G214","v":0},{"$f":"Be!H214","v":0},{"$f":"Be!I214","v":0},{"$f":"Be!J214","v":0},{"$f":"Be!K214","v":"00:00:00"},{"$f":"Be!L214","v":0},{"$f":"Be!M214","v":0},null,{"$f":"Be!A207","v":0}]
["137.",{"$f":"Be!A219","v":0},{"$f":"Be!B219","v":0},{"$f":"Be!C219","v":0},{"$f":"Be!D219","v":0},{"$f":"Be!E219","v":0},{"$f":"Be!F219","v":0},{"$f":"Be!G219","v":0},{"$f":"Be!H219","v":0},{"$f":"Be!I219","v":0},{"$f":"Be!J219","v":0},{"$f":"Be!K219","v":"00:00:00"},{"$f":"Be!L219","v":0},{"$f":"Be!M219","v":0},null,{"$f":"Be!A217","v":0}]
["138.",{"$f":"Be!A220","v":0},{"$f":"Be!B220","v":0},{"$f":"Be!C220","v":0},{"$f":"Be!D220","v":0},{"$f":"Be!E220","v":0},{"$f":"Be!F220","v":0},{"$f":"Be!G220","v":0},{"$f":"Be!H220","v":0},{"$f":"Be!I220","v":0},{"$f":"Be!J220","v":0},{"$f":"Be!K220","v":"00:00:00"},{"$f":"Be!L220","v":0},{"$f":"Be!M220","v":0},null,{"$f":"Be!A217","v":0}]
["139.",{"$f":"Be!A221","v":0},{"$f":"Be!B221","v":0},{"$f":"Be!C221","v":0},{"$f":"Be!D221","v":0},{"$f":"Be!E221","v":0},{"$f":"Be!F221","v":0},{"$f":"Be!G221","v":0},{"$f":"Be!H221","v":0},{"$f":"Be!I221","v":0},{"$f":"Be!J221","v":0},{"$f":"Be!K221","v":"00:00:00"},{"$f":"Be!L221","v":0},{"$f":"Be!M221","v":0},null,{"$f":"Be!A217","v":0}]
["140.",{"$f":"Be!A222","v":0},{"$f":"Be!B222","v":0},{"$f":"Be!C222","v":0},{"$f":"Be!D222","v":0},{"$f":"Be!E222","v":0},{"$f":"Be!F222","v":0},{"$f":"Be!G222","v":0},{"$f":"Be!H222","v":0},{"$f":"Be!I222","v":0},{"$f":"Be!J222","v":0},{"$f":"Be!K222","v":"00:00:00"},{"$f":"Be!L222","v":0},{"$f":"Be!M222","v":0},null,{"$f":"Be!A217","v":0}]
["141.",{"$f":"Be!A223","v":0},{"$f":"Be!B223","v":0},{"$f":"Be!C223","v":0},{"$f":"Be!D223","v":0},{"$f":"Be!E223","v":0},{"$f":"Be!F223","v":0},{"$f":"Be!G223","v":0},{"$f":"Be!H223","v":0},{"$f":"Be!I223","v":0},{"$f":"Be!J223","v":0},{"$f":"Be!K223","v":"00:00:00"},{"$f":"Be!L223","v":0},{"$f":"Be!M223","v":0},null,{"$f":"Be!A217","v":0}]
["142.",{"$f":"Be!A224","v":0},{"$f":"Be!B224","v":0},{"$f":"Be!C224","v":0},{"$f":"Be!D224","v":0},{"$f":"Be!E224","v":0},{"$f":"Be!F224","v":0},{"$f":"Be!G224","v":0},{"$f":"Be!H224","v":0},{"$f":"Be!I224","v":0},{"$f":"Be!J224","v":0},{"$f":"Be!K224","v":"00:00:00"},{"$f":"Be!L224","v":0},{"$f":"Be!M224","v":0},null,{"$f":"Be!A217","v":0}]
["143.",{"$f":"Be!A229","v":0},{"$f":"Be!B229","v":0},{"$f":"Be!C229","v":0},{"$f":"Be!D229","v":0},{"$f":"Be!E229","v":0},{"$f":"Be!F229","v":0},{"$f":"Be!G229","v":0},{"$f":"Be!H229","v":0},{"$f":"Be!I229","v":0},{"$f":"Be!J229","v":0},{"$f":"Be!K229","v":"00:00:00"},{"$f":"Be!L229","v":0},{"$f":"Be!M229","v":0},null,{"$f":"Be!A227","v":0}]
["144.",{"$f":"Be!A230","v":0},{"$f":"Be!B230","v":0},{"$f":"Be!C230","v":0},{"$f":"Be!D230","v":0},{"$f":"Be!E230","v":0},{"$f":"Be!F230","v":0},{"$f":"Be!G230","v":0},{"$f":"Be!H230","v":0},{"$f":"Be!I230","v":0},{"$f":"Be!J230","v":0},{"$f":"Be!K230","v":"00:00:00"},{"$f":"Be!L230","v":0},{"$f":"Be!M230","v":0},null,{"$f":"Be!A227","v":0}]
["145.",{"$f":"Be!A231","v":0},{"$f":"Be!B231","v":0},{"$f":"Be!C231","v":0},{"$f":"Be!D231","v":0},{"$f":"Be!E231","v":0},{"$f":"Be!F231","v":0},{"$f":"Be!G231","v":0},{"$f":"Be!H231","v":0},{"$f":"Be!I231","v":0},{"$f":"Be!J231","v":0},{"$f":"Be!K231","v":"00:00:00"},{"$f":"Be!L231","v":0},{"$f":"Be!M231","v":0},null,{"$f":"Be!A227","v":0}]
["146.",{"$f":"Be!A232","v":0},{"$f":"Be!B232","v":0},{"$f":"Be!C232","v":0},{"$f":"Be!D232","v":0},{"$f":"Be!E232","v":0},{"$f":"Be!F232","v":0},{"$f":"Be!G232","v":0},{"$f":"Be!H232","v":0},{"$f":"Be!I232","v":0},{"$f":"Be!J232","v":0},{"$f":"Be!K232","v":"00:00:00"},{"$f":"Be!L232","v":0},{"$f":"Be!M232","v":0},null,{"$f":"Be!A227","v":0}]
["147.",{"$f":"Be!A233","v":0},{"$f":"Be!B233","v":0},{"$f":"Be!C233","v":0},{"$f":"Be!D233","v":0},{"$f":"Be!E233","v":0},{"$f":"Be!F233","v":0},{"$f":"Be!G233","v":0},{"$f":"Be!H233","v":0},{"$f":"Be!I233","v":0},{"$f":"Be!J233","v":0},{"$f":"Be!K233","v":"00:00:00"},{"$f":"Be!L233","v":0},{"$f":"Be!M233","v":0},null,{"$f":"Be!A227","v":0}]
["148.",{"$f":"Be!A234","v":0},{"$f":"Be!B234","v":0},{"$f":"Be!C234","v":0},{"$f":"Be!D234","v":0},{"$f":"Be!E234","v":0},{"$f":"Be!F234","v":0},{"$f":"Be!G234","v":0},{"$f":"Be!H234","v":0},{"$f":"Be!I234","v":0},{"$f":"Be!J234","v":0},{"$f":"Be!K234","v":"00:00:00"},{"$f":"Be!L234","v":0},{"$f":"Be!M234","v":0},null,{"$f":"Be!A227","v":0}]
["149.",{"$f":"Be!A239","v":0},{"$f":"Be!B239","v":0},{"$f":"Be!C239","v":0},{"$f":"Be!D239","v":0},{"$f":"Be!E239","v":0},{"$f":"Be!F239","v":0},{"$f":"Be!G239","v":0},{"$f":"Be!H239","v":0},{"$f":"Be!I239","v":0},{"$f":"Be!J239","v":0},{"$f":"Be!K239","v":"00:00:00"},{"$f":"Be!L239","v":0},{"$f":"Be!M239","v":0},null,{"$f":"Be!A237","v":0}]
["150.",{"$f":"Be!A240","v":0},{"$f":"Be!B240","v":0},{"$f":"Be!C240","v":0},{"$f":"Be!D240","v":0},{"$f":"Be!E240","v":0},{"$f":"Be!F240","v":0},{"$f":"Be!G240","v":0},{"$f":"Be!H240","v":0},{"$f":"Be!I240","v":0},{"$f":"Be!J240","v":0},{"$f":"Be!K240","v":"00:00:00"},{"$f":"Be!L240","v":0},{"$f":"Be!M240","v":0},null,{"$f":"Be!A237","v":0}]
["151.",{"$f":"Be!A241","v":0},{"$f":"Be!B241","v":0},{"$f":"Be!C241","v":0},{"$f":"Be!D241","v":0},{"$f":"Be!E241","v":0},{"$f":"Be!F241","v":0},{"$f":"Be!G241","v":0},{"$f":"Be!H241","v":0},{"$f":"Be!I241","v":0},{"$f":"Be!J241","v":0},{"$f":"Be!K241","v":"00:00:00"},{"$f":"Be!L241","v":0},{"$f":"Be!M241","v":0},null,{"$f":"Be!A237","v":0}]
["152.",{"$f":"Be!A242","v":0},{"$f":"Be!B242","v":0},{"$f":"Be!C242","v":0},{"$f":"Be!D242","v":0},{"$f":"Be!E242","v":0},{"$f":"Be!F242","v":0},{"$f":"Be!G242","v":0},{"$f":"Be!H242","v":0},{"$f":"Be!I242","v":0},{"$f":"Be!J242","v":0},{"$f":"Be!K242","v":"00:00:00"},{"$f":"Be!L242","v":0},{"$f":"Be!M242","v":0},null,{"$f":"Be!A237","v":0}]
["153.",{"$f":"Be!A243","v":0},{"$f":"Be!B243","v":0},{"$f":"Be!C243","v":0},{"$f":"Be!D243","v":0},{"$f":"Be!E243","v":0},{"$f":"Be!F243","v":0},{"$f":"Be!G243","v":0},{"$f":"Be!H243","v":0},{"$f":"Be!I243","v":0},{"$f":"Be!J243","v":0},{"$f":"Be!K243","v":"00:00:00"},{"$f":"Be!L243","v":0},{"$f":"Be!M243","v":0},null,{"$f":"Be!A237","v":0}]
["154.",{"$f":"Be!A244","v":0},{"$f":"Be!B244","v":0},{"$f":"Be!C244","v":0},{"$f":"Be!D244","v":0},{"$f":"Be!E244","v":0},{"$f":"Be!F244","v":0},{"$f":"Be!G244","v":0},{"$f":"Be!H244","v":0},{"$f":"Be!I244","v":0},{"$f":"Be!J244","v":0},{"$f":"Be!K244","v":"00:00:00"},{"$f":"Be!L244","v":0},{"$f":"Be!M244","v":0},null,{"$f":"Be!A237","v":0}]

{"sheet":"Csapat","index":3,"n_rows":24,"n_cols":3,"rows_kept":24,"cut":false,"hidden":false,"merged":[[0,0,0,2]]}
["IV. korcsoport LEÁNY CSAPAT verseny (Sorrendezés Ctrl + z )"]
["Ssz","Iskola","Pont"]
["1.",{"$f":"Be!$A$57&CHAR(10)&Be!$A$59&\"   \"&Be!$M$59&\"      \"&Be!$A$60&\"   \"&Be!$M$60&CHAR(10)&Be!$A$61&\"   \"&Be!$M$61&\"      \"&Be!$A$62&\"   \"&Be!$M$62&CHAR(10)&Be!$A$63&\"   \"&Be!$M$63&\"      \"&Be!$A$64&\"   \"&Be!$M$64","v":"Dunaharaszti Körösi Csoma Sándor. Ált. Isk\nFehér Fanni    586      Gabona Nikol   719\nHorváth Amira   498      Králik Borbála   725\nOrdódy Norina   600      Sárosi Bianka   467"},{"$f":"Be!$O$59","v":3128}]
["2.",{"$f":"Be!$A$37&CHAR(10)&Be!$A$39&\"   \"&Be!$M$39&\"      \"&Be!$A$40&\"   \"&Be!$M$40&CHAR(10)&Be!$A$41&\"   \"&Be!$M$41&\"      \"&Be!$A$42&\"   \"&Be!$M$42&CHAR(10)&Be!$A$43&\"   \"&Be!$M$43&\"      \"&Be!$A$44&\"   \"&Be!$M$44","v":"Ráckevei Ady Endre Gimnázium\nRupa Sára   430      Rácz Emese   459\nCsömöri Boglárka   561      Gólya Boglárka   524\nSokácz Nóra   623      Novák Orsolya   811"},{"$f":"Be!$O$39","v":2978}]
["3.",{"$f":"Be!$A$47&CHAR(10)&Be!$A$49&\"   \"&Be!$M$49&\"      \"&Be!$A$50&\"   \"&Be!$M$50&CHAR(10)&Be!$A$51&\"   \"&Be!$M$51&\"      \"&Be!$A$52&\"   \"&Be!$M$52&CHAR(10)&Be!$A$53&\"   \"&Be!$M$53&\"      \"&Be!$A$54&\"   \"&Be!$M$54","v":"Tököli Weöres Sándor Ált.Iskola\nBednanics Dóra   565      Csoma Liliána   619\nDeidda Elisa   437      Hirth Szonja   536\nKassai Adrienn Zora   481      Strucz Laura   684"},{"$f":"Be!$O$49","v":2885}]
["4.",{"$f":"Be!$A$67&CHAR(10)&Be!$A$69&\"   \"&Be!$M$69&\"      \"&Be!$A$70&\"   \"&Be!$M$70&CHAR(10)&Be!$A$71&\"   \"&Be!$M$71&\"      \"&Be!$A$72&\"   \"&Be!$M$72&CHAR(10)&Be!$A$73&\"   \"&Be!$M$73&\"      \"&Be!$A$74&\"   \"&Be!$M$74","v":"Kiskunlacházi Ált.Isk\nKovács Daniella   627      Erős Boglárka   593\nLacza Lilla   512      Varga Szonja   518\nMarossy Kiara   453      Marossy Rebeka   508"},{"$f":"Be!$O$69","v":2758}]
["5.",{"$f":"Be!$A$27&CHAR(10)&Be!$A$29&\"   \"&Be!$M$29&\"      \"&Be!$A$30&\"   \"&Be!$M$30&CHAR(10)&Be!$A$31&\"   \"&Be!$M$31&\"      \"&Be!$A$32&\"   \"&Be!$M$32&CHAR(10)&Be!$A$33&\"   \"&Be!$M$33&\"      \"&Be!$A$34&\"   \"&Be!$M$34","v":"Ráckeve Szent Imre Katolikus Ált. Isk.\nGalambos Eszter   658      Badits Vanda   508\nSamu Szellő   554      Novák Alexandra    517\nSzebellédi Veronika   516         0"},{"$f":"Be!$O$29","v":2753}]
["6.",{"$f":"Be!$A$77&CHAR(10)&Be!$A$79&\"   \"&Be!$M$79&\"      \"&Be!$A$80&\"   \"&Be!$M$80&CHAR(10)&Be!$A$81&\"   \"&Be!$M$81&\"      \"&Be!$A$82&\"   \"&Be!$M$82&CHAR(10)&Be!$A$83&\"   \"&Be!$M$83&\"      \"&Be!$A$84&\"   \"&Be!$M$84","v":"Szigetszentmárton\nForró Eszter   278      Kaszab Lili   337\nMolnár Kincső   544      Réti Blanka   467\nTátrai Zita   542      Váradi Szabina   524"},{"$f":"Be!$O$79","v":2414}]
["7.",{"$f":"Be!$A$87&CHAR(10)&Be!$A$89&\"   \"&Be!$M$89&\"      \"&Be!$A$90&\"   \"&Be!$M$90&CHAR(10)&Be!$A$91&\"   \"&Be!$M$91&\"      \"&Be!$A$92&\"   \"&Be!$M$92&CHAR(10)&Be!$A$93&\"   \"&Be!$M$93&\"      \"&Be!$A$94&\"   \"&Be!$M$94","v":"Áporka Ált. Isk\nKelemen Kata Boglárka   371      Kiss Mollii   396\nHihály Bianka   456         0\n   0         0"},{"$f":"Be!$O$89","v":1223}]
["8.",{"$f":"Be!$A$97&CHAR(10)&Be!$A$99&\"   \"&Be!$M$99&\"      \"&Be!$A$100&\"   \"&Be!$M$100&CHAR(10)&Be!$A$101&\"   \"&Be!$M$101&\"      \"&Be!$A$102&\"   \"&Be!$M$102&CHAR(10)&Be!$A$103&\"   \"&Be!$M$103&\"      \"&Be!$A$104&\"   \"&Be!$M$104","v":"\n   0         0\n   0         0\n   0         0"},{"$f":"Be!$O$99","v":0}]
["9.",{"$f":"Be!$A$107&CHAR(10)&Be!$A$109&\"   \"&Be!$M$109&\"      \"&Be!$A$110&\"   \"&Be!$M$110&CHAR(10)&Be!$A$111&\"   \"&Be!$M$111&\"      \"&Be!$A$112&\"   \"&Be!$M$112&CHAR(10)&Be!$A$113&\"   \"&Be!$M$113&\"      \"&Be!$A$114&\"   \"&Be!$M$114","v":"\n   0         0\n   0         0\n   0         0"},{"$f":"Be!$O$109","v":0}]
["10.",{"$f":"Be!$A$117&CHAR(10)&Be!$A$119&\"   \"&Be!$M$119&\"      \"&Be!$A$120&\"   \"&Be!$M$120&CHAR(10)&Be!$A$121&\"   \"&Be!$M$121&\"      \"&Be!$A$122&\"   \"&Be!$M$122&CHAR(10)&Be!$A$123&\"   \"&Be!$M$123&\"      \"&Be!$A$124&\"   \"&Be!$M$124","v":"\n   0         0\n   0         0\n   0         0"},{"$f":"Be!$O$119","v":0}]
["11.",{"$f":"Be!$A$127&CHAR(10)&Be!$A$129&\"   \"&Be!$M$129&\"      \"&Be!$A$130&\"   \"&Be!$M$130&CHAR(10)&Be!$A$131&\"   \"&Be!$M$131&\"      \"&Be!$A$132&\"   \"&Be!$M$132&CHAR(10)&Be!$A$133&\"   \"&Be!$M$133&\"      \"&Be!$A$134&\"   \"&Be!$M$134","v":"\n   0         0\n   0         0\n   0         0"},{"$f":"Be!$O$129","v":0}]
["12.",{"$f":"Be!$A$137&CHAR(10)&Be!$A$139&\"   \"&Be!$M$139&\"      \"&Be!$A$140&\"   \"&Be!$M$140&CHAR(10)&Be!$A$141&\"   \"&Be!$M$141&\"      \"&Be!$A$142&\"   \"&Be!$M$142&CHAR(10)&Be!$A$143&\"   \"&Be!$M$143&\"      \"&Be!$A$144&\"   \"&Be!$M$144","v":"\n   0         0\n   0         0\n   0         0"},{"$f":"Be!$O$139","v":0}]
["13.",{"$f":"Be!$A$147&CHAR(10)&Be!$A$149&\"   \"&Be!$M$149&\"      \"&Be!$A$150&\"   \"&Be!$M$150&CHAR(10)&Be!$A$151&\"   \"&Be!$M$151&\"      \"&Be!$A$152&\"   \"&Be!$M$152&CHAR(10)&Be!$A$153&\"   \"&Be!$M$153&\"      \"&Be!$A$154&\"   \"&Be!$M$154","v":"\n   0         0\n   0         0\n   0         0"},{"$f":"Be!$O$149","v":0}]
["14.",{"$f":"Be!$A$157&CHAR(10)&Be!$A$159&\"   \"&Be!$M$159&\"      \"&Be!$A$160&\"   \"&Be!$M$160&CHAR(10)&Be!$A$161&\"   \"&Be!$M$161&\"      \"&Be!$A$162&\"   \"&Be!$M$162&CHAR(10)&Be!$A$163&\"   \"&Be!$M$163&\"      \"&Be!$A$164&\"   \"&Be!$M$164","v":"\n   0         0\n   0         0\n   0         0"},{"$f":"Be!$O$159","v":0}]
["15.",{"$f":"Be!$A$167&CHAR(10)&Be!$A$169&\"   \"&Be!$M$169&\"      \"&Be!$A$170&\"   \"&Be!$M$170&CHAR(10)&Be!$A$171&\"   \"&Be!$M$171&\"      \"&Be!$A$172&\"   \"&Be!$M$172&CHAR(10)&Be!$A$173&\"   \"&Be!$M$173&\"      \"&Be!$A$174&\"   \"&Be!$M$174","v":"\n   0         0\n   0         0\n   0         0"},{"$f":"Be!$O$169","v":0}]
["16.",{"$f":"Be!$A$177&CHAR(10)&Be!$A$179&\"   \"&Be!$M$179&\"      \"&Be!$A$180&\"   \"&Be!$M$180&CHAR(10)&Be!$A$181&\"   \"&Be!$M$181&\"      \"&Be!$A$182&\"   \"&Be!$M$182&CHAR(10)&Be!$A$183&\"   \"&Be!$M$183&\"      \"&Be!$A$184&\"   \"&Be!$M$184","v":"\n   0         0\n   0         0\n   0         0"},{"$f":"Be!$O$179","v":0}]
["17.",{"$f":"Be!$A$187&CHAR(10)&Be!$A$189&\"   \"&Be!$M$189&\"      \"&Be!$A$190&\"   \"&Be!$M$190&CHAR(10)&Be!$A$191&\"   \"&Be!$M$191&\"      \"&Be!$A$192&\"   \"&Be!$M$192&CHAR(10)&Be!$A$193&\"   \"&Be!$M$193&\"      \"&Be!$A$194&\"   \"&Be!$M$194","v":"\n   0         0\n   0         0\n   0         0"},{"$f":"Be!$O$189","v":0}]
["18.",{"$f":"Be!$A$197&CHAR(10)&Be!$A$199&\"   \"&Be!$M$199&\"      \"&Be!$A$200&\"   \"&Be!$M$200&CHAR(10)&Be!$A$201&\"   \"&Be!$M$201&\"      \"&Be!$A$202&\"   \"&Be!$M$202&CHAR(10)&Be!$A$203&\"   \"&Be!$M$203&\"      \"&Be!$A$204&\"   \"&Be!$M$204","v":"\n   0         0\n   0         0\n   0         0"},{"$f":"Be!$O$199","v":0}]
["19.",{"$f":"Be!$A$207&CHAR(10)&Be!$A$209&\"   \"&Be!$M$209&\"      \"&Be!$A$210&\"   \"&Be!$M$210&CHAR(10)&Be!$A$211&\"   \"&Be!$M$211&\"      \"&Be!$A$212&\"   \"&Be!$M$212&CHAR(10)&Be!$A$213&\"   \"&Be!$M$213&\"      \"&Be!$A$214&\"   \"&Be!$M$214","v":"\n   0         0\n   0         0\n   0         0"},{"$f":"Be!$O$209","v":0}]
["20.",{"$f":"Be!$A$217&CHAR(10)&Be!$A$219&\"   \"&Be!$M$219&\"      \"&Be!$A$220&\"   \"&Be!$M$220&CHAR(10)&Be!$A$221&\"   \"&Be!$M$221&\"      \"&Be!$A$222&\"   \"&Be!$M$222&CHAR(10)&Be!$A$223&\"   \"&Be!$M$223&\"      \"&Be!$A$224&\"   \"&Be!$M$224","v":"\n   0         0\n   0         0\n   0         0"},{"$f":"Be!$O$219","v":0}]
["21.",{"$f":"Be!$A$227&CHAR(10)&Be!$A$229&\"   \"&Be!$M$229&\"      \"&Be!$A$230&\"   \"&Be!$M$230&CHAR(10)&Be!$A$231&\"   \"&Be!$M$231&\"      \"&Be!$A$232&\"   \"&Be!$M$232&CHAR(10)&Be!$A$233&\"   \"&Be!$M$233&\"      \"&Be!$A$234&\"   \"&Be!$M$234","v":"\n   0         0\n   0         0\n   0         0"},{"$f":"Be!$O$229","v":0}]
["22.",{"$f":"Be!$A$237&CHAR(10)&Be!$A$239&\"   \"&Be!$M$239&\"      \"&Be!$A$240&\"   \"&Be!$M$240&CHAR(10)&Be!$A$241&\"   \"&Be!$M$241&\"      \"&Be!$A$242&\"   \"&Be!$M$242&CHAR(10)&Be!$A$243&\"   \"&Be!$M$243&\"      \"&Be!$A$244&\"   \"&Be!$M$244","v":"\n   0         0\n   0         0\n   0         0"},{"$f":"Be!$O$239","v":0}]